BEGIN:VCALENDAR
VERSION:2.0
PRODID:-//CSKIK - ECPv6.15.20//NONSGML v1.0//EN
CALSCALE:GREGORIAN
METHOD:PUBLISH
X-WR-CALNAME:CSKIK
X-ORIGINAL-URL:https://cskik.hu
X-WR-CALDESC:Események CSKIK
REFRESH-INTERVAL;VALUE=DURATION:PT1H
X-Robots-Tag:noindex
X-PUBLISHED-TTL:PT1H
BEGIN:VTIMEZONE
TZID:Europe/Budapest
BEGIN:DAYLIGHT
TZOFFSETFROM:+0100
TZOFFSETTO:+0200
TZNAME:CEST
DTSTART:20240331T010000
END:DAYLIGHT
BEGIN:STANDARD
TZOFFSETFROM:+0200
TZOFFSETTO:+0100
TZNAME:CET
DTSTART:20241027T010000
END:STANDARD
BEGIN:DAYLIGHT
TZOFFSETFROM:+0100
TZOFFSETTO:+0200
TZNAME:CEST
DTSTART:20250330T010000
END:DAYLIGHT
BEGIN:STANDARD
TZOFFSETFROM:+0200
TZOFFSETTO:+0100
TZNAME:CET
DTSTART:20251026T010000
END:STANDARD
BEGIN:DAYLIGHT
TZOFFSETFROM:+0100
TZOFFSETTO:+0200
TZNAME:CEST
DTSTART:20260329T010000
END:DAYLIGHT
BEGIN:STANDARD
TZOFFSETFROM:+0200
TZOFFSETTO:+0100
TZNAME:CET
DTSTART:20261025T010000
END:STANDARD
END:VTIMEZONE
BEGIN:VEVENT
DTSTART;TZID=Europe/Budapest:20251008T000000
DTEND;TZID=Europe/Budapest:20251008T000000
DTSTAMP:20260424T174511
CREATED:20251219T111812Z
LAST-MODIFIED:20260119T073828Z
UID:35515-1759881600-1759881600@cskik.hu
SUMMARY:5. Üzletasszony-találkozó
DESCRIPTION:A Csongrád-Csanádi Kereskedelmi és Iparkamarában működő Női Vezetői Klub szervezésében ötödik alkalommal kerül megrendezésre az Üzletasszony-találkozó\, amelyre szeretettel várjuk a megye női vállalkozóit és cégvezetőit. \nA nyitott klubesemény célja\, hogy lehetőséget biztosítson a szakmai kapcsolatok építésére\, a közös gondolkodásra és a térség női vezetőinek együttműködésére. \nA rendezvény első részében egy szakmai előadás segíti az inspirációt és a fejlődést\, ezt követően pedig lehetőséget biztosítunk arra\, hogy a résztvevők bemutassák vállalkozásuk tevékenységét\, tapasztalatot cseréljenek\, és új üzleti kapcsolatokat alakítsanak ki. \nIdőpont: 2025. október 8. 14-16 óra\nHelyszín: Novotel Szeged (6721 Szeged\, Maros u. 1.) \nProgramtervezet: \n\n„Én-idő\, mi-idő\, munkaidő – mi fér bele egy nő életébe?”\n\nVállalkozás\, család\, párkapcsolat\, önmagad… mindenre jut idő – vagy mégsem? \nHogyan lehet nőként jelen lenni minden szerepünkben anélkül\, hogy elfogyna belőlünk az energia? \nDr. Imreh-Tóth Mónika – közgazdász\, digitális marketing szakértő és kétgyermekes édesanya – személyes példákon\, kutatási eredményeken és jó adag önirónián keresztül mesél arról\, hogyan próbál lavírozni a feladatok és a feltöltődés között. \n\nhasznos tippek és szakirodalmi háttér\,\nőszinte történetek – amik akár rólad is szólhatnának\,\n\nés egy támogató közösség\, ahol nem kell tökéletesnek lenni. \nEl?adó: Dr. Imreh-Tóth Mónika\, Innoversity Kft. alapító-tulajdonos\, közgazdász\, digitális marketing szakértő\, aki több mint egy évtizeden át oktatott az SZTE GTK-n adjunktusként. A Vállalkozásfejlesztés mesterszak képzésfelelőseként és a Női vállalkozók című kurzus elindítójaként elkötelezetten támogatta a vállalkozónők szakmai fejlődését. Jelenleg\, a vállalkozása mellett a METU és a győri Széchenyi Egyetem munkáját segíti. \n  \n  \n  \n  \n\nA rendezvény folytatásában üzleti tárgyalásokra\, networking-re kerül sor.\n\nA 2015-ben alapított Női Vezetői Klub célja\, hogy támogassa a női vállalkozókat és cégvezet?ket szakmai fejlődésükben és személyes egyensúlyuk megőrzésében.\nHavonta megrendezett klubtalálkozói olyan inspiráló események\, ahol a résztvevők értékes tudást kapnak elismert előadóktól\, valamint egymástól is tanulhatnak egy támogató közösségben. \nA klub teret ad a kapcsolatépítésnek\, kreatív feltöltődésnek és jótékony célok közös megvalósításának is. Tagjai számára nemcsak üzleti\, hanem emberi szinten is értékes kapcsolódásokat kínál. \nA rendezvényen való részvétel díjmentes\, de regisztrációhoz kötött. \nTovábbi információ kérhető a noiklub@cskik.hu címen. \n  \n Az esemény a Magyar Kereskedelmi és Iparkamara támogatásával a 2024-2025. évi\, NGM_SZERZ/173/3/2024_CSKIK/1 számú Vállalkozásfejlesztési projektben valósul meg. \n  \nJelentkezni az alábbi űrlap kitöltésével lehet: \n 
URL:https://cskik.hu/esemeny/5-uzletasszony-talalkozo/
END:VEVENT
END:VCALENDAR