BEGIN:VCALENDAR
VERSION:2.0
PRODID:-//CSKIK - ECPv6.15.20//NONSGML v1.0//EN
CALSCALE:GREGORIAN
METHOD:PUBLISH
X-WR-CALNAME:CSKIK
X-ORIGINAL-URL:https://cskik.hu
X-WR-CALDESC:Események CSKIK
REFRESH-INTERVAL;VALUE=DURATION:PT1H
X-Robots-Tag:noindex
X-PUBLISHED-TTL:PT1H
BEGIN:VTIMEZONE
TZID:Europe/Budapest
BEGIN:DAYLIGHT
TZOFFSETFROM:+0100
TZOFFSETTO:+0200
TZNAME:CEST
DTSTART:20240331T010000
END:DAYLIGHT
BEGIN:STANDARD
TZOFFSETFROM:+0200
TZOFFSETTO:+0100
TZNAME:CET
DTSTART:20241027T010000
END:STANDARD
BEGIN:DAYLIGHT
TZOFFSETFROM:+0100
TZOFFSETTO:+0200
TZNAME:CEST
DTSTART:20250330T010000
END:DAYLIGHT
BEGIN:STANDARD
TZOFFSETFROM:+0200
TZOFFSETTO:+0100
TZNAME:CET
DTSTART:20251026T010000
END:STANDARD
BEGIN:DAYLIGHT
TZOFFSETFROM:+0100
TZOFFSETTO:+0200
TZNAME:CEST
DTSTART:20260329T010000
END:DAYLIGHT
BEGIN:STANDARD
TZOFFSETFROM:+0200
TZOFFSETTO:+0100
TZNAME:CET
DTSTART:20261025T010000
END:STANDARD
END:VTIMEZONE
BEGIN:VEVENT
DTSTART;TZID=Europe/Budapest:20250404T000000
DTEND;TZID=Europe/Budapest:20250404T000000
DTSTAMP:20260421T183504
CREATED:20251219T110536Z
LAST-MODIFIED:20251219T110536Z
UID:35230-1743724800-1743724800@cskik.hu
SUMMARY:Automotive CEE Day 2025
DESCRIPTION:Az Automotive CEE Day Közép- és Kelet-Európa egyik legjelent?sebb B2B találkozója. Az eseményt 2014 óta az AutomotiveSuppliers.pl szervezi. \nCsatlakozzon hozzánk a 10. jubileumi Automotive CEE Day rendezvényre\, amely a legnagyobb beszerzési találkozó az autóipar számára Közép- és Kelet-Európában! Ez az egyedülálló esemény egy helyen hozza össze az autóipar meghatározó szerepl?it\, hogy új együttm?ködési lehet?ségeket teremtsenek és formálják az iparág jöv?jét. \nAz Automotive CEE Day az alábbi lehet?ségeket kínálja: \n\nHatékony B2B találkozók: Egy interaktív matchmaking platform segítségével el?re egyeztethet találkozókat partnerekkel\, akik megfelelnek az Ön üzleti igényeinek;\nRangos kiállítás: Mutassa be termékeit és szolgáltatásait az iparág vezet?i mellett\, több mint 80 stand egyikén;\nÜzleti kapcsolatok építése: Találkozzon járm?gyártók\, TIER 1 beszállítók és innovatív technológiai fejleszt?k képvisel?ivel;\nNemzetközi kapcsolatépítés: Cseréljen tapasztalatokat és szerezzen inspirációt Közép- és Kelet-Európa szakért?it?l;\nTudás és innováció: Ismerje meg a legjobb szakemberek meglátásait\, hogy vállalkozását és technológiáját tovább fejleszthesse.\n\nKiknek szól a rendezvény? \n\nAz esemény az autóipari szektor vállalatainak\, valamint azoknak a cégeknek szól\, amelyek szeretnének csatlakozni az ellátási lánchoz.\nKülönösen várjuk:\n\nJárm?-\, alkatrész- és komponensgyártókat\nAkkumulátor-\, energia- és energiatárolási technológiákkal foglalkozó vállalatokat\nIT-\, automatizálási\, robotikai és K+F szakembereket\nGyártást\, min?ségellen?rzést és munkaer?-menedzsmentet támogató megoldások szolgáltatóit\n\n\nRészvételi el?nyök\n\nÜzleti kapcsolatok b?vítése: Ismerjen meg új üzleti és technológiai partnereket.\nBemutatkozási lehet?ség: Mutassa be termékeit\, technológiáit és szaktudását az iparág vezet?inek.\nTapasztalatcsere: Inspirálódjon szakért?i véleményekb?l és tanuljon bevált gyakorlatokból.\nNemzetközi terjeszkedés: Kezdjen globális együttm?ködéseket és kapcsolatokat.\nIparági integráció: Építsen tartós üzleti kapcsolatokat a régió legjelent?sebb autóipari eseményén.\n\n\n\nHogyan m?ködik? \n\nRegisztráljon és hozza létre vállalati profilját – mutassa be kínálatát és üzleti érdekl?dését.\nVálassza ki üzleti partnereit – a matchmaking platform segítségével döntse el\, kikkel szeretne találkozni.\nKezelje id?beosztását – el?zetesen elkészített találkozói programot kap.\nUtazzon el Opoléba – két napon át el?re egyeztetett üzleti megbeszéléseken és helyszíni networking lehet?ségeken vehet részt.\n\nRegisztráljon most\, és csatlakozzon az autóipar fontos résztvev?ihez:10th Automotive CEE Day | Registration\, valamint keressenek fel minket az een@cskik.hu e-mail címen \n 
URL:https://cskik.hu/esemeny/automotive-cee-day-2025/
END:VEVENT
END:VCALENDAR