BEGIN:VCALENDAR
VERSION:2.0
PRODID:-//CSKIK - ECPv6.15.20//NONSGML v1.0//EN
CALSCALE:GREGORIAN
METHOD:PUBLISH
X-WR-CALNAME:CSKIK
X-ORIGINAL-URL:https://cskik.hu
X-WR-CALDESC:Események CSKIK
REFRESH-INTERVAL;VALUE=DURATION:PT1H
X-Robots-Tag:noindex
X-PUBLISHED-TTL:PT1H
BEGIN:VTIMEZONE
TZID:Europe/Budapest
BEGIN:DAYLIGHT
TZOFFSETFROM:+0100
TZOFFSETTO:+0200
TZNAME:CEST
DTSTART:20230326T010000
END:DAYLIGHT
BEGIN:STANDARD
TZOFFSETFROM:+0200
TZOFFSETTO:+0100
TZNAME:CET
DTSTART:20231029T010000
END:STANDARD
BEGIN:DAYLIGHT
TZOFFSETFROM:+0100
TZOFFSETTO:+0200
TZNAME:CEST
DTSTART:20240331T010000
END:DAYLIGHT
BEGIN:STANDARD
TZOFFSETFROM:+0200
TZOFFSETTO:+0100
TZNAME:CET
DTSTART:20241027T010000
END:STANDARD
BEGIN:DAYLIGHT
TZOFFSETFROM:+0100
TZOFFSETTO:+0200
TZNAME:CEST
DTSTART:20250330T010000
END:DAYLIGHT
BEGIN:STANDARD
TZOFFSETFROM:+0200
TZOFFSETTO:+0100
TZNAME:CET
DTSTART:20251026T010000
END:STANDARD
END:VTIMEZONE
BEGIN:VEVENT
DTSTART;TZID=Europe/Budapest:20240618T000000
DTEND;TZID=Europe/Budapest:20240618T000000
DTSTAMP:20260425T235331
CREATED:20251209T145239Z
LAST-MODIFIED:20251209T145239Z
UID:29101-1718668800-1718668800@cskik.hu
SUMMARY:Az elektronikus számlázás és az áfadigitalizáció kihívásai - Szentes - VFP
DESCRIPTION:Június 18-án Kamaránk Szentesen tart tájékoztató el?adást a elektronikus számlázás és az áfadigitalizáció kihívásairól\, ahol Czöndör Szabolcs\, a Pwc szakért?je nyújt áttekintést az elektronikus számlázás az áfadigitalizáció jelenlegi gyakorlatáról és jöv?jér?l. \nId?pont: 2024. 06.18. 10:00 – 14:30Regisztráció: 9:30-tólHelyszín: Szentesi M?vel?dési Központ\, 6600 Szentes\, Tóth József u. 10-14. \nEl?adó: Czöndör Szabolcs\, a PwC Magyarország szakért?je \nAz el?adás tematikája: \n\nÁfadigitalizáció irányai\, módszerei\nBizonylatok digitalizációjának útja\, elektronikus számlázás er?södésének okai\nElektronikus számla jelenlegi gyakorlata\, kihívásai\nElektronikus számlázás jöv?je\nSzámla és adatszolgáltatás kapcsolata\nSzámla\, áfaanalitika és áfabevallás kapcsolata\nKonzultáció\n\nAz eseményt a Vállalkozásfejlesztési projekt (VF/44/5/2023) finanszírozásával valósítjuk meg. \nAz eseményen való részvétel díjmentes\, azonban el?zetes regisztrációhoz kötött. Részvételi szándékát kérjük jelezze az alábbi jelentkezési ?rlap kitöltésével:
URL:https://cskik.hu/esemeny/az-elektronikus-szamlazas-es-az-afadigitalizacio-kihivasai-szentes-vfp/
END:VEVENT
END:VCALENDAR