BEGIN:VCALENDAR
VERSION:2.0
PRODID:-//CSKIK - ECPv6.15.20//NONSGML v1.0//EN
CALSCALE:GREGORIAN
METHOD:PUBLISH
X-WR-CALNAME:CSKIK
X-ORIGINAL-URL:https://cskik.hu
X-WR-CALDESC:Események CSKIK
REFRESH-INTERVAL;VALUE=DURATION:PT1H
X-Robots-Tag:noindex
X-PUBLISHED-TTL:PT1H
BEGIN:VTIMEZONE
TZID:Europe/Budapest
BEGIN:DAYLIGHT
TZOFFSETFROM:+0100
TZOFFSETTO:+0200
TZNAME:CEST
DTSTART:20240331T010000
END:DAYLIGHT
BEGIN:STANDARD
TZOFFSETFROM:+0200
TZOFFSETTO:+0100
TZNAME:CET
DTSTART:20241027T010000
END:STANDARD
BEGIN:DAYLIGHT
TZOFFSETFROM:+0100
TZOFFSETTO:+0200
TZNAME:CEST
DTSTART:20250330T010000
END:DAYLIGHT
BEGIN:STANDARD
TZOFFSETFROM:+0200
TZOFFSETTO:+0100
TZNAME:CET
DTSTART:20251026T010000
END:STANDARD
BEGIN:DAYLIGHT
TZOFFSETFROM:+0100
TZOFFSETTO:+0200
TZNAME:CEST
DTSTART:20260329T010000
END:DAYLIGHT
BEGIN:STANDARD
TZOFFSETFROM:+0200
TZOFFSETTO:+0100
TZNAME:CET
DTSTART:20261025T010000
END:STANDARD
END:VTIMEZONE
BEGIN:VEVENT
DTSTART;TZID=Europe/Budapest:20251114T000000
DTEND;TZID=Europe/Budapest:20251115T000000
DTSTAMP:20260421T014956
CREATED:20251219T111402Z
LAST-MODIFIED:20251219T111402Z
UID:35371-1763078400-1763164800@cskik.hu
SUMMARY:B2B FOOD&DRINKS EXPO 2025 - Thessaloniki
DESCRIPTION: \n\n\n\n\n\n\n\nA Görög Ipari Szövetség (SVE)\, az Enterprise Europe Network – Hellas tagja\, együttm?ködve a TIF HELEXPO S.A.-val\, idén második alkalommal rendezi meg a B2B FOOD & DRINKS EXPO 2025 eseményt a FOOD & DRINKS by Detrop és PHILOXENIA – HOTELIA szektorális kiállítások keretében. Az esemény helyszíne a thesszaloniki Nemzetközi Kiállítási Központ lesz. \n\n\n\n\n\n\nEz a kiállítás az 50 éves múltra visszatekint? Detrop & Oenos rendezvények modern utódja\, és Görögország egyetlen UFI-tanúsítvánnyal rendelkez? nemzetközi élelmiszer–és italipari eseménye. A rendezvény új\, integrált szakmai platformként m?ködik\, ötvözve a vendéglátás (hospitality) és a gasztronómia kínálta lehet?ségeket\, ezáltal er?sítve a turizmus min?ségi fejlesztését.  \nMit kínál a rendezvény?\n\n\nÜzleti profil bemutatása nemzetközi szakmai döntéshozók el?tt a b2match platform segítségével.  \n\n\nEl?re egyeztetett B2B találkozók (20 perc)\, amelyek hatékony módot nyújtanak új üzleti kapcsolatok kialakítására.  \n\n\nKapcsolati háló b?vítése\, új piacok elérése\, valamint a piaci láthatóság er?sítése egy szakmai fókuszú\, nemzetközi környezetben.  \n\n\nKik vehetnek részt?\n\n\nHosted Buyers: import?rök\, disztribútorok\, élelmiszer- és ital nagykeresked?k\, szupermarketláncok\, szállodai/vendéglátó beszerz?k\, e?kereskedelmi platformok\, specialty boltok képvisel?i. \n\n\nTrade Visitors és kiállítók \n\n\nA Görög Ipari Szövetség tagjai  \n\n\nRészvételi részletek\n\n\nB2B program: ingyenes szakmai résztvev?k számára \n\n\nNagyközönségi látogatás: 5?€ belép?díjjal lehetséges\, regisztráció szükséges  \n\n\nMegközelítés: a Pavilon 8 a TIF?HELEXPO kiállítási területen található\, címe: Egnatia 154\, 54636 Thessaloniki\, Görögország \n\n\nRegisztációs folyamat:\n\n\nRegisztráció a platformon. \n\n\nÜzleti profil létrehozása\, amely hatékonyabb megjelenést biztosít. \n\n\nRésztvev?k böngészése\, érdekes profilok azonosítása. \n\n\nTalálkozók kezdeményezése\, elfogadása és menedzselése. \n\n\n\n  \nKérdés esetén forduljanak hozzánk bizalommal az eenszeged@cskik.hu email címen.
URL:https://cskik.hu/esemeny/b2b-fooddrinks-expo-2025-thessaloniki/
END:VEVENT
END:VCALENDAR