BEGIN:VCALENDAR
VERSION:2.0
PRODID:-//CSKIK - ECPv6.15.20//NONSGML v1.0//EN
CALSCALE:GREGORIAN
METHOD:PUBLISH
X-WR-CALNAME:CSKIK
X-ORIGINAL-URL:https://cskik.hu
X-WR-CALDESC:Események CSKIK
REFRESH-INTERVAL;VALUE=DURATION:PT1H
X-Robots-Tag:noindex
X-PUBLISHED-TTL:PT1H
BEGIN:VTIMEZONE
TZID:Europe/Budapest
BEGIN:DAYLIGHT
TZOFFSETFROM:+0100
TZOFFSETTO:+0200
TZNAME:CEST
DTSTART:20240331T010000
END:DAYLIGHT
BEGIN:STANDARD
TZOFFSETFROM:+0200
TZOFFSETTO:+0100
TZNAME:CET
DTSTART:20241027T010000
END:STANDARD
BEGIN:DAYLIGHT
TZOFFSETFROM:+0100
TZOFFSETTO:+0200
TZNAME:CEST
DTSTART:20250330T010000
END:DAYLIGHT
BEGIN:STANDARD
TZOFFSETFROM:+0200
TZOFFSETTO:+0100
TZNAME:CET
DTSTART:20251026T010000
END:STANDARD
BEGIN:DAYLIGHT
TZOFFSETFROM:+0100
TZOFFSETTO:+0200
TZNAME:CEST
DTSTART:20260329T010000
END:DAYLIGHT
BEGIN:STANDARD
TZOFFSETFROM:+0200
TZOFFSETTO:+0100
TZNAME:CET
DTSTART:20261025T010000
END:STANDARD
END:VTIMEZONE
BEGIN:VEVENT
DTSTART;TZID=Europe/Budapest:20251209T000000
DTEND;TZID=Europe/Budapest:20251211T000000
DTSTAMP:20260420T165646
CREATED:20251210T123807Z
LAST-MODIFIED:20251216T095600Z
UID:31267-1765238400-1765411200@cskik.hu
SUMMARY:Black Sea MultiSector Virtuális B2B
DESCRIPTION:Időpont: 2025. december 9–11.Formátum: OnlineRészvételi díj: Ingyenes \nA Trabzoni Kereskedelmi és Iparkamara (Törökország) az Enterprise Europe Network nemzetközi üzleti hálózatával együttmőködésben rendezi meg a Black Sea MultiSector Virtuális B2B Eseményt\, amely kiváló lehetőséget kínál vállalkozások\, kutatóintézetek és üzleti támogató szervezetek számára\, hogy új nemzetközi partnereket találjanak és üzleti kapcsolatokat építsenek ki. \nAz esemény célja\, hogy a Fekete-tenger térségének\, valamint más európai és nemzetközi piacok szereplői számára fórumot biztosítson az együttm?ködésre\, technológiai partnerségek kialakítására és új piacok feltérképezésére. A virtuális formátum lehetővé teszi\, hogy a résztvevők bárhonnan\, kényelmesen és költséghatékonyan vehessenek részt a kétoldalú üzleti megbeszéléseken. \nA program számos iparágat ölel fel\, többek között az élelmiszer- és italipart\, a mezőgazdaságot\, a gép- és fémipart\, a csomagoló- és vegyipart\, az építőipart\, a bútorgyártást\, a textilipart\, a divat- és ékszeripart\, az energiát és környezetvédelmet\, az informatikát\, a turizmust\, valamint az egészség- és szépségipart. \nAz esemény különösen hasznos lehet azon kis- és középvállalkozások\, start-upok\, egyetemek\, kutatóintézetek és üzleti támogató szervezetek számára\, amelyek új nemzetközi partnereket keresnek termékfejlesztés\, gyártás\, disztribúció\, technológiai együttmőködés vagy kutatási projektek területén. \nA rendezvényen való részvétel remek alkalmat kínál arra\, hogy a résztvevők: \n\n\núj üzleti és kutatási partnereket ismerjenek meg\, \n\n\nközös fejlesztési és beruházási lehetőségeket tárjanak fel\, \n\n\nnöveljék nemzetközi láthatóságukat\, \n\n\nés kapcsolatokat építsenek több szektorban egyaránt. \n\n\nA részvétel díjmentes\, de előzetes regisztráció szükséges az esemény hivatalos platformján:https://www.b2match.com/e/black-sea-multisector-b2b-event \nTovábbi információkért és technikai segítségért keressenek minket az eenszeged@cskik.hu e-mail címen.
URL:https://cskik.hu/esemeny/black-sea-multisector-virtualis-b2b/
CATEGORIES:EEN
ATTACH;FMTTYPE=image/png:https://cskik.hu/wp-content/uploads/2025/12/Gq3QSyeaCgvHJnFGASAMLvhk.png
END:VEVENT
END:VCALENDAR