BEGIN:VCALENDAR
VERSION:2.0
PRODID:-//CSKIK - ECPv6.15.20//NONSGML v1.0//EN
CALSCALE:GREGORIAN
METHOD:PUBLISH
X-WR-CALNAME:CSKIK
X-ORIGINAL-URL:https://cskik.hu
X-WR-CALDESC:Események CSKIK
REFRESH-INTERVAL;VALUE=DURATION:PT1H
X-Robots-Tag:noindex
X-PUBLISHED-TTL:PT1H
BEGIN:VTIMEZONE
TZID:Europe/Budapest
BEGIN:DAYLIGHT
TZOFFSETFROM:+0100
TZOFFSETTO:+0200
TZNAME:CEST
DTSTART:20230326T010000
END:DAYLIGHT
BEGIN:STANDARD
TZOFFSETFROM:+0200
TZOFFSETTO:+0100
TZNAME:CET
DTSTART:20231029T010000
END:STANDARD
BEGIN:DAYLIGHT
TZOFFSETFROM:+0100
TZOFFSETTO:+0200
TZNAME:CEST
DTSTART:20240331T010000
END:DAYLIGHT
BEGIN:STANDARD
TZOFFSETFROM:+0200
TZOFFSETTO:+0100
TZNAME:CET
DTSTART:20241027T010000
END:STANDARD
BEGIN:DAYLIGHT
TZOFFSETFROM:+0100
TZOFFSETTO:+0200
TZNAME:CEST
DTSTART:20250330T010000
END:DAYLIGHT
BEGIN:STANDARD
TZOFFSETFROM:+0200
TZOFFSETTO:+0100
TZNAME:CET
DTSTART:20251026T010000
END:STANDARD
END:VTIMEZONE
BEGIN:VEVENT
DTSTART;TZID=Europe/Budapest:20240221T000000
DTEND;TZID=Europe/Budapest:20240221T000000
DTSTAMP:20260425T132428
CREATED:20251209T140928Z
LAST-MODIFIED:20251209T140928Z
UID:28855-1708473600-1708473600@cskik.hu
SUMMARY:Céglátogatás a Moltech AH Kft.-nél
DESCRIPTION:Folytatódik a kamaránk által életre hívott céglátogatás\, mely a Dél-alföldi technológiaváltók üzleti közösségének kezdeményezése\, és amelynek célja\, hogy betekintést nyerjenek a vállalkozások egymás életébe\, m?ködésébe\, továbbá jó gyakorlatokat adjanak át egymásnak és beszélgessenek hasonló problémáikról szakmai körben. \nKövetkez? alkalommal a röszkei MOLTECH AH Kft. lesz a házigazda. \nEsemény id?pontja: 2024. február 21. (szerda)\, 9.00-12:00Helyszín: 6758 Röszke\, II. ker. 107 – a MOLTECH AH Kft. székhelye (Az útvonal tájékoztató ITT található) \n  \nA céglátogatás fókuszában a következ? kérdés áll: \n„Hogyan alkalmazkodjunk a megváltozott gazdasági körülményekhez\, hogyan tudjuk kiaknázni a rendelkezésünkre álló lehet?ségeket?” \n  \nA programra sok szeretettel várjuk az érdekl?d? vállalkozásvezet?ket! \n  \nAz esemény részletes programja: \n8.45-9.00:       Érkezés\, regisztráció \n9.00-9.15:       Köszönt?k: \n                       Dr. Tráserné Oláh Zsuzsanna\, Csongrád-Csanádi Kereskedelmi és Iparkamara titkára és \n                       Molnár Csaba\, Moltech AH Kft.  tulajdonosa \n9.15-9.45        Moltech AH Kft. bemutatása \n                       Kószó Gábor cégvezet? \n9.45-11.15      Üzemlátogatás \n                      Varga Tibor berendezés üzletág vezet?\, \n                      Juhász Zoltán min?ségbiztosítás vezet? \n11.15-11.30    Kávészünet \n11.30-11.40    Felkészülés a 2024 évi pályázatokra – el?adás \n                      Kirizs Tibor Ért? Kft. ügyvezet?je \n11.40-12.00    Kitekintés a megváltozott gazdasági körülményekre – kerekasztalbeszélgetés   \n                      Molnár Csaba a Moltech AH Kft.  tulajdonosa \n                      Kirizs Tibor az Ért? Kft. ügyvezet?je \n                      Horváth-Triznyai Ágnes a CSKIK munkatársa \n  \nA részvétel ingyenes\, de regisztrációhoz kötött\, melyet az alábbi ?rlap kitöltésével tehetnek meg. \nA rendezvény a VF/44/5/2023 számú Vállalkozásfejlesztési Projekt keretében valósul meg. \n \n  \nKapcsolat és információ:Kriston Katalin\, üzletfejlesztési tanácsadóemail: kriston.katalin@cskik.hu\, tel: +36 30 080 4710 vagy +36 62 554 255
URL:https://cskik.hu/esemeny/ceglatogatas-a-moltech-ah-kft-nel/
END:VEVENT
END:VCALENDAR