BEGIN:VCALENDAR
VERSION:2.0
PRODID:-//CSKIK - ECPv6.15.20//NONSGML v1.0//EN
CALSCALE:GREGORIAN
METHOD:PUBLISH
X-WR-CALNAME:CSKIK
X-ORIGINAL-URL:https://cskik.hu
X-WR-CALDESC:Események CSKIK
REFRESH-INTERVAL;VALUE=DURATION:PT1H
X-Robots-Tag:noindex
X-PUBLISHED-TTL:PT1H
BEGIN:VTIMEZONE
TZID:Europe/Budapest
BEGIN:DAYLIGHT
TZOFFSETFROM:+0100
TZOFFSETTO:+0200
TZNAME:CEST
DTSTART:20240331T010000
END:DAYLIGHT
BEGIN:STANDARD
TZOFFSETFROM:+0200
TZOFFSETTO:+0100
TZNAME:CET
DTSTART:20241027T010000
END:STANDARD
BEGIN:DAYLIGHT
TZOFFSETFROM:+0100
TZOFFSETTO:+0200
TZNAME:CEST
DTSTART:20250330T010000
END:DAYLIGHT
BEGIN:STANDARD
TZOFFSETFROM:+0200
TZOFFSETTO:+0100
TZNAME:CET
DTSTART:20251026T010000
END:STANDARD
BEGIN:DAYLIGHT
TZOFFSETFROM:+0100
TZOFFSETTO:+0200
TZNAME:CEST
DTSTART:20260329T010000
END:DAYLIGHT
BEGIN:STANDARD
TZOFFSETFROM:+0200
TZOFFSETTO:+0100
TZNAME:CET
DTSTART:20261025T010000
END:STANDARD
END:VTIMEZONE
BEGIN:VEVENT
DTSTART;TZID=Europe/Budapest:20250115T000000
DTEND;TZID=Europe/Budapest:20250116T000000
DTSTAMP:20260420T010336
CREATED:20251219T105918Z
LAST-MODIFIED:20251219T105918Z
UID:35071-1736899200-1736985600@cskik.hu
SUMMARY:CIMIx 2025 | The Hands-on Edition
DESCRIPTION:A CIMIx 2025 | The Hands-on Edition egy nemzetközi konferencia és üzleti találkozó\, amely 2025. január 15-16-án kerül megrendezésre Bécsben. \nMiért érdemes részt venni? \n\n\nKompetenciafejlesztés és hálózatépítés: Interaktív workshopok és szemináriumok segítik a készségek fejlesztését és a nemzetközi kapcsolatok b?vítését. \n\n\nSzakértelem: Nemzetközi szakért?k osztják meg bevált stratégiáikat és gyakorlati ismereteiket az üzleti fejl?dés el?mozdítása érdekében. \n\n\nKreatív iparágak és üzleti szektor találkozása: Bemutatják\, hogyan nyújthatnak a kreatív megközelítések új impulzusokat más iparágak számára. \n\n\nKeresztágazati együttm?ködés: Az esemény formátumai el?segítik a kreatív és üzleti kompetenciák fejlesztését\, ösztönözve az együttm?ködést különböz? szektorok és régiók között. \n\n\nMire számíthat? \n\n\nInspiráló el?adások és beszélgetések nemzetközi szakért?kkel \n\n\nGyakorlati workshopok az interaktív tanulásért \n\n\nJöv?be tekint? mesterkurzusok \n\n\nPiaci tér a legújabb trendek és kínálatok felfedezésére \n\n\nCélzott hálózatépítés speciális B2B találkozókon \n\n\nExkluzív esti esemény él? zenével és kulináris élményekkel január 15-én \n\n\nF?bb témakörök: \n\n\nÜzleti készségek fejlesztése \n\n\nKreativitás és ipar találkozása \n\n\nKreativitás a sokszín?ségen keresztül \n\n\nDesign és kézm?vesség \n\n\nDivat \n\n\nFilm \n\n\nJöv?biztos üzleti megoldások \n\n\nJátékok és immerszív média \n\n\nNemzetközi hálózatépítés és üzleti találkozók \n\n\nZene \n\n\nFiatal szakemberek a design területén \n\n\nKiknek szól az esemény? \n\n\nKreatív iparágak szakemberei: film\, zene\, játék\, design\, divat\, kézm?vesség és tartalomkészítés területér?l \n\n\nÜzleti képvisel?k: hagyományos gazdasági szektorokból\, akik innovatív\, kreatív megoldásokat keresnek \n\n\nFiatal szakemberek és startupok: akik nemzetközi hálózatokat építenének \n\n\nNemzetközi szakért?k és innovátorok: akik megosztanák tapasztalataikat és trendjeiket \n\n\nÜzleti döntéshozók és hálózatépít?k: akik üzleti kapcsolatokat építenének és stratégiáikat fejlesztenék \n\n\nInnovációra és nemzetköziesedésre fókuszáló vállalatok: akik új piacokat keresnek és szinergiákat alakítanának ki a kreatív iparág szerepl?ivel \n\n\nB2B találkozók január 15-16-án \nA cserék és az együttm?ködési projektek el?segítése érdekében kijelölt hálózatépítési szekciók lesznek január 15-16-án. A célzott találkozók biztosítása érdekében javasolt a b2match alkalmazás telepítése az App Store-ból vagy a Google Play-r?l. Ez a platform lehet?vé teszi a találkozók szervezését és a program frissítéseinek követését. \nTovábbi információk és regisztráció a hivatalos weboldalon található: https://cimix2025.b2match.io/
URL:https://cskik.hu/esemeny/cimix-2025-the-hands-on-edition/
END:VEVENT
END:VCALENDAR