BEGIN:VCALENDAR
VERSION:2.0
PRODID:-//CSKIK - ECPv6.15.20//NONSGML v1.0//EN
CALSCALE:GREGORIAN
METHOD:PUBLISH
X-WR-CALNAME:CSKIK
X-ORIGINAL-URL:https://cskik.hu
X-WR-CALDESC:Események CSKIK
REFRESH-INTERVAL;VALUE=DURATION:PT1H
X-Robots-Tag:noindex
X-PUBLISHED-TTL:PT1H
BEGIN:VTIMEZONE
TZID:Europe/Budapest
BEGIN:DAYLIGHT
TZOFFSETFROM:+0100
TZOFFSETTO:+0200
TZNAME:CEST
DTSTART:20250330T010000
END:DAYLIGHT
BEGIN:STANDARD
TZOFFSETFROM:+0200
TZOFFSETTO:+0100
TZNAME:CET
DTSTART:20251026T010000
END:STANDARD
BEGIN:DAYLIGHT
TZOFFSETFROM:+0100
TZOFFSETTO:+0200
TZNAME:CEST
DTSTART:20260329T010000
END:DAYLIGHT
BEGIN:STANDARD
TZOFFSETFROM:+0200
TZOFFSETTO:+0100
TZNAME:CET
DTSTART:20261025T010000
END:STANDARD
BEGIN:DAYLIGHT
TZOFFSETFROM:+0100
TZOFFSETTO:+0200
TZNAME:CEST
DTSTART:20270328T010000
END:DAYLIGHT
BEGIN:STANDARD
TZOFFSETFROM:+0200
TZOFFSETTO:+0100
TZNAME:CET
DTSTART:20271031T010000
END:STANDARD
END:VTIMEZONE
BEGIN:VEVENT
DTSTART;TZID=Europe/Budapest:20260520T090000
DTEND;TZID=Europe/Budapest:20260520T180000
DTSTAMP:20260419T164518
CREATED:20260416T152409Z
LAST-MODIFIED:20260416T152736Z
UID:48952-1779267600-1779300000@cskik.hu
SUMMARY:Defence Tech Day 2026
DESCRIPTION:2026. május 20.\nEindhoven\, Hollandia \nÉrdekel\, milyen lesz a védelemtechnológia jövője? Csatlakozz hozzánk Eindhovenben\, ahol a legmodernebb innovációk\, áttörést jelentő technológiák és stratégiai partnerek találkoznak\, hogy a NATO prioritásai mentén egy ellenállóbb jövőt építsenek. \nA 2026-os belga és holland NATO DIANA innovátori program résztvevői bemutatják legújabb fejlesztéseiket. Emellett inspiráló keynote előadások\, panelbeszélgetések\, valamint számos kapcsolatépítési és üzleti találkozási lehetőség várja a résztvevőket. \nAz esemény összehozza az innovátorokat\, a védelmi ipar szereplőit\, befektetőket és kormányzati képviselőket Belgiumból és Hollandiából\, hogy elősegítsék a határokon átnyúló együttműködést és felgyorsítsák a technológiai fejlődést a védelem területén. \n  \nMire számíthatsz? \n\nA 2026-os NATO DIANA innovátorok legújabb védelmi technológiáinak bemutatása\nKapcsolatépítés iparági vezetőkkel\, befektetőkkel és védelmi döntéshozókkal\nNemzetközi együttműködések feltérképezése (Belgium\, Hollandia és NATO-partnerek között)\nMagas szintű előadók a védelemtechnológiai innováció jövőjéről\nKétcélú (civil + katonai) startupok következő generációjának megismerése\n\n  \nProgram \n09:00 – 09:30 \nRegisztráció\, köszöntés és kávé \n09:30 – 12:00 – Délelőtti program \n\nMegnyitó és köszöntő\nKeynote előadás: altábornagy (védelmi vezérkar helyettes)\nPitch Session #1\nSzünet\nKeynote előadás\nPitch Session #2\n\n12:00 – 14:00 – Ebédprogram \n\nEbéd\nSzervezett networking\nTematikus breakout szekciók\n\n14:00 – 16:30 – Délutáni program \n\nPanelbeszélgetés: „Gyors alkalmazkodás egy disruptív világban”\nPitch Session #3\nSzünet\nKeynote (Holland Védelmi Minisztérium CIO)\nPitch Session #4\nZáró gondolatok\n\n16:30 – 18:00 \nNetworking és italok \n  \nNATO DIANA innovátorok \nAz eseményen bemutatkozó 22 innovátor az alábbi területeken dolgozik: \n\nFejlett kommunikációs technológiák\nElektromágnesesen zavaró környezetek kezelése\nEllenálló űrműveletek\nAdatalapú döntéshozatal\n\nB2B találkozók  \nAz esemény keretében lehetőség van 15 perces egyéni üzleti találkozókra\, amelyek célja: \n\ngyors kapcsolatépítés\negyüttműködési lehetőségek feltérképezése\nközös projektek előkészítése\n\nA részvételhez: \n\nRegisztráció az eseményre\nProfil létrehozása (bemutatkozás\, ajánlatok\, keresett partnerek)\nRésztvevők böngészése\nTalálkozók szervezése\nSaját meeting naptár kezelése\n\n  \nA Defence Tech Day 2026 egy kiemelt nemzetközi esemény a védelemtechnológiai innováció területén\, amely kiváló lehetőséget kínál: \n\núj technológiák megismerésére\nnemzetközi partnerségek kialakítására\nstartupok és befektetők összekapcsolására\nNATO-hoz kapcsolódó innovációs irányok feltérképezésére\n\nTovábbi információkat és a regisztrációs felületet ezen a LINKEN találják meg\, kérdés esetén pedig forduljanak hozzánk az eenszeged@cskik.hu e-mail címen.
URL:https://cskik.hu/esemeny/defence-tech-day-2026/
LOCATION:Eindhoven\, Eindhoven\, Netherlands
CATEGORIES:EEN
ATTACH;FMTTYPE=image/png:https://cskik.hu/wp-content/uploads/2026/04/FhCMmZofoEhh4pCvVtMHL7Be-scaled.png
END:VEVENT
END:VCALENDAR