BEGIN:VCALENDAR
VERSION:2.0
PRODID:-//CSKIK - ECPv6.15.20//NONSGML v1.0//EN
CALSCALE:GREGORIAN
METHOD:PUBLISH
X-WR-CALNAME:CSKIK
X-ORIGINAL-URL:https://cskik.hu
X-WR-CALDESC:Események CSKIK
REFRESH-INTERVAL;VALUE=DURATION:PT1H
X-Robots-Tag:noindex
X-PUBLISHED-TTL:PT1H
BEGIN:VTIMEZONE
TZID:Europe/Budapest
BEGIN:DAYLIGHT
TZOFFSETFROM:+0100
TZOFFSETTO:+0200
TZNAME:CEST
DTSTART:20230326T010000
END:DAYLIGHT
BEGIN:STANDARD
TZOFFSETFROM:+0200
TZOFFSETTO:+0100
TZNAME:CET
DTSTART:20231029T010000
END:STANDARD
BEGIN:DAYLIGHT
TZOFFSETFROM:+0100
TZOFFSETTO:+0200
TZNAME:CEST
DTSTART:20240331T010000
END:DAYLIGHT
BEGIN:STANDARD
TZOFFSETFROM:+0200
TZOFFSETTO:+0100
TZNAME:CET
DTSTART:20241027T010000
END:STANDARD
BEGIN:DAYLIGHT
TZOFFSETFROM:+0100
TZOFFSETTO:+0200
TZNAME:CEST
DTSTART:20250330T010000
END:DAYLIGHT
BEGIN:STANDARD
TZOFFSETFROM:+0200
TZOFFSETTO:+0100
TZNAME:CET
DTSTART:20251026T010000
END:STANDARD
END:VTIMEZONE
BEGIN:VEVENT
DTSTART;TZID=Europe/Budapest:20240112T000000
DTEND;TZID=Europe/Budapest:20240323T000000
DTSTAMP:20260425T234247
CREATED:20251209T140242Z
LAST-MODIFIED:20251209T140242Z
UID:28777-1705017600-1711152000@cskik.hu
SUMMARY:Digitális fogtechnika képzés
DESCRIPTION:A Csongrád-Csanádi Kereskedelmi és Iparkamara\, a Fogtechnikusok Egyesületének szakmai támogatásával gyakorlatorientált\, jelenléti oktatásban megvalósuló „Digitális fogtechnika” képzést indít.  \nA képzés célja a fogtechnikusok digitális készségének fejlesztése\, lehet?séget adjon a digitális eszközökkel\, gépekkel\, szoftverekkel kapcsolatos készségszint? kompetenciák és technikák elsajátítására. A képzés elérhet? minden olyan\, már fogtechnikus szakember számára\, aki szeretné rendszerezni és elmélyíteni ismereteit és szakmai kompetenciáit a digitális technika terén. \nTananyagegységek\, oktatók\, képzési helyszínek (összesen 160 óra):  \n\nKivehet? m?anyag alaplemezes és fémlemezes fogpótlások (Al-Ashraf Basel – Szeged)\nRögzített fogpótlások\, implantológiai pótlások (Al-Ashraf Basel – Szeged)\nFogszabályozás (Erdélyi Attila – Szeged)\nMosolytervezés (Horváth András – Szeged)\nDigitális minták készítése (Erdélyi Attila – Szeged)\n3D nyomtatás ismeretei\, 3D fém nyomtatás\, lézerszinterezés (Kónya János – Gy?r)\nSebészi fúrósablonok készítése (Kónya János – Gy?r)\n\n  \nSzakmai képzés helyszínei: \nSZTE Kossuth Zsuzsanna Technikum és Szakképz? Iskola (6724 Szeged\, Kodály tér 1.) \nDENT-ART-TECHNIK Kft. (9024 Gy?r\, Csokonai utca 10.) \n  \nSzakmai képzés id?pontja: \n2024.január 12-13. \n2024.január 19-20. \n2024.január 26-27. \n2024.február 02-03. \n2024.február 09-10. \n2024.február 16-17. \n2024.február 23-24. \n2024.március 01-02. \n2024.március 08-09. \n2024.március 22-23. \n  \nA szakmai képzés minimum 13 f? jelentkezése esetén indul. \nJelentkezés feltétele:  \n\nszakmai el?képzettség 5 0911 02 01 Fogtechnikus\, 55 724 01 Fogtechnikus (ennek meglétét igazoló dokumentum másolatát kérjük csatolni a jelentkezéshez)\njelentkezési lap kitöltése és továbbítása a boka.zita@cskik.hu email címre\na részvételi szándék meger?sítése a képzési díj megfizetésével el?legszámla alapján\negészségügyi alkalmassági igazolás (egy évnél nem régebbi\, jelentkezéshez kérjük csatolni)\n\nJelentkezési határid?: 2024. január 2. \n  \nSzakmai képzés díja  \n\n450.000\,–Ft/ f? (Áfa tv. alapján mentes az adó alól)\nkedvezményes díj a CSKIK önkéntes kamarai tagok vagy a Fogtechnikusok Egyesületének tagjai számára 400.000\,–Ft/f? (Áfa tv. alapján mentes az adó alól)\n\n  \nSzakmai vizsga: \nA szakmai képzés követelményeinek teljesítésér?l a résztvev?k tanúsítványt kapnak. Ezt követ?en van lehet?ségük akkreditált vizsgaközpont által szervezett vizsgát letenni. Az itt megszerzett képesít? bizonyítvány államilag elismert szakképesítést tanúsít. \n\ntervezett id?pontja 2024. április 13.\nhelyszín: SZTE Kossuth Zsuzsanna Technikum és Szakképz? Iskola\ndíja a képzési díjon felül 70.000\,- Ft/f? (Áfa tv. alapján mentes az adó alól)\n\n  \nA képzésr?l részletes információ és további felvilágosítás:  \nA Digitális fogtechnika szakmai képzést szervez? feln?ttképz? intézmény:  \nCsongrád-Csanádi Kereskedelmi és Iparkamara (E/2020/000429) \n6721 Szeged\, Párizsi krt. 8-12. \n  \nBóka Zita \n+36 30 792 3910 \nboka.zita@cskik.hu \n  \nA képzés a feln?ttképzési törvény hatálya alá es? engedélyköteles szakmai képzés\, CSKIK feln?ttképzési engedélyszáma: E/2020/000429. \n 
URL:https://cskik.hu/esemeny/digitalis-fogtechnika-kepzes/
END:VEVENT
END:VCALENDAR