BEGIN:VCALENDAR
VERSION:2.0
PRODID:-//CSKIK - ECPv6.15.20//NONSGML v1.0//EN
CALSCALE:GREGORIAN
METHOD:PUBLISH
X-WR-CALNAME:CSKIK
X-ORIGINAL-URL:https://cskik.hu
X-WR-CALDESC:Események CSKIK
REFRESH-INTERVAL;VALUE=DURATION:PT1H
X-Robots-Tag:noindex
X-PUBLISHED-TTL:PT1H
BEGIN:VTIMEZONE
TZID:Europe/Budapest
BEGIN:DAYLIGHT
TZOFFSETFROM:+0100
TZOFFSETTO:+0200
TZNAME:CEST
DTSTART:20240331T010000
END:DAYLIGHT
BEGIN:STANDARD
TZOFFSETFROM:+0200
TZOFFSETTO:+0100
TZNAME:CET
DTSTART:20241027T010000
END:STANDARD
BEGIN:DAYLIGHT
TZOFFSETFROM:+0100
TZOFFSETTO:+0200
TZNAME:CEST
DTSTART:20250330T010000
END:DAYLIGHT
BEGIN:STANDARD
TZOFFSETFROM:+0200
TZOFFSETTO:+0100
TZNAME:CET
DTSTART:20251026T010000
END:STANDARD
BEGIN:DAYLIGHT
TZOFFSETFROM:+0100
TZOFFSETTO:+0200
TZNAME:CEST
DTSTART:20260329T010000
END:DAYLIGHT
BEGIN:STANDARD
TZOFFSETFROM:+0200
TZOFFSETTO:+0100
TZNAME:CET
DTSTART:20261025T010000
END:STANDARD
END:VTIMEZONE
BEGIN:VEVENT
DTSTART;TZID=Europe/Budapest:20250611T000000
DTEND;TZID=Europe/Budapest:20250611T000000
DTSTAMP:20260421T132429
CREATED:20251219T111340Z
LAST-MODIFIED:20251219T111340Z
UID:35329-1749600000-1749600000@cskik.hu
SUMMARY:EEN Üzleti Klub
DESCRIPTION:Az Enterprise Europe Network célkit?zése a hazai kis- és középvállalkozások versenyképességének növelése\, nemzetközi kapcsolatrendszerük b?vítése. 2023-ban Üzleti Klub néven indított rendezvénysorozat az elmúlt évek kihívásaira válaszul\, ahol olyan témákat dolgozunk fel meghívott szakért? el?adókkal\, amelyek valamennyi gazdálkodó szerv számára hasznosak lehetnek. \nSoron következ? rendezvényünk témája: \nHorizont Európa program Innovation Action típusú felhívásairól \nEl?adók: Schultheisz Máté és Kállay Tamás – Nemzeti Kapcsolattartó Pont Hálózat / NCP Network Hungary-Nemzetközi Együttm?ködési F?osztály/ Nemzeti Kutatási\, Fejlesztési és Innovációs Hivatal képviseletében \nvalamint \nSikerhez vezet? út – nemzetközi pályázatok \nNemzetközi projektekhez/pályázatokhoz történ? kapcsolódás és a kutatás-fejlesztési\, valamint az innovációs projektek sajátosságai. \nJógyakorlatok a tervezést?l a megvalósításon keresztül a projektek sikeres zárásáig. A szellemivagyon-gazdálkodás\, a cégértéknövelés\, a folyamatok és a digitalizáció\, valamint a kutatás-fejlesztési és innovációs projektek kapcsolata. Felkészülés az 56001 innovációmenedzsment szabványra. \nEl?adók: Kiss János József innovációs és iparjogvédelmi szakmérnök magyar és európai szabadalmi ügyviv?\, valamint Glósz Andrea ügyvezet?\, Glósz és Társa System. \nA kiscsoportos workshopon való részvétel díjmentes\, azonban el?zetes regisztráció szükséges. A résztvev?k száma korlátozott\, a regisztráció a jelentkezés sorrendjében történik. A sikeres elfogadott regisztrációról értesítést küldünk. \nRegisztrálni az alábbi linken lehetséges június 5-ig: \nhttps://barinfo.questionpro.com/t/AO5AtZ6GCn
URL:https://cskik.hu/esemeny/een-uzleti-klub/
END:VEVENT
END:VCALENDAR