BEGIN:VCALENDAR
VERSION:2.0
PRODID:-//CSKIK - ECPv6.15.20//NONSGML v1.0//EN
CALSCALE:GREGORIAN
METHOD:PUBLISH
X-WR-CALNAME:CSKIK
X-ORIGINAL-URL:https://cskik.hu
X-WR-CALDESC:Események CSKIK
REFRESH-INTERVAL;VALUE=DURATION:PT1H
X-Robots-Tag:noindex
X-PUBLISHED-TTL:PT1H
BEGIN:VTIMEZONE
TZID:Europe/Budapest
BEGIN:DAYLIGHT
TZOFFSETFROM:+0100
TZOFFSETTO:+0200
TZNAME:CEST
DTSTART:20230326T010000
END:DAYLIGHT
BEGIN:STANDARD
TZOFFSETFROM:+0200
TZOFFSETTO:+0100
TZNAME:CET
DTSTART:20231029T010000
END:STANDARD
BEGIN:DAYLIGHT
TZOFFSETFROM:+0100
TZOFFSETTO:+0200
TZNAME:CEST
DTSTART:20240331T010000
END:DAYLIGHT
BEGIN:STANDARD
TZOFFSETFROM:+0200
TZOFFSETTO:+0100
TZNAME:CET
DTSTART:20241027T010000
END:STANDARD
BEGIN:DAYLIGHT
TZOFFSETFROM:+0100
TZOFFSETTO:+0200
TZNAME:CEST
DTSTART:20250330T010000
END:DAYLIGHT
BEGIN:STANDARD
TZOFFSETFROM:+0200
TZOFFSETTO:+0100
TZNAME:CET
DTSTART:20251026T010000
END:STANDARD
END:VTIMEZONE
BEGIN:VEVENT
DTSTART;TZID=Europe/Budapest:20241007T000000
DTEND;TZID=Europe/Budapest:20241010T000000
DTSTAMP:20260425T191909
CREATED:20251209T151539Z
LAST-MODIFIED:20251209T151539Z
UID:29272-1728259200-1728518400@cskik.hu
SUMMARY:ELECTROSUB 2024 – nemzetközi üzletember találkozó\, konferencia és kiállítás az Ipar 4.0 jegyében
DESCRIPTION:Az október 9-10-én zajló ELECTROSUB Konferencia és Kiállítás az Ipar4.0-hoz köthet? innovatív technológiák koncentrált szakmai és üzleti fóruma. Az idei program fókuszterületei: elektronika\, elektrotechnika\, digitalizáció\, AI\, IoT\, robottechnika\, automatizáció. Idén az Enterprise Europe Network szervezésében nemzetközi üzletember találkozó is segíti az üzleti partnerkeresést. \nHelyszín: Lurdy Ház / Budapest\, Könyves Kálmán krt. 12-14. \nB2B id?pontok: online – 2024. október 7-8. ; helyszínen – 2024. október 9-10. \nNapjainkban az iparban jelent?s változások zajlanak. Az Ipar4.0 technológiák alkalmazása\, a digitalizáció\, a fejl?dés kikerülhetetlen útja\, a fenntarthatóság záloga. Az ELECTROSUB bemutatkozási lehet?séget\, üzleti\, szakmai fórumot kínál a cégeknek\, amelyek a tematikájához köthet? iparágak m?szaki megoldásokon alapuló termékeinek és szolgáltatásainak el?állításában érdekeltek\, akár tervez?ként\, kutatóként\, fejleszt?ként\, gyártóként\, szolgáltatóként\, oktatóként\, keresked?kén vagy bármi más módon. \nAz ELECTROSUB két f? pillére\, a konferencia és kiállítás\, melyet idén egy személyes részvétel mellett zajló nemzetközi üzletember találkozó is er?sít.A konferencia el?adásai a kiállításon bemutatott termékekhez\, szolgáltatásokhoz kapcsolódó\, innovatív megoldásokról szólnak. \nFókuszban: elektronika\, elektrotechnika\, digitális átalakulás\, robotika\, automatizálás \nMiért érdemes részt venni? \n\nVásárlóként – hatékony személyes találkozók során találhat képzett európai beszállítókat.\nPiaci/értékesítési menedzserként – új európai ügyfelek felkutatása.\nTermékfejleszt?ként – találjon partnereket az új technológiák és innovatív megoldások megvitatásához.\n\nA részvétel díjmentes\, de regisztrációhoz kötött. \nTovábbi információ és regisztráció az üzletember találkozóra \n 
URL:https://cskik.hu/esemeny/electrosub-2024-nemzetkozi-uzletember-talalkozo-konferencia-es-kiallitas-az-ipar-4-0-jegyeben/
END:VEVENT
END:VCALENDAR