BEGIN:VCALENDAR
VERSION:2.0
PRODID:-//CSKIK - ECPv6.15.20//NONSGML v1.0//EN
CALSCALE:GREGORIAN
METHOD:PUBLISH
X-WR-CALNAME:CSKIK
X-ORIGINAL-URL:https://cskik.hu
X-WR-CALDESC:Események CSKIK
REFRESH-INTERVAL;VALUE=DURATION:PT1H
X-Robots-Tag:noindex
X-PUBLISHED-TTL:PT1H
BEGIN:VTIMEZONE
TZID:Europe/Budapest
BEGIN:DAYLIGHT
TZOFFSETFROM:+0100
TZOFFSETTO:+0200
TZNAME:CEST
DTSTART:20230326T010000
END:DAYLIGHT
BEGIN:STANDARD
TZOFFSETFROM:+0200
TZOFFSETTO:+0100
TZNAME:CET
DTSTART:20231029T010000
END:STANDARD
BEGIN:DAYLIGHT
TZOFFSETFROM:+0100
TZOFFSETTO:+0200
TZNAME:CEST
DTSTART:20240331T010000
END:DAYLIGHT
BEGIN:STANDARD
TZOFFSETFROM:+0200
TZOFFSETTO:+0100
TZNAME:CET
DTSTART:20241027T010000
END:STANDARD
BEGIN:DAYLIGHT
TZOFFSETFROM:+0100
TZOFFSETTO:+0200
TZNAME:CEST
DTSTART:20250330T010000
END:DAYLIGHT
BEGIN:STANDARD
TZOFFSETFROM:+0200
TZOFFSETTO:+0100
TZNAME:CET
DTSTART:20251026T010000
END:STANDARD
END:VTIMEZONE
BEGIN:VEVENT
DTSTART;TZID=Europe/Budapest:20240121T000000
DTEND;TZID=Europe/Budapest:20240122T000000
DTSTAMP:20260425T221600
CREATED:20251209T140353Z
LAST-MODIFIED:20251209T140353Z
UID:28786-1705795200-1705881600@cskik.hu
SUMMARY:EU Fashionmatch üzleti találkozó
DESCRIPTION:Amszterdam egyike a vezet? divatvárosoknak. Az EU Fashionmatch személyes részvétel? üzleti találkozó immár tizenharmadik alkalommal kerül megrendezésre a Modefabriek divatipari szakkiállítás mellett. A szakvásár maga a n?i divatiparra koncentrál\, az üzleti találkozókon viszont a férfi és gyermekruházati szektor szerepl?i is képviseltetik magukat. \nId?pont: 2024. január 21-22.Helyszín: Amszterdam\, Hollandia (helyszíni részvétel? esemény) \nAz üzleti találkozó egy helyen koncentrálja az iparágban tevékenyked? nemzetközi vev?ket\, ügynököket\, vállalkozásokat és designereket\, beszállítókat\, befektet?ket és különféle szolgáltatókat és kiváló lehet?séget biztosít új üzleti kapcsolatok kialakítására. \nIngyenes belép? a Modefabrik eseményre \nA regisztrált üzleti megbeszélésekkel rendelkez? résztvev?k számára a szervez?k ingyenes belépést biztosítanak a Modefabriek-ra. A Modefabriek által biztosított\, QR-kóddal ellátott ingyenes belép?jegy 1 f? belépését teszi lehet?vé a vásár területére. Ezt a bejáratnál a belépéskor fogják leolvasni és az esemény mindkét napján felhasználható. \nAz üzleti találkozón való részvétel díjmentes\, de el?zetes regisztrációhoz kötött. \nRegisztráció és további részletek az esemény honlapján \nKérjük\, hogy részvételi szándékát a b2b@cskik.hu e-mail címen is jelezze!
URL:https://cskik.hu/esemeny/eu-fashionmatch-uzleti-talalkozo/
END:VEVENT
END:VCALENDAR