BEGIN:VCALENDAR
VERSION:2.0
PRODID:-//CSKIK - ECPv6.15.20//NONSGML v1.0//EN
CALSCALE:GREGORIAN
METHOD:PUBLISH
X-WR-CALNAME:CSKIK
X-ORIGINAL-URL:https://cskik.hu
X-WR-CALDESC:Események CSKIK
REFRESH-INTERVAL;VALUE=DURATION:PT1H
X-Robots-Tag:noindex
X-PUBLISHED-TTL:PT1H
BEGIN:VTIMEZONE
TZID:Europe/Budapest
BEGIN:DAYLIGHT
TZOFFSETFROM:+0100
TZOFFSETTO:+0200
TZNAME:CEST
DTSTART:20240331T010000
END:DAYLIGHT
BEGIN:STANDARD
TZOFFSETFROM:+0200
TZOFFSETTO:+0100
TZNAME:CET
DTSTART:20241027T010000
END:STANDARD
BEGIN:DAYLIGHT
TZOFFSETFROM:+0100
TZOFFSETTO:+0200
TZNAME:CEST
DTSTART:20250330T010000
END:DAYLIGHT
BEGIN:STANDARD
TZOFFSETFROM:+0200
TZOFFSETTO:+0100
TZNAME:CET
DTSTART:20251026T010000
END:STANDARD
BEGIN:DAYLIGHT
TZOFFSETFROM:+0100
TZOFFSETTO:+0200
TZNAME:CEST
DTSTART:20260329T010000
END:DAYLIGHT
BEGIN:STANDARD
TZOFFSETFROM:+0200
TZOFFSETTO:+0100
TZNAME:CET
DTSTART:20261025T010000
END:STANDARD
END:VTIMEZONE
BEGIN:VEVENT
DTSTART;TZID=Europe/Budapest:20250310T000000
DTEND;TZID=Europe/Budapest:20250310T000000
DTSTAMP:20260419T160933
CREATED:20251219T105948Z
LAST-MODIFIED:20251219T105948Z
UID:35107-1741564800-1741564800@cskik.hu
SUMMARY:Fodrász Szakmai Nap 2025
DESCRIPTION:“A Sassoon-technika mesterfokon – trendek\, tudatosság és személyre szabott tervezés!” \nFejlessze tudását a Csongrád-Csanádi Kereskedelmi és Iparkamara Hódmez?vásárhelyi Városi Szervezetének\, valamint Kézm?ipari Tagozatának közös rendezvényén Veress-Gy?ri Sándorral\, aki 10 évig volt a Vidal Sassoon kreatív igazgatója Londonban! \nA nap célja a fodrászok szakmai fejl?dése és kapcsolatteremtés. Idén is várjuk Önöket\, mint tapasztalt szakembereket\, emellett lehet?séget adunk kedvezményesen tanulók részvételére is\, hogy támogassuk a szakma utánpótlását. Ha Ön szakmát tanuló leend? fodrászt foglalkoztat\, tanulója kedvezményes áron vehet részt a szakmai napon. \nKiket várunk? \n\nmár a szakmában dolgozó n?i fodrászokat\na fodrász szakmát tanulókat\n\nHelyszín: Ginkgo Hotel**** (Hódmez?vásárhely\, Zrínyi u. 2.) \nId?pont: Március 10.\, 14:00 \n  \nRészvételi díjak: \nRegisztrált vállalkozóknak: 10.000 forint+Áfa \nA CSKIK önkéntes tagvállalkozásainak: 7.000 forint+Áfa \nTanulóknak: 2.000 forint+Áfa (Tanulók egyénileg jelentkezve IDE KATTINTVA tudnak regisztrálni. – OKTATÁSI AZONOSÍTÓ MEGADÁSA KÖTELEZ?!) \nA szakmai napon el?zetes regisztrációt követ?en tud részt venni!Korlátozott számban állnak rendelkezésre jegyek. \nA beküldött regisztrációt visszaigazolás követi\, melyben díjbekér?t küldünk. Részvételét a díjbekér? kiegyenlítésével tudja biztosítani. \nA regisztrációban és jelentkezésben segítséget nyújt munkatársunk\, Kovács Kata (elérhet?sége +36309851988) és Meszlényi Tamásné szervez? partnerünk (elérhet?sége: +36304203894). \n  \nRegisztráció vállalkozóknak: \n \n 
URL:https://cskik.hu/esemeny/fodrasz-szakmai-nap-2025/
END:VEVENT
END:VCALENDAR