BEGIN:VCALENDAR
VERSION:2.0
PRODID:-//CSKIK - ECPv6.15.20//NONSGML v1.0//EN
CALSCALE:GREGORIAN
METHOD:PUBLISH
X-WR-CALNAME:CSKIK
X-ORIGINAL-URL:https://cskik.hu
X-WR-CALDESC:Események CSKIK
REFRESH-INTERVAL;VALUE=DURATION:PT1H
X-Robots-Tag:noindex
X-PUBLISHED-TTL:PT1H
BEGIN:VTIMEZONE
TZID:Europe/Budapest
BEGIN:DAYLIGHT
TZOFFSETFROM:+0100
TZOFFSETTO:+0200
TZNAME:CEST
DTSTART:20230326T010000
END:DAYLIGHT
BEGIN:STANDARD
TZOFFSETFROM:+0200
TZOFFSETTO:+0100
TZNAME:CET
DTSTART:20231029T010000
END:STANDARD
BEGIN:DAYLIGHT
TZOFFSETFROM:+0100
TZOFFSETTO:+0200
TZNAME:CEST
DTSTART:20240331T010000
END:DAYLIGHT
BEGIN:STANDARD
TZOFFSETFROM:+0200
TZOFFSETTO:+0100
TZNAME:CET
DTSTART:20241027T010000
END:STANDARD
BEGIN:DAYLIGHT
TZOFFSETFROM:+0100
TZOFFSETTO:+0200
TZNAME:CEST
DTSTART:20250330T010000
END:DAYLIGHT
BEGIN:STANDARD
TZOFFSETFROM:+0200
TZOFFSETTO:+0100
TZNAME:CET
DTSTART:20251026T010000
END:STANDARD
END:VTIMEZONE
BEGIN:VEVENT
DTSTART;TZID=Europe/Budapest:20241107T000000
DTEND;TZID=Europe/Budapest:20241108T000000
DTSTAMP:20260422T120750
CREATED:20251209T151543Z
LAST-MODIFIED:20251209T151543Z
UID:29281-1730937600-1731024000@cskik.hu
SUMMARY:Forum Agenti Ügynöktalálkozó Milánó
DESCRIPTION:Olaszországban a kereskedelmi ügynökhálózat komoly történelmi múltra tekint vissza és jelent?s befolyással bír a kereskedelmi döntések meghozatalakor. Számos termékszegmensben kizárólag ügynökökön keresztül lehetséges az olasz piacra történ? költséghatékony belépés és az azon történ? sikeres jelenlét. Az ügynökök kiváló kapcsolatrendszerükön keresztül hatékonyan tudják becsatornázni és meggy?zni az egyes termékek és szolgáltatások értékesítésér?l a disztribútorokat\, kereskedelmi egységeket\, avagy kereskedelmi láncokat. A Forum Agenti az egyetlen olyan kiállítás és szakmai fórum Olaszországban\, amely lehet?séget ad arra\, hogy a vállalatok kiválaszthassák a számukra legmegfelel?bb kereskedelmi ügynököt\, vagy ügynököket. \nA találkozó alatt a kiállító cégek mini standot kapnak (tárgyalóasztal\, székek)\, ahol fogadják az ügynököket. A regisztrációt követ?en mindenféleképpen javasoljuk az ügynökkel történ? el?zetes kapcsolatfelvételt és id?pont-egyeztetést\, valamint a rendezvény alatt tájékoztató anyagok\, roll-up\, termékminták megjelenítését. \nA Forum Agenti rendezvény súlyát jelzi\, hogy a 2023. évi eseményre több mint ezer kereskedelmi ügynök és 120 cég regisztrált. \nMagyarország Milánói F?konzulátusa hosszú évek óta jó kapcsolatot ápol a szervez?kkel\, ennek köszönhet?en az eredeti 2.500 eurós ár helyett a magyar cégek számára a részvételi díj mindössze 1.250 euró. \nAz esemény id?pontja: 2024. november 7-8. \nTovábbi részletek és jelentkezés az alábbi linken: https://www.forumagenti.it/en/Forum-Agenti-Milano/682/consolato-di-ungheria  \nTovábbi kérdés vagy kérés esetén forduljanak bizalommal Magyarország Milánói F?konzulátusának kereskedelmi irodájához: trade.mil@mfa.gov.hu
URL:https://cskik.hu/esemeny/forum-agenti-ugynoktalalkozo-milano/
END:VEVENT
END:VCALENDAR