BEGIN:VCALENDAR
VERSION:2.0
PRODID:-//CSKIK - ECPv6.15.20//NONSGML v1.0//EN
CALSCALE:GREGORIAN
METHOD:PUBLISH
X-WR-CALNAME:CSKIK
X-ORIGINAL-URL:https://cskik.hu
X-WR-CALDESC:Események CSKIK
REFRESH-INTERVAL;VALUE=DURATION:PT1H
X-Robots-Tag:noindex
X-PUBLISHED-TTL:PT1H
BEGIN:VTIMEZONE
TZID:Europe/Budapest
BEGIN:DAYLIGHT
TZOFFSETFROM:+0100
TZOFFSETTO:+0200
TZNAME:CEST
DTSTART:20230326T010000
END:DAYLIGHT
BEGIN:STANDARD
TZOFFSETFROM:+0200
TZOFFSETTO:+0100
TZNAME:CET
DTSTART:20231029T010000
END:STANDARD
BEGIN:DAYLIGHT
TZOFFSETFROM:+0100
TZOFFSETTO:+0200
TZNAME:CEST
DTSTART:20240331T010000
END:DAYLIGHT
BEGIN:STANDARD
TZOFFSETFROM:+0200
TZOFFSETTO:+0100
TZNAME:CET
DTSTART:20241027T010000
END:STANDARD
BEGIN:DAYLIGHT
TZOFFSETFROM:+0100
TZOFFSETTO:+0200
TZNAME:CEST
DTSTART:20250330T010000
END:DAYLIGHT
BEGIN:STANDARD
TZOFFSETFROM:+0200
TZOFFSETTO:+0100
TZNAME:CET
DTSTART:20251026T010000
END:STANDARD
END:VTIMEZONE
BEGIN:VEVENT
DTSTART;TZID=Europe/Budapest:20241104T000000
DTEND;TZID=Europe/Budapest:20241105T000000
DTSTAMP:20260422T163622
CREATED:20251209T150041Z
LAST-MODIFIED:20251209T150041Z
UID:29161-1730678400-1730764800@cskik.hu
SUMMARY:Free From Food - élelmiszeripari konferencia és B2B
DESCRIPTION:2024. november 5-6. között kerül sor a Free From Food Trade kiállításra és konferenciára a RAI Amszterdamban. A Free From Food Európa vezet? kiskereskedelmi szakkiállítása\, és tökéletes lehet?ség élelmiszer- és alapanyag-export?rök számára\, hogy elmerüljenek a natúr\, egészséges és fenntartható élelmiszerek világában. A B2B kereskedelmi rendezvény bemutatja a legújabb\, vezet? termékeket és összetev?ket. \nA Free From Food a natúr és egészséges élelmiszerek vásárlóit és beszállítóit köti össze\, a nagy és a speciális kiskereskedelmi szektorokból érkez? vev?k és marketingesek sokszín? közönségét vonzza\, így a kiskereskedelem és az élelmiszer-el?állító ipar élelmiszer- és alapanyag-kereskedelmének fókuszpontjává válik. \nKözvetlen kapcsolatot teremtve a beszerzési döntéshozókkal és a kiskereskedelem\, az élelmiszer-el?állítás\, az élelmiszer-szolgáltatás\, továbbá minden más natúr és egészséges élelmiszer- és összetev?-forgalmazási csatornát alakító szakemberekkel\, az Ön márkája reflektorfénybe kerülhet\, és elérheti azokat\, akik befolyásolják és irányítják az iparági trendeket. \nA kiállítás er?s konferenciaprogramjával  a teljes értéklánc innovációjába és fejl?désébe való betekintést ötvözi a kész élelmiszerek\, összetev?k és márkák magas színvonalú kiállításával. Ez több mint egy kiállítás; ez egy kapu a sikerhez az Ön márkája számára. \nDátum: 2024. november 4-5. 10:00-17:00Helyszín: RAI Amsterdam Europaplein 24 1078 GZ Amsterdam The Netherlands (Hall 5 – Entrance L) \nB?vebb információk a konferenciáról: https://amsterdam.freefromfoodexpo.com/ \nA rendezvény mellett az Enterprise Europe Network nemzetközi üzletember-találkozót is szervez. A regisztrációs felület a B2B találkozóra: https://amsterdam-free-from-and-specialty.b2match.io/Jelentkezni augusztus 5-t?l lehet. \nÉrdekl?dés esetén forduljon hozzánk az eenszeged@cskik.hu e-mail címen.
URL:https://cskik.hu/esemeny/free-from-food-elelmiszeripari-konferencia-es-b2b/
END:VEVENT
END:VCALENDAR