BEGIN:VCALENDAR
VERSION:2.0
PRODID:-//CSKIK - ECPv6.15.20//NONSGML v1.0//EN
CALSCALE:GREGORIAN
METHOD:PUBLISH
X-WR-CALNAME:CSKIK
X-ORIGINAL-URL:https://cskik.hu
X-WR-CALDESC:Események CSKIK
REFRESH-INTERVAL;VALUE=DURATION:PT1H
X-Robots-Tag:noindex
X-PUBLISHED-TTL:PT1H
BEGIN:VTIMEZONE
TZID:Europe/Budapest
BEGIN:DAYLIGHT
TZOFFSETFROM:+0100
TZOFFSETTO:+0200
TZNAME:CEST
DTSTART:20230326T010000
END:DAYLIGHT
BEGIN:STANDARD
TZOFFSETFROM:+0200
TZOFFSETTO:+0100
TZNAME:CET
DTSTART:20231029T010000
END:STANDARD
BEGIN:DAYLIGHT
TZOFFSETFROM:+0100
TZOFFSETTO:+0200
TZNAME:CEST
DTSTART:20240331T010000
END:DAYLIGHT
BEGIN:STANDARD
TZOFFSETFROM:+0200
TZOFFSETTO:+0100
TZNAME:CET
DTSTART:20241027T010000
END:STANDARD
BEGIN:DAYLIGHT
TZOFFSETFROM:+0100
TZOFFSETTO:+0200
TZNAME:CEST
DTSTART:20250330T010000
END:DAYLIGHT
BEGIN:STANDARD
TZOFFSETFROM:+0200
TZOFFSETTO:+0100
TZNAME:CET
DTSTART:20251026T010000
END:STANDARD
END:VTIMEZONE
BEGIN:VEVENT
DTSTART;TZID=Europe/Budapest:20240115T000000
DTEND;TZID=Europe/Budapest:20240130T000000
DTSTAMP:20260426T011341
CREATED:20251209T140154Z
LAST-MODIFIED:20251209T140154Z
UID:28759-1705276800-1706572800@cskik.hu
SUMMARY:Grüne Woche Business Days 2024
DESCRIPTION:A Grüne Woche kereskedelmi vásár kísér?eseményeként kerül megrendezésre Berlinben a Grüne Woche Business Days 2024 üzleti találkozó\, melynek kiemelt témája a modern mez?gazdaság és táplálkozás. \nAz esemény kiváló lehet?séget biztosít új üzleti kapcsolatok kialakítására\, projekt partnerek felkutatására. \nId?pont:2024. január 19.\, 23-24. személyes részvétellel2024. január 15-16.\, 29-30. online részvétellel \nHelyszín: Berlin\, Németország / online \nKiemelt téma: modern mez?gazdaság és táplálkozás \n– élelmezési rendszereink– fenntartható táplálkozás és mez?gazdaság– fenntartható csomagolás– körforgásos gazdaság\, újrahasznosítás\, újrahasznosítás\, nulla hulladék– víz és energia a mez?gazdaságban és az élelmiszerrendszerekben– digitalizáció és automatizálás az élelmiszertermelésben és a mez?gazdaságban \nAz üzleti találkozón való részvétel el?zetes regisztrációhoz kötött. \nJelentkezési határid?: 2024. január 24. \nRegisztráció és további részletek az esemény honlapján \nKérjük\, hogy részvételi szándékát a b2b@cskik.hu e-mail címen is jelezze! \n 
URL:https://cskik.hu/esemeny/grune-woche-business-days-2024/
END:VEVENT
END:VCALENDAR