BEGIN:VCALENDAR
VERSION:2.0
PRODID:-//CSKIK - ECPv6.15.20//NONSGML v1.0//EN
CALSCALE:GREGORIAN
METHOD:PUBLISH
X-WR-CALNAME:CSKIK
X-ORIGINAL-URL:https://cskik.hu
X-WR-CALDESC:Események CSKIK
REFRESH-INTERVAL;VALUE=DURATION:PT1H
X-Robots-Tag:noindex
X-PUBLISHED-TTL:PT1H
BEGIN:VTIMEZONE
TZID:Europe/Budapest
BEGIN:DAYLIGHT
TZOFFSETFROM:+0100
TZOFFSETTO:+0200
TZNAME:CEST
DTSTART:20240331T010000
END:DAYLIGHT
BEGIN:STANDARD
TZOFFSETFROM:+0200
TZOFFSETTO:+0100
TZNAME:CET
DTSTART:20241027T010000
END:STANDARD
BEGIN:DAYLIGHT
TZOFFSETFROM:+0100
TZOFFSETTO:+0200
TZNAME:CEST
DTSTART:20250330T010000
END:DAYLIGHT
BEGIN:STANDARD
TZOFFSETFROM:+0200
TZOFFSETTO:+0100
TZNAME:CET
DTSTART:20251026T010000
END:STANDARD
BEGIN:DAYLIGHT
TZOFFSETFROM:+0100
TZOFFSETTO:+0200
TZNAME:CEST
DTSTART:20260329T010000
END:DAYLIGHT
BEGIN:STANDARD
TZOFFSETFROM:+0200
TZOFFSETTO:+0100
TZNAME:CET
DTSTART:20261025T010000
END:STANDARD
END:VTIMEZONE
BEGIN:VEVENT
DTSTART;TZID=Europe/Budapest:20250114T000000
DTEND;TZID=Europe/Budapest:20250130T000000
DTSTAMP:20260420T051916
CREATED:20251219T105857Z
LAST-MODIFIED:20251219T105857Z
UID:35041-1736812800-1738195200@cskik.hu
SUMMARY:Grüne Woche Business Days 2025
DESCRIPTION:Modern mez?gazdaság és táplálkozás Találkozzon a globális agrárvállalkozói közösséggel a Grüne Woche vásáron és a Global Forum for Food and Agriculture (GFFA) rendezvényen. Az Enterprise Europe Network Berlin-Brandenburg szervezésében megrendezésre kerül a Grüne Woche Business Days 2025 nemzetközi esemény személyes részvétellel (Németország\, Berlin) és online is. \n\nonsite: 2025. január 22. (11:00 – 15:00)\nonline: 2025. január 14.\, 15.\, 29. és 30. (8:00 – 20:00)\n\nF?bb témák: \n\nModern mez?gazdaság és táplálkozás\nÉlelmezési rendszereink\nFenntartható táplálkozás és mez?gazdaság\nFenntartható csomagolás\nKörforgásos gazdaság\, újrahasznosítás\, újrahasznosítás\, hulladékmentesség\, mellékfolyamatok\nVíz és energia a mez?gazdaságban és az élelmiszerrendszerekben\nDigitalizáció és automatizálás az élelmiszertermelésben és a mez?gazdaságban\n\nA következ? agrár-élelmiszeripari üzletág partnerkeres? szerepl?ivel találkozhat: \n\nKiállítók\nKereskedelmi szakemberek\nKormányok és intézmények\nIpari szövetségek és szervezetek\nKutatási és oktatási intézmények\nKulináris szakért?k és szakácsok\nA környezetvédelem és a fenntarthatóság szószólói\nklímavédelem\nfenntartható földhasználat\n\nA partnerkeres?n való részvétel ingyenes. \nTovábbi információ és regisztráció az esemény honlapján.  \n  \n 
URL:https://cskik.hu/esemeny/grune-woche-business-days-2025/
END:VEVENT
END:VCALENDAR