BEGIN:VCALENDAR
VERSION:2.0
PRODID:-//CSKIK - ECPv6.15.20//NONSGML v1.0//EN
CALSCALE:GREGORIAN
METHOD:PUBLISH
X-WR-CALNAME:CSKIK
X-ORIGINAL-URL:https://cskik.hu
X-WR-CALDESC:Események CSKIK
REFRESH-INTERVAL;VALUE=DURATION:PT1H
X-Robots-Tag:noindex
X-PUBLISHED-TTL:PT1H
BEGIN:VTIMEZONE
TZID:Europe/Budapest
BEGIN:DAYLIGHT
TZOFFSETFROM:+0100
TZOFFSETTO:+0200
TZNAME:CEST
DTSTART:20240331T010000
END:DAYLIGHT
BEGIN:STANDARD
TZOFFSETFROM:+0200
TZOFFSETTO:+0100
TZNAME:CET
DTSTART:20241027T010000
END:STANDARD
BEGIN:DAYLIGHT
TZOFFSETFROM:+0100
TZOFFSETTO:+0200
TZNAME:CEST
DTSTART:20250330T010000
END:DAYLIGHT
BEGIN:STANDARD
TZOFFSETFROM:+0200
TZOFFSETTO:+0100
TZNAME:CET
DTSTART:20251026T010000
END:STANDARD
BEGIN:DAYLIGHT
TZOFFSETFROM:+0100
TZOFFSETTO:+0200
TZNAME:CEST
DTSTART:20260329T010000
END:DAYLIGHT
BEGIN:STANDARD
TZOFFSETFROM:+0200
TZOFFSETTO:+0100
TZNAME:CET
DTSTART:20261025T010000
END:STANDARD
END:VTIMEZONE
BEGIN:VEVENT
DTSTART;TZID=Europe/Budapest:20250619T000000
DTEND;TZID=Europe/Budapest:20250619T000000
DTSTAMP:20260421T232544
CREATED:20251219T111336Z
LAST-MODIFIED:20251219T111336Z
UID:35323-1750291200-1750291200@cskik.hu
SUMMARY:Humán Klub - A kiemelked?en eredményes emberek 7 szokása – hatással lenni másokra: tudatosan\, értékalapon
DESCRIPTION:A Csongrád-Csanádi Kereskedelmi és Iparkamara és a Humán Szakemberek Országos Szövetsége (HSZOSZ) 2025. június 19-én tartja a soron következ? Humán Klub programját\, melyre tisztelettel meghívja Önt. \n  \nEl?adó:         Seres Erika a FranklinCovey Magyarország szervezetfejlesztési tanácsadója\, tréner és vezet?i coach\, a Szegedi Tudományegyetem óraadó oktatója \nId?pont:       2025. június 19.\, 14:30 – 16:30Helyszíne:    CSKIK Székház (Szeged\, Párizsi krt. 8-12.) II. emeleti konferenciaterem \nProgram:     Emberként\, vezet?ként\, közösségként hogyan lehetünk hatással másokra – tudatosan\, értékalapon \n  \nSeres Erika szervezetfejlesztési tanácsadóként és trénerként vezet?knek és csapatoknak segít eredményesebbé válni Stephen R. Covey „7 szokás” rendszerével. \n  \nErika szavaival: A „7 szokás” számomra nem csupán egy program\, hanem egy mélyen emberi\, id?tálló szemlélet\, ami több\, mint 12 éve személyesen is kísér engem az utamon. Olyan alapelveken nyugszik\, amelyek segítenek eligazodni egy egyre összetettebb világban – miközben önazonosabbá\, tudatosabbá és eredményesebbé válunk. \nA legnagyobb hatást akkor érjük el\, ha el?ször önmagunkon dolgozunk – ezáltal tudunk hitelesen hatni másokra is. \nA Humán Klubban örömmel osztom meg\, miért gondolom\, hogy A kiemelked?en eredményes emberek 7 szokása 2025-ben is az egyik legkiválóbb lehet?ség arra\, hogy újra összekapcsolódjunk azzal\, ami igazán számít – emberként\, vezet?ként\, közösségként. \n  \nMir?l lesz szó? \n\nA felgyorsuló technológia és a fejlett mesterséges intelligencia korában az emberi készségek – hogyan dolgozunk önállóan és együtt másokkal – fontosabbak\, mint valaha. A szervezeti eredményesség eléréséhez elengedhetetlen egy olyan átfogó keretrendszer\, amely segít mindenkinek elsajátítani és fejleszteni ezeket az alapvet? képességeket.\nMilyen id?tálló keretrendszer és alapelvek segítik az egyéni fejl?dést és az eredményes együttm?ködést?\nMiért nem elég a tudás – és hogyan lesz bel?le valódi\, hiteles transzformatív hatás?\n\n  \nVárjuk cégvezet?ket\, vállalati vezet?ket\, HR szakembereket\, akiket \n\nérdekel az egyéni és szervezeti fejlesztés és a hosszú távú gondolkodás és szervezeti viselkedésváltozás\,\nfontos számukra a hiteles vezetés és az emberi kapcsolatok min?sége\,\ninspirál a fejl?dés\, de nem akarnak trendek után futni – inkább alapelvekre építenének\,\nbetekintenének a több\, mint 35 éve töretlen népszer?ségnek örvend? program transzformatív hatása mögé\n\n  \nA kiemelked?en eredményes emberek 7 szokása\, mint fejlesztési folyamat olyan alapvet? emberi készségekkel ruházza fel a résztvev?ket\, mint az érzelmi intelligencia\, a proaktív problémamegoldás és önmagunk vezetése. A jelenkor gyorsan változó munkakörülményeihez igazodva a 7 szokás minden szinten (egyéni\, vezet?i\, szervezeti) mélyreható fejl?dést tesz lehet?vé. \n  \n  \nKamarai kapcsolattartó: Kovács Kata +36309851988 \n  \nA programon való részvétel ingyenes\, de regisztrációhoz kötött! \nJelentkezési határid?:   2025. június 17.  \nA találkozóra jelentkezem:    Jelentkezési ?rlap \n  \nPrinczné Ördögh Katalin \nKlubvezet? \n+36209374485 \n  \n  \nSzeli-Bognár Nóra\, Csányi Csaba\, Dobay Pál \nszervez?k \n  \n 
URL:https://cskik.hu/esemeny/human-klub-a-kiemelkeden-eredmenyes-emberek-7-szokasa-hatassal-lenni-masokra-tudatosan-ertekalapon/
END:VEVENT
END:VCALENDAR