BEGIN:VCALENDAR
VERSION:2.0
PRODID:-//CSKIK - ECPv6.15.20//NONSGML v1.0//EN
CALSCALE:GREGORIAN
METHOD:PUBLISH
X-WR-CALNAME:CSKIK
X-ORIGINAL-URL:https://cskik.hu
X-WR-CALDESC:Események CSKIK
REFRESH-INTERVAL;VALUE=DURATION:PT1H
X-Robots-Tag:noindex
X-PUBLISHED-TTL:PT1H
BEGIN:VTIMEZONE
TZID:Europe/Budapest
BEGIN:DAYLIGHT
TZOFFSETFROM:+0100
TZOFFSETTO:+0200
TZNAME:CEST
DTSTART:20230326T010000
END:DAYLIGHT
BEGIN:STANDARD
TZOFFSETFROM:+0200
TZOFFSETTO:+0100
TZNAME:CET
DTSTART:20231029T010000
END:STANDARD
BEGIN:DAYLIGHT
TZOFFSETFROM:+0100
TZOFFSETTO:+0200
TZNAME:CEST
DTSTART:20240331T010000
END:DAYLIGHT
BEGIN:STANDARD
TZOFFSETFROM:+0200
TZOFFSETTO:+0100
TZNAME:CET
DTSTART:20241027T010000
END:STANDARD
BEGIN:DAYLIGHT
TZOFFSETFROM:+0100
TZOFFSETTO:+0200
TZNAME:CEST
DTSTART:20250330T010000
END:DAYLIGHT
BEGIN:STANDARD
TZOFFSETFROM:+0200
TZOFFSETTO:+0100
TZNAME:CET
DTSTART:20251026T010000
END:STANDARD
END:VTIMEZONE
BEGIN:VEVENT
DTSTART;TZID=Europe/Budapest:20241003T000000
DTEND;TZID=Europe/Budapest:20241003T000000
DTSTAMP:20260425T191622
CREATED:20251209T151137Z
LAST-MODIFIED:20251209T151137Z
UID:29239-1727913600-1727913600@cskik.hu
SUMMARY:i3 klub - Generációváltás a vállalkozásoknál
DESCRIPTION:A Csongrád-Csanádi Kereskedelmi és Iparkamara i3 klubja 2015-ben már foglalkozott a cégátörökítés\, utódlás témakörével\, mely azóta is aktuális. Az akkor elkezd?dött folyamat továbbra is sok kis-és közepes vállalkozást érint. \nMagyarországon jelenleg 130 ezer családi vállalkozás m?ködik\, amelyek els? ízben tapasztalják meg a generációváltással járó kihívásokat. Mivel ennek itthon még nem alakult ki a vállalati kultúrája\, a cégek többségének nincs el?re megtervezett vezet?váltási terve\, ami a hosszú távú fennmaradásukat veszélyezteti. Ahhoz\, hogy ezek a vállalkozások egy vagy akár több generációváltást is túléljenek\, strukturált átadási folyamatokra van szükség\, melynek során minden egyes lépést tudatosan kell megtervezni és szervezetten lebonyolítani. Szeremcsésebb esetben van utód\,  de még így is a családi vállalkozás esetében az átadás-átvétel nem csupán gazdasági\, hanem mély érzelmi folyamat is\, ami tovább bonyolítja a helyzetet\, és konfliktusokat eredményez a különböz? generációk között. Amikor nincs utód\, vagy van\, de nem tud\, nem kíván részt venni a folyamatban\, szükség van ‘B’ tervre. El?adónk erre is tud megoldási javaslatokat tenni. \nGenerációváltás\, nem csak családi utódlással – Miért elengedhetetlen\, hogy cégvezet?ként id?ben felkészüljön? E területet ismerteti Laczkó Péter a Lawrence & Bennet Zrt. vezérigazgatója\, támpontokat ad a sikeres generációváltáshoz és megismerteti a lehetséges buktatókat is.  Az el?adást követ?en lehet?ség lesz megbeszélni a hallottakat\, kérdéseket feltenni\, esetleg megosztani saját tapasztalatokat. \nId?pont: 2024. október 3. (csütörtök) 10 óraHelyszín: CSKIK székház\, Szeged\, Párizsi krt. 8-12. \nProgramterv: \n10:00-10:05 Kaszás Anikó klubvezet? üdvözli a résztvev?ket.10:05-11:45 Generációváltás – Miért elengedhetetlen\, hogy cégvezet?ként id?ben felkészüljön? – Laczkó Péter a Lawrence & Bennet Zrt. vezérigazgatója11:45-12:30 Kötetlen beszélgetés\, kérdések\, tapasztalatok megosztása \nAz eseményen történ? részvétel ingyenes\, de regisztrációhoz kötött. Regisztráció megtehet? az alábbi felületen.  \n  \n  \n 
URL:https://cskik.hu/esemeny/i3-klub-generaciovaltas-a-vallalkozasoknal/
END:VEVENT
END:VCALENDAR