BEGIN:VCALENDAR
VERSION:2.0
PRODID:-//CSKIK - ECPv6.15.20//NONSGML v1.0//EN
CALSCALE:GREGORIAN
METHOD:PUBLISH
X-WR-CALNAME:CSKIK
X-ORIGINAL-URL:https://cskik.hu
X-WR-CALDESC:Események CSKIK
REFRESH-INTERVAL;VALUE=DURATION:PT1H
X-Robots-Tag:noindex
X-PUBLISHED-TTL:PT1H
BEGIN:VTIMEZONE
TZID:Europe/Budapest
BEGIN:DAYLIGHT
TZOFFSETFROM:+0100
TZOFFSETTO:+0200
TZNAME:CEST
DTSTART:20240331T010000
END:DAYLIGHT
BEGIN:STANDARD
TZOFFSETFROM:+0200
TZOFFSETTO:+0100
TZNAME:CET
DTSTART:20241027T010000
END:STANDARD
BEGIN:DAYLIGHT
TZOFFSETFROM:+0100
TZOFFSETTO:+0200
TZNAME:CEST
DTSTART:20250330T010000
END:DAYLIGHT
BEGIN:STANDARD
TZOFFSETFROM:+0200
TZOFFSETTO:+0100
TZNAME:CET
DTSTART:20251026T010000
END:STANDARD
BEGIN:DAYLIGHT
TZOFFSETFROM:+0100
TZOFFSETTO:+0200
TZNAME:CEST
DTSTART:20260329T010000
END:DAYLIGHT
BEGIN:STANDARD
TZOFFSETFROM:+0200
TZOFFSETTO:+0100
TZNAME:CET
DTSTART:20261025T010000
END:STANDARD
END:VTIMEZONE
BEGIN:VEVENT
DTSTART;TZID=Europe/Budapest:20250521T000000
DTEND;TZID=Europe/Budapest:20250521T000000
DTSTAMP:20260420T175346
CREATED:20251219T111321Z
LAST-MODIFIED:20251219T111321Z
UID:35308-1747785600-1747785600@cskik.hu
SUMMARY:Intelligens megoldások agrárvállalkozások számára - kétoldalú üzleti találkozó
DESCRIPTION:Az Újvidéki Nemzetközi Mez?gazdasági és Élelmiszeripari Vásár kísér?rendezvényeként a CED\, Szerbia Magyarországi Nagykövetsége és az Enterprise Europe Network hálózat szervezésében 2025 május 21-én szakmai konferencia és kétoldalú üzleti találkozó kerül megrendezésre Újvidéken Intelligens megoldások agrárvállalkozások számára címmel. \nId?pont: 2025. május 21. 11.00 – 17.00Helyszín: Újvidéki Vásár Kongresszusi Központ\, 6. sz. konferenciaterem (21000 Novi Sad (Újvidék)\, Hajduk Veljkova 11.) \nAz eseményen való részvétel ingyenes\, de el?zetes regisztrációhoz kötött! \nJelentkezési határid?: 2025. május 19. \nTovábbi részletek\, programRegisztráció \nKérjük részvételi szándékát a b2b@cskik.hu e-mail címen is jelezze.
URL:https://cskik.hu/esemeny/intelligens-megoldasok-agrarvallalkozasok-szamara-ketoldalu-uzleti-talalkozo/
END:VEVENT
END:VCALENDAR