BEGIN:VCALENDAR
VERSION:2.0
PRODID:-//CSKIK - ECPv6.15.20//NONSGML v1.0//EN
CALSCALE:GREGORIAN
METHOD:PUBLISH
X-WR-CALNAME:CSKIK
X-ORIGINAL-URL:https://cskik.hu
X-WR-CALDESC:Események CSKIK
REFRESH-INTERVAL;VALUE=DURATION:PT1H
X-Robots-Tag:noindex
X-PUBLISHED-TTL:PT1H
BEGIN:VTIMEZONE
TZID:Europe/Budapest
BEGIN:DAYLIGHT
TZOFFSETFROM:+0100
TZOFFSETTO:+0200
TZNAME:CEST
DTSTART:20240331T010000
END:DAYLIGHT
BEGIN:STANDARD
TZOFFSETFROM:+0200
TZOFFSETTO:+0100
TZNAME:CET
DTSTART:20241027T010000
END:STANDARD
BEGIN:DAYLIGHT
TZOFFSETFROM:+0100
TZOFFSETTO:+0200
TZNAME:CEST
DTSTART:20250330T010000
END:DAYLIGHT
BEGIN:STANDARD
TZOFFSETFROM:+0200
TZOFFSETTO:+0100
TZNAME:CET
DTSTART:20251026T010000
END:STANDARD
BEGIN:DAYLIGHT
TZOFFSETFROM:+0100
TZOFFSETTO:+0200
TZNAME:CEST
DTSTART:20260329T010000
END:DAYLIGHT
BEGIN:STANDARD
TZOFFSETFROM:+0200
TZOFFSETTO:+0100
TZNAME:CET
DTSTART:20261025T010000
END:STANDARD
END:VTIMEZONE
BEGIN:VEVENT
DTSTART;TZID=Europe/Budapest:20250624T000000
DTEND;TZID=Europe/Budapest:20250625T000000
DTSTAMP:20260421T221518
CREATED:20251219T111340Z
LAST-MODIFIED:20251219T111340Z
UID:35332-1750723200-1750809600@cskik.hu
SUMMARY:International Railway Brokerage Event 2025
DESCRIPTION:Az Enterprise Europe Network Hauts-de-France és az i-Trans versenyképességi klaszter közös szervezésében partnerkeres? rendezvényre kerül sor a SIFER 2025 nemzetközi vasúti kiállítás keretében. A Franciaország egyetlen\, kizárólag a vasúti piacra fókuszáló eseménye\, a 14. nemzetközi vasúti kiállítással egy id?ben zajlik majd a lille-i Grand Palais-ban\, ígérve egyedülálló üzleti és innovációs lehet?ségeket. \nA Nemzetközi Vasúti Partnerkeres? Rendezvény 2025 kivételes platformot biztosít kis- és közepes vállalkozások\, startupok\, nagyobb vállalatok\, valamint kutatóintézetek számára\, hogy új üzleti partnereket találjanak\, határokon átnyúló együttm?ködéseket kezdeményezzenek\, és hatékonyan osszák meg innovatív technológiáikat. \nA rendezvény kiemelt témakörei: \n\nSzemély- és áruszállító gördül?állomány\nVágány és infrastruktúra\nJárm?vön belüli komfort\nDíjbeszedési technológiák és termékek\nUtasinformáció\nJelz?- és vonatvezérl? rendszerek és berendezések\n\nMiért érdemes részt venni? \nA találkozó ideális alkalom a vasúti iparágon belüli hálózat b?vítésére\, potenciális partnerekkel és ügyfelekkel való találkozásra. Különösen ajánlott azoknak a regionális vállalatoknak\, amelyek szeretnék: \n\nMegismerni a piaci trendeket és innovációkat\nÜzleti kapcsolataikat fejleszteni és/vagy er?síteni\nÚj kereskedelmi és technológiai partnereket találni\nEgyüttm?ködést kialakítani nemzetközi vállalatokkal\n\nTovábbi információk a rendezvényr?l és a regisztrációról a következ? linken érhet?k el: https://www.b2match.com/e/international-railway-brokerage-event-2025. \nKérdés esetén forduljanak hozzánk bizalommal az eenszeged@cskik.hu email címen.
URL:https://cskik.hu/esemeny/international-railway-brokerage-event-2025/
END:VEVENT
END:VCALENDAR