BEGIN:VCALENDAR
VERSION:2.0
PRODID:-//CSKIK - ECPv6.15.20//NONSGML v1.0//EN
CALSCALE:GREGORIAN
METHOD:PUBLISH
X-WR-CALNAME:CSKIK
X-ORIGINAL-URL:https://cskik.hu
X-WR-CALDESC:Események CSKIK
REFRESH-INTERVAL;VALUE=DURATION:PT1H
X-Robots-Tag:noindex
X-PUBLISHED-TTL:PT1H
BEGIN:VTIMEZONE
TZID:Europe/Budapest
BEGIN:DAYLIGHT
TZOFFSETFROM:+0100
TZOFFSETTO:+0200
TZNAME:CEST
DTSTART:20240331T010000
END:DAYLIGHT
BEGIN:STANDARD
TZOFFSETFROM:+0200
TZOFFSETTO:+0100
TZNAME:CET
DTSTART:20241027T010000
END:STANDARD
BEGIN:DAYLIGHT
TZOFFSETFROM:+0100
TZOFFSETTO:+0200
TZNAME:CEST
DTSTART:20250330T010000
END:DAYLIGHT
BEGIN:STANDARD
TZOFFSETFROM:+0200
TZOFFSETTO:+0100
TZNAME:CET
DTSTART:20251026T010000
END:STANDARD
BEGIN:DAYLIGHT
TZOFFSETFROM:+0100
TZOFFSETTO:+0200
TZNAME:CEST
DTSTART:20260329T010000
END:DAYLIGHT
BEGIN:STANDARD
TZOFFSETFROM:+0200
TZOFFSETTO:+0100
TZNAME:CET
DTSTART:20261025T010000
END:STANDARD
END:VTIMEZONE
BEGIN:VEVENT
DTSTART;TZID=Europe/Budapest:20250204T000000
DTEND;TZID=Europe/Budapest:20250213T000000
DTSTAMP:20260419T183408
CREATED:20251219T105918Z
LAST-MODIFIED:20251219T105918Z
UID:35074-1738627200-1739404800@cskik.hu
SUMMARY:ISE Open Innovation Challenge 2025
DESCRIPTION:Az ISE Open Innovation Challenge 2025 egy nemzetközi B2B találkozó\, amelynek célja\, hogy a vállalatok\, KKV-k és egyéb szervezetek (kihívásgazdák) új technológiákat és megoldásokat találjanak. \nRészvételi lehet?ségek: \n\n\nSzemélyes találkozók: 2025. február 4. és 6. között a barcelonai ISE Kongresszus helyszínén. \n\n\nOnline találkozók: 2025. február 11. és 13. között. \n\n\nJelentkezési határid? és találkozókérések leadása: \n\n\n\nfebruár 13.\n\n\n\nMiért érdemes részt venni? \n\n\nKapcsolatépítés KKV-kkal\, vállalatokkal és szervezetekkel\, akik új technológiákat és megoldásokat keresnek. \n\n\nSzemélyre szabott B2B találkozók az Ön érdekl?dése és elérhet?sége alapján. \n\n\nIngyenes belépés az ISE Kongresszusra minden résztvev? számára\, aki legalább egy személyes találkozót ütemez a platformon keresztül. \n\n\nA részvétel díjmentes. \n\n\nHogyan lehet részt venni? \n\n\nRegisztráljon a platformon 2025. február 13-ig\, és töltse ki vállalati profilját\, részletesen bemutatva termékeit\, szolgáltatásait vagy szaktudását\, amelyek kapcsolódnak a platformon felsorolt kihívásokhoz. \n\n\nVálassza ki\, hogy személyes találkozókon\, online találkozókon vagy mindkett?n szeretne részt venni. A személyes találkozók a barcelonai ISE Kongresszuson kerülnek megrendezésre (Fira de Barcelona – Gran Vía helyszín – Katalónia stand – Kiállítási csarnokok\, Congress Square 100). \n\n\nA regisztráció befejezése és legalább egy kihíváshoz való igazodás után profilját jóváhagyjuk. \n\n\nA jóváhagyás után kérhet találkozókat az Önt érdekl? KKV-kkal\, vállalatokkal és szervezetekkel a megoldások megvitatására. \n\n\nHa a kihívásgazda elfogadja a kérését\, értesítést kap. A végs? döntés a kihívást bemutató KKV-n vagy vállalaton múlik. \n\n\nTovábbi információk: \n\n\nAz eseményt az ACCIÓ szervezi\, amely a Katalán Kormány Vállalkozási és Munkaügyi Minisztériumának részlege\, együttm?ködve az Enterprise Europe Network hálózattal. \n\n\nAz ISE Kongresszus a világ vezet? AV és rendszereintegration kiállítása\, amely 2025. február 4. és 7. között kerül megrendezésre Barcelonában. \n\n\nTovábbi részletek és regisztráció a hivatalos weboldalon található: https://ise-2025-open-innovation-challenge.b2match.io/
URL:https://cskik.hu/esemeny/ise-open-innovation-challenge-2025/
END:VEVENT
END:VCALENDAR