BEGIN:VCALENDAR
VERSION:2.0
PRODID:-//CSKIK - ECPv6.15.20//NONSGML v1.0//EN
CALSCALE:GREGORIAN
METHOD:PUBLISH
X-WR-CALNAME:CSKIK
X-ORIGINAL-URL:https://cskik.hu
X-WR-CALDESC:Események CSKIK
REFRESH-INTERVAL;VALUE=DURATION:PT1H
X-Robots-Tag:noindex
X-PUBLISHED-TTL:PT1H
BEGIN:VTIMEZONE
TZID:Europe/Budapest
BEGIN:DAYLIGHT
TZOFFSETFROM:+0100
TZOFFSETTO:+0200
TZNAME:CEST
DTSTART:20240331T010000
END:DAYLIGHT
BEGIN:STANDARD
TZOFFSETFROM:+0200
TZOFFSETTO:+0100
TZNAME:CET
DTSTART:20241027T010000
END:STANDARD
BEGIN:DAYLIGHT
TZOFFSETFROM:+0100
TZOFFSETTO:+0200
TZNAME:CEST
DTSTART:20250330T010000
END:DAYLIGHT
BEGIN:STANDARD
TZOFFSETFROM:+0200
TZOFFSETTO:+0100
TZNAME:CET
DTSTART:20251026T010000
END:STANDARD
BEGIN:DAYLIGHT
TZOFFSETFROM:+0100
TZOFFSETTO:+0200
TZNAME:CEST
DTSTART:20260329T010000
END:DAYLIGHT
BEGIN:STANDARD
TZOFFSETFROM:+0200
TZOFFSETTO:+0100
TZNAME:CET
DTSTART:20261025T010000
END:STANDARD
END:VTIMEZONE
BEGIN:VEVENT
DTSTART;TZID=Europe/Budapest:20251211T083000
DTEND;TZID=Europe/Budapest:20251211T133000
DTSTAMP:20260420T125053
CREATED:20251210T123808Z
LAST-MODIFIED:20251212T144918Z
UID:31273-1765441800-1765459800@cskik.hu
SUMMARY:Kezdő e-építési napló képzés a kamarában - 2025.12.11.
DESCRIPTION:A Csongrád-Csanádi Kereskedelmi és Iparkamara DmG Oktatási Nonprofit Kft-je szervezésében ismét megrendezésre kerül az e-építési napló használatát segít? gyakorlati képzés. A bemutató során megismerkedhetnek az elektronikus építési napló vezetését érint? jogszabályi el?írásokkal\, a szerepkörökkel\, a rendszerfunkciókkal és a teljes folyamat f? lépéseivel. Oktatónk egy gyakorlati példán keresztül végig vezeti a résztvev?ket az e-napló készenlétbe helyezését?l a lezárásáig. \nA részvételt azoknak ajánljuk\, akik még nem vezettek elektronikus építési naplót és oktatói segítséggel\, kiscsoportos képzés keretében szeretnék megismerni a program használatát. \nKépzés id?pontja:\n2025. december 11. (csütörtök) 8.30-13.30 \n  \nHelyszín:\nKamarai Székház (Szeged\, Párizsi krt. 8-12.) II. emeleti Lilin Károly terem (215.) \nEl?adó:\nBényi Mihály\, okleveles épít?- és építészmérnök \nA képzés díja:\nA gyakorlati képzésen való részvétel díja 31.496 Ft + ÁFA / f? (Bruttó 40.000 Ft/f?).\nA CSKIK hátralékkal nem rendelkez?\, önkéntes tagjai számára  25.197 Ft + ÁFA / f? (Bruttó 32.000 Ft/f?).\nAzonos költségvisel? esetén 3 f?t?l 10% kedvezményt biztosítunk. \nA részvételi díj Kamaránk DmG Oktatási Nonprofit Kft-je 10980006-00000010-58170006 számú bankszámlájára történ? utalással teljesíthet?\, a közlemény rovatban „Kezd? e-napló képzés” szöveg feltüntetésével.\nA számlát az utalást követ?en\, a képzés napján fogjuk átadni a résztvev?nek. \nA képzés korlátozott számú résztvev?vel kerül megrendezésre.\nA jelentkezéseket a pénzügyi teljesítések sorrendjében vesszük figyelembe. \nSokan összetévesztik a CSKIK önkéntes tagságát a gazdálkodó szervezet kötelez? regisztrációjával. A kötelez? regisztráció független a gazdasági és szakmai kamarai tagságtól\, a kereskedelmi és iparkamarai tagság továbbra is önkéntes maradt\, így a regisztrált vállalkozások nyilvántartása vételükkel nem válnak kamarai taggá. A gazdasági kamarákról szóló törvény 2012. január 1-t?l\, a nem agrár tevékenységet folytató gazdálkodó szervezetek\, kötelesek kamarai nyilvántartásba vételüket kezdeményezni\, a kamarai közfeladatok ellátásához évente március 31-ig 5.000\,- Ft kamarai hozzájárulást fizetni\, a Kamara pedig köteles részükre a törvényben meghatározott szolgáltatások térítésmentesen nyújtani. További információ  EZEN a linken  található. \n  \nA részvétel feltétele: \n\nel?zetes regisztráció a képzésre\nrészvételi díj teljesítése\nsaját laptop (WIFI képes)\n\nA képzéshez internetes hozzáférést biztosítunk. \n  \nA feln?ttképzésr?l szóló 2013. évi LXXVII. törvény értelmében a képzés a feln?ttképzési rendszer szabályai szerint kerül megszervezésre. A DmG Oktatási Nonprofit Kft. nyilvántartott\, a 2013. évi LXXVII. törvény 2. A és B §-aiban meghatározott feln?ttképzési engedéllyel rendelkez? intézmény. Feln?ttképzési nyilvántartásba vételi száma: B/2020/000338. \nA Csongrád-Csanádi Kereskedelmi és Iparkamara 100 %-os tulajdonában lév? DmG Oktatási Nonprofit Kft. adatkezelési tájékoztatója ERRE A LINKRE kattintva érhet? el. \n  \nAmennyiben haladó e-építési napló képzés érdekelné\, kérjük\, jelezze a madarasi.beatrix@cskik.hu e-mail címre. \n  \nFelmerül? kérdéseivel keresse munkatársunkat: Fehérné Madarasi Beatrix 30/938-3579 \nA részvétel lemondása csak írásban lehetséges a  madarasi.beatrix@cskik.hu  e-mail címen legkés?bb 2 munkanappal a képzést megel?z?en. Amennyiben ez nem történik meg\, sajnos nem áll módunkban eltekinteni a részvételi díjtól. \nA kezd? képzésre az alábbi ?rlap kitöltésével jelentkezhet: (Amennyiben szabad hely hiányában nem tud jelentkezni a képzésre\, kérjük\, jelezze részvételi szándékát a  madarasi.beatrix@cskik.hu  e-mail címre.)
URL:https://cskik.hu/esemeny/kezd-e-epitesi-naplo-kepzes-a-kamaraban-2025-12-11/
LOCATION:online
END:VEVENT
END:VCALENDAR