BEGIN:VCALENDAR
VERSION:2.0
PRODID:-//CSKIK - ECPv6.15.20//NONSGML v1.0//EN
CALSCALE:GREGORIAN
METHOD:PUBLISH
X-WR-CALNAME:CSKIK
X-ORIGINAL-URL:https://cskik.hu
X-WR-CALDESC:Események CSKIK
REFRESH-INTERVAL;VALUE=DURATION:PT1H
X-Robots-Tag:noindex
X-PUBLISHED-TTL:PT1H
BEGIN:VTIMEZONE
TZID:Europe/Budapest
BEGIN:DAYLIGHT
TZOFFSETFROM:+0100
TZOFFSETTO:+0200
TZNAME:CEST
DTSTART:20240331T010000
END:DAYLIGHT
BEGIN:STANDARD
TZOFFSETFROM:+0200
TZOFFSETTO:+0100
TZNAME:CET
DTSTART:20241027T010000
END:STANDARD
BEGIN:DAYLIGHT
TZOFFSETFROM:+0100
TZOFFSETTO:+0200
TZNAME:CEST
DTSTART:20250330T010000
END:DAYLIGHT
BEGIN:STANDARD
TZOFFSETFROM:+0200
TZOFFSETTO:+0100
TZNAME:CET
DTSTART:20251026T010000
END:STANDARD
BEGIN:DAYLIGHT
TZOFFSETFROM:+0100
TZOFFSETTO:+0200
TZNAME:CEST
DTSTART:20260329T010000
END:DAYLIGHT
BEGIN:STANDARD
TZOFFSETFROM:+0200
TZOFFSETTO:+0100
TZNAME:CET
DTSTART:20261025T010000
END:STANDARD
END:VTIMEZONE
BEGIN:VEVENT
DTSTART;TZID=Europe/Budapest:20250612T000000
DTEND;TZID=Europe/Budapest:20250613T000000
DTSTAMP:20260421T204330
CREATED:20251219T111336Z
LAST-MODIFIED:20251219T111336Z
UID:35326-1749686400-1749772800@cskik.hu
SUMMARY:Könyvel?kkel a duális képzésért - 2 alkalmas ingyenes felkészítés
DESCRIPTION:MEGHÍVÓ \n„Könyvel?kkel a duális képzésért” \nProjektszám: NFA-KA-KIM-6/2024/TK/05 \n(2 alkalmas el?adássorozat duális képz?helyek könyvel?i és tanulók foglalkoztatásáért felel?s munkatársai számára) \nA Csongrád-Csanádi Kereskedelmi és Iparkamara a duális képz?helyek\, illetve a leend? duális képz?helyek részére jogi és pénzügyi ismeretek tartalommal 2 alkalmas ingyenes felkészítést szervez\, melyre szeretettel várjuk az érdekelt vállalkozások gazdasági\, humáner?-politikai és – fejlesztési területen dolgozó munkatársait. \nAz el?adások ideje: 2025. június 12. és június 13.  \nHelyszín: Csongrád-Csanádi Kereskedelmi és Iparkamara Székháza\, II. emelet \n                          (6721 Szeged\, Párizsi krt. 8-12.) \n2025.06.12. (csütörtök)  program: \n 8.30-t?l           Regisztráció \n 9.00-13.00     Felkészülés a kamarai hatósági ellen?rzésre – A duális képz?hellyé válás folyamata. Jogok és kötelezettségek a szakirányú oktatás során. A szakképzési munkaszerz?dés kötése és megszüntetése. A duális képz?hely adminisztrációs kötelezettségei. A képzési program és a min?ségirányítási rendszer szabályai. \n El?adó: Iritz-Fekete Lívia  duális képzési tanácsadó \n  \n13.00 –   kérdések\, konzultációs lehet?ség az el?adókkal \n  \n2025.06.13. (péntek)  program: \n 8.30-tól            Regisztráció \n 9.00-13.00     A szakirányú oktatás finanszírozása és munkaügyi szabályai. \n El?adó: Balog Adrienn (közgazdász – mérlegképes könyvel?\, a Békés Vármegyei Kereskedelmi és Iparkamara Szolgáltatási és Gazdasági vezet?je)  \n  \n13.00 –           Konzultációs lehet?ség az el?adóval \nAz el?adások célja\, hogy a résztvev?k olyan gyakorlatias ismereteket kapjanak\, amely alapján: \n\nátlátják a képz?hellyé válás folyamatát\nmegismerik a tanulók és a képz?helyek jogait és kötelezettségeit\náttekinthetik a duális képzés költségeinek elszámolási lehet?ségeit\nelsajátítják a szakirányú oktatáshoz kapcsolódó elszámolás adminisztrációs követelményeit.\n\n  \nAz el?adásokon való részvétel ingyenes\, de regisztrációhoz kötött. Kérem\, hogy az alábbi ?rlapok  kitöltésével jelezze részvételi szándékát: \nA JÚNIUS 12-i PROGRAMRA JELENTKEZEM \nA JÚNIUS 13-i PROGRAMRA JELENTKEZEM \n  \n  \nA rendezvénnyel kapcsolatban b?vebb információt Iritz-Fekete Lívia nyújt a fekete.livia@cskik.hu e-mailen vagy a 0630-4551271 telefonszámon.
URL:https://cskik.hu/esemeny/konyvelkkel-a-dualis-kepzesert-2-alkalmas-ingyenes-felkeszites/
END:VEVENT
END:VCALENDAR