BEGIN:VCALENDAR
VERSION:2.0
PRODID:-//CSKIK - ECPv6.15.20//NONSGML v1.0//EN
CALSCALE:GREGORIAN
METHOD:PUBLISH
X-WR-CALNAME:CSKIK
X-ORIGINAL-URL:https://cskik.hu
X-WR-CALDESC:Események CSKIK
REFRESH-INTERVAL;VALUE=DURATION:PT1H
X-Robots-Tag:noindex
X-PUBLISHED-TTL:PT1H
BEGIN:VTIMEZONE
TZID:Europe/Budapest
BEGIN:DAYLIGHT
TZOFFSETFROM:+0100
TZOFFSETTO:+0200
TZNAME:CEST
DTSTART:20240331T010000
END:DAYLIGHT
BEGIN:STANDARD
TZOFFSETFROM:+0200
TZOFFSETTO:+0100
TZNAME:CET
DTSTART:20241027T010000
END:STANDARD
BEGIN:DAYLIGHT
TZOFFSETFROM:+0100
TZOFFSETTO:+0200
TZNAME:CEST
DTSTART:20250330T010000
END:DAYLIGHT
BEGIN:STANDARD
TZOFFSETFROM:+0200
TZOFFSETTO:+0100
TZNAME:CET
DTSTART:20251026T010000
END:STANDARD
BEGIN:DAYLIGHT
TZOFFSETFROM:+0100
TZOFFSETTO:+0200
TZNAME:CEST
DTSTART:20260329T010000
END:DAYLIGHT
BEGIN:STANDARD
TZOFFSETFROM:+0200
TZOFFSETTO:+0100
TZNAME:CET
DTSTART:20261025T010000
END:STANDARD
END:VTIMEZONE
BEGIN:VEVENT
DTSTART;TZID=Europe/Budapest:20250408T000000
DTEND;TZID=Europe/Budapest:20250408T000000
DTSTAMP:20260421T183756
CREATED:20251219T110432Z
LAST-MODIFIED:20251219T110432Z
UID:35200-1744070400-1744070400@cskik.hu
SUMMARY:Magyar–Dán Lakberendezési Üzletember-találkozó
DESCRIPTION:Magyarország Koppenhágai Nagykövetsége\, a HEPA Magyar Exportfejlesztési Ügynökség és az Erhvervshus Hovedstaden\, mint az Enterprise Europe Network tagjai\, tisztelettel meghívják Önöket a Magyar–Dán Lakberendezési Üzletember-találkozóra és Hálózati Fogadásra\, melynek helyszíne Magyarország nagykövetének rezidenciája. \nBemutatkozó kreatív és gyártó cégek: \n\n\nThe Wallpaper Factory / TAMAL ART: környezetbarát\, PVC-mentes tapétákat\, üvegbútorokat\, autófóliákat\, textíliákat\, ponyvákat\, kültéri és m?b?r anyagokat\, valamint más dekorációs elemeket tervez és gyárt egyedi ügyféligények alapján.További információ: katalógus 1\, katalógus 2 \n\n\nPRINTEXTIL: ruházati textíliák és lakástextilek tervezése és gyártása.További információ: katalógus \n\n\nVIAPLANT: a természetes formavilágot és fenntarthatóságot ötvözi\, újrahasznosított organikus anyagokból innovatív kompozit anyagot fejlesztett ki bels?építészeti alkalmazásokhoz (pl. lámpák\, asztalok\, falburkolatok).További információ: katalógus \n\n\nMULTIFELT: a közép- és kelet-európai régió egyetlen gyapjúfilcgyárának tulajdonosa és üzemeltet?je. A gyapjúfilc alapanyagok mellett akusztikai megoldásokat (panelek\, térelválasztók) is kínálnak\, egyedi igények szerint is.További információ: katalógus \n\n\nROVITEX: széles választékban gyárt függönyöket és dekorációs anyagokat kollekció vagy egyedi megoldás formájában. Emellett speciális m?szaki textíliák – például lángálló\, antibakteriális\, akusztikus vagy h?szigetel? – gyártásában is er?sek.További információ: katalógus \n\n\nPANFA – Pannon Fa- és Bútoripari Klaszter: tagjai termékeket és szolgáltatásokat kínálnak a faipari szektor szerepl?inek és magánszemélyeknek egyaránt. Tevékenységük lefedi a faalapú termékek teljes körét – a tervezést?l a kivitelezésig\, a teljes épület berendezéséig.További információ: katalógus\, szolgáltatások és tagok \n\n\nSmart City megoldásokat kínáló vállalat: \n\nVISIBLE CROSSING – SafeXOne: nagy pontosságú intelligens gyalogosvédelmi rendszer\, IoT és Smart funkciókkal. Növeli a gyalogosok láthatóságát az átkel?knél\, így segít megel?zni a baleseteket.További információ: katalógus\n\nKérjük\, részvételi szándékukat 2025. március 28-ig jelezzék a következ? e-mail címen: businessevent.cph@mfa.gov.hu \nTovábbi kérdés esetén keressék bizalommal Baranyai Márk külgazdasági attasét az alábbi e-mail címen: Mark.Baranyai@mfa.gov.hu.
URL:https://cskik.hu/esemeny/magyar-dan-lakberendezesi-uzletember-talalkozo/
END:VEVENT
END:VCALENDAR