BEGIN:VCALENDAR
VERSION:2.0
PRODID:-//CSKIK - ECPv6.15.20//NONSGML v1.0//EN
CALSCALE:GREGORIAN
METHOD:PUBLISH
X-WR-CALNAME:CSKIK
X-ORIGINAL-URL:https://cskik.hu
X-WR-CALDESC:Események CSKIK
REFRESH-INTERVAL;VALUE=DURATION:PT1H
X-Robots-Tag:noindex
X-PUBLISHED-TTL:PT1H
BEGIN:VTIMEZONE
TZID:Europe/Budapest
BEGIN:DAYLIGHT
TZOFFSETFROM:+0100
TZOFFSETTO:+0200
TZNAME:CEST
DTSTART:20240331T010000
END:DAYLIGHT
BEGIN:STANDARD
TZOFFSETFROM:+0200
TZOFFSETTO:+0100
TZNAME:CET
DTSTART:20241027T010000
END:STANDARD
BEGIN:DAYLIGHT
TZOFFSETFROM:+0100
TZOFFSETTO:+0200
TZNAME:CEST
DTSTART:20250330T010000
END:DAYLIGHT
BEGIN:STANDARD
TZOFFSETFROM:+0200
TZOFFSETTO:+0100
TZNAME:CET
DTSTART:20251026T010000
END:STANDARD
BEGIN:DAYLIGHT
TZOFFSETFROM:+0100
TZOFFSETTO:+0200
TZNAME:CEST
DTSTART:20260329T010000
END:DAYLIGHT
BEGIN:STANDARD
TZOFFSETFROM:+0200
TZOFFSETTO:+0100
TZNAME:CET
DTSTART:20261025T010000
END:STANDARD
END:VTIMEZONE
BEGIN:VEVENT
DTSTART;TZID=Europe/Budapest:20251121T000000
DTEND;TZID=Europe/Budapest:20251121T000000
DTSTAMP:20260420T070520
CREATED:20251210T123808Z
LAST-MODIFIED:20251210T123808Z
UID:31276-1763683200-1763683200@cskik.hu
SUMMARY:Magyar-Szerb Gazdasági Fórum és Üzletember-találkozó
DESCRIPTION:A Magyar-Szerb Kereskedelmi és lparkamara\, a Szerbiai Gazdasági Kamarák\, Mórahalom Önkormányzata és a CSKIK Mórahalom Térségi Szervezete közösen Magyar-Szerb Gazdasági Fórumot és Üzletember-találkozót szervez 2025. november 21-én Mórahalmon. \nId?pont: 2025. november 21. (péntek) 11:00Helyszín: Kolo Szerb Kulturális Központ – Mórahalom\, Röszkei út 44. \nProgramtervezet: \n11.00 – 11.30 Regisztráció11.30 – 11.45 Köszönt?k – Nógrádi Zoltán\, Mórahalom Polgármestere                                        Török György\, Magyar-Szerb Kereskedelmi Kamara elnöke                                        Fehér Éva\, Csongrád–Csanádi Kereskedelmi és Iparkamara Mórahalmi Térségi elnöke11.45 – 13.30 Szakmai el?adások szakemberek részvételével (Dr.K?kuti Attila\, Magyar Kamara Alelnöke\, Kaszás Anikó\, a MISZK alelnöke\, Varga Imre\, Magyar-Nyugat Balkáni Tanács ügyvezet? alelnöke)13.30 – 13.40 Csongrád–Csanádi Kereskedelmi és Iparkamara Mórahalmi Térség Gazdaságáért díj átadása13.40 – 14.00 Svédasztalos ebéd helyben14.00 – 15.00 Üzletember találkozó \n  \nA fórumon való részvétel ingyenes\, de el?zetes regisztrációhoz kötött. \nRegisztrálni az mszkik@mszkik.hu e-mail címen lehet a résztvev? vállalkozás adatainak (név\, székhely\, e-mail cím\, telefonszám\, f? tevékenység\, résztvev?k neve) megküldésével legkés?bb 2025. november 17-ig. \n 
URL:https://cskik.hu/esemeny/magyar-szerb-gazdasagi-forum-es-uzletember-talalkozo/
END:VEVENT
END:VCALENDAR