BEGIN:VCALENDAR
VERSION:2.0
PRODID:-//CSKIK - ECPv6.15.20//NONSGML v1.0//EN
CALSCALE:GREGORIAN
METHOD:PUBLISH
X-WR-CALNAME:CSKIK
X-ORIGINAL-URL:https://cskik.hu
X-WR-CALDESC:Események CSKIK
REFRESH-INTERVAL;VALUE=DURATION:PT1H
X-Robots-Tag:noindex
X-PUBLISHED-TTL:PT1H
BEGIN:VTIMEZONE
TZID:Europe/Budapest
BEGIN:DAYLIGHT
TZOFFSETFROM:+0100
TZOFFSETTO:+0200
TZNAME:CEST
DTSTART:20240331T010000
END:DAYLIGHT
BEGIN:STANDARD
TZOFFSETFROM:+0200
TZOFFSETTO:+0100
TZNAME:CET
DTSTART:20241027T010000
END:STANDARD
BEGIN:DAYLIGHT
TZOFFSETFROM:+0100
TZOFFSETTO:+0200
TZNAME:CEST
DTSTART:20250330T010000
END:DAYLIGHT
BEGIN:STANDARD
TZOFFSETFROM:+0200
TZOFFSETTO:+0100
TZNAME:CET
DTSTART:20251026T010000
END:STANDARD
BEGIN:DAYLIGHT
TZOFFSETFROM:+0100
TZOFFSETTO:+0200
TZNAME:CEST
DTSTART:20260329T010000
END:DAYLIGHT
BEGIN:STANDARD
TZOFFSETFROM:+0200
TZOFFSETTO:+0100
TZNAME:CET
DTSTART:20261025T010000
END:STANDARD
END:VTIMEZONE
BEGIN:VEVENT
DTSTART;TZID=Europe/Budapest:20250407T000000
DTEND;TZID=Europe/Budapest:20250407T000000
DTSTAMP:20260421T173130
CREATED:20251219T110352Z
LAST-MODIFIED:20251219T110352Z
UID:35182-1743984000-1743984000@cskik.hu
SUMMARY:Magyarország és Törökország B2B találkozók
DESCRIPTION:2025. április 06-09. között az Eastern Anatolian Exporters Association Budapesten üzleti találkozókat\, helyszíni céglátogatásokat és vállalati látogatásokat szervez. A delegáció részt vesz a Construma Building-Construction Technologies Vásáron\, amelyet 2025. április 9-13. között rendeznek meg Budapesten. A magyar cégek 2025. április 07-én (hétf?n) 10:00-18:00 óra között kapnak arra lehet?séget\, hogy konzultálhassanak a török cégekkel. \nA delegációban részt vev?\, az épít?iparban m?köd? vállalatok listája megtalálható az esemény honlapján: https://www.b2b-hungary.org/hu. \nAz Eastern Anatolia Exporters Association a tevékenységi körébe tartozó vállalatok külkereskedelmi folyamatait irányító\, a Török Köztársaság Kereskedelmi Minisztériuma alatt m?köd? szervezet. Az év folyamán szinte minden hónapban kereskedelmi delegációkat szerveznek különböz? országokba különböz? ágazatokban. \nMagyarország épít?ipari ágazata az elmúlt években jelent?sen fejl?dött\, és vonzó lehet?ségeket kínál mind a helyi\, mind a nemzetközi befektet?k számára. Az ország központi fekvésének és er?s logisztikai hálózatának köszönhet?en fontos tranzitpont Nyugat- és Kelet-Európa között. A lakásépítési ágazatban nagy a kereslet\, különösen az olyan nagyvárosokban\, mint Budapest. A kereskedelmi ingatlanszektor is jelent?s növekedést mutat. Különösen az olyan projektek\, mint az irodaházak\, bevásárlóközpontok és logisztikai raktárak kínálnak vonzó lehet?ségeket a befektet?k számára. \nTovábbi információ Az esemény honlapján IDE KATTINTVA\, továbbá az esemény meghívóján IDE KATTINTVA található.
URL:https://cskik.hu/esemeny/magyarorszag-es-torokorszag-b2b-talalkozok-2/
END:VEVENT
END:VCALENDAR