BEGIN:VCALENDAR
VERSION:2.0
PRODID:-//CSKIK - ECPv6.15.20//NONSGML v1.0//EN
CALSCALE:GREGORIAN
METHOD:PUBLISH
X-WR-CALNAME:CSKIK
X-ORIGINAL-URL:https://cskik.hu
X-WR-CALDESC:Események CSKIK
REFRESH-INTERVAL;VALUE=DURATION:PT1H
X-Robots-Tag:noindex
X-PUBLISHED-TTL:PT1H
BEGIN:VTIMEZONE
TZID:Europe/Budapest
BEGIN:DAYLIGHT
TZOFFSETFROM:+0100
TZOFFSETTO:+0200
TZNAME:CEST
DTSTART:20230326T010000
END:DAYLIGHT
BEGIN:STANDARD
TZOFFSETFROM:+0200
TZOFFSETTO:+0100
TZNAME:CET
DTSTART:20231029T010000
END:STANDARD
BEGIN:DAYLIGHT
TZOFFSETFROM:+0100
TZOFFSETTO:+0200
TZNAME:CEST
DTSTART:20240331T010000
END:DAYLIGHT
BEGIN:STANDARD
TZOFFSETFROM:+0200
TZOFFSETTO:+0100
TZNAME:CET
DTSTART:20241027T010000
END:STANDARD
BEGIN:DAYLIGHT
TZOFFSETFROM:+0100
TZOFFSETTO:+0200
TZNAME:CEST
DTSTART:20250330T010000
END:DAYLIGHT
BEGIN:STANDARD
TZOFFSETFROM:+0200
TZOFFSETTO:+0100
TZNAME:CET
DTSTART:20251026T010000
END:STANDARD
END:VTIMEZONE
BEGIN:VEVENT
DTSTART;TZID=Europe/Budapest:20241113T000000
DTEND;TZID=Europe/Budapest:20241114T000000
DTSTAMP:20260420T085555
CREATED:20251209T150723Z
LAST-MODIFIED:20251209T150723Z
UID:29197-1731456000-1731542400@cskik.hu
SUMMARY:Match4Industry üzleti találkozó
DESCRIPTION:Kocaeli-ben a török feldolgozóipar fellegvárában kerül megrendezésre 2024. november 13-14-én a MAtch4Industry üzleti találkozó. Az esemény az ABIGEM East Marmara szervezésében a Kocaeli Iparkamarával és az Enterprise Europe hálózattal együttm?ködésben kerül megrendezésre. \nA találkozó id?pontja: 2024. november 13-14.Helyszín: Izmit/Kocaeli\, Törökország (helyszíni részvétel? esemény)Jelentkezési határid?: 2024. november 6.Az esemény linkje \nSzektorok: \n\nautóipari beszállítás\nfémipar és gépgyártás\nm?anyag és gumiipar\ngumiabroncsok\nvegyipari termékek (autóipari festékek\, bevonatok és autóápolási termékek)\népít?ipar és épít?anyagok\nenergiaszektor\nelektromosság-elektronika\nIKT\n\nAz üzleti találkozó által kínált lehet?ségek: \n\nkétoldalú üzleti megbeszélések\núj piacok és üzleti lehet?ségek felfedezése Törökországban és nemzetközi szinten\núj termékek és megoldások fejlesztéséhez innovatív ötletek felfedezése\nvezet? vállalkozások ipari kapacitásának\, szakértelmének és innovációjának feltérképezése a helyszíni látogatások során\n\nKapcsolódó szolgáltatások: \n\nhelyi transzfer a találkozók helyszínére\nangol-török és török-angol fordítás\nebéd\, frissít?k és üdvözl? vacsora\n\nAz eseményen való részvétel ingyenes\, de el?zetes regisztrációhoz kötött! \nRegisztráció \nKérjük\, hogy részvételi szándékát a b2b@cskik.hu e-mail címen is jelezze! Köszönjük. \nTovábbi információ az esemény honlapján és ITT
URL:https://cskik.hu/esemeny/match4industry-uzleti-talalkozo/
END:VEVENT
END:VCALENDAR