BEGIN:VCALENDAR
VERSION:2.0
PRODID:-//CSKIK - ECPv6.15.20//NONSGML v1.0//EN
CALSCALE:GREGORIAN
METHOD:PUBLISH
X-WR-CALNAME:CSKIK
X-ORIGINAL-URL:https://cskik.hu
X-WR-CALDESC:Események CSKIK
REFRESH-INTERVAL;VALUE=DURATION:PT1H
X-Robots-Tag:noindex
X-PUBLISHED-TTL:PT1H
BEGIN:VTIMEZONE
TZID:Europe/Budapest
BEGIN:DAYLIGHT
TZOFFSETFROM:+0100
TZOFFSETTO:+0200
TZNAME:CEST
DTSTART:20240331T010000
END:DAYLIGHT
BEGIN:STANDARD
TZOFFSETFROM:+0200
TZOFFSETTO:+0100
TZNAME:CET
DTSTART:20241027T010000
END:STANDARD
BEGIN:DAYLIGHT
TZOFFSETFROM:+0100
TZOFFSETTO:+0200
TZNAME:CEST
DTSTART:20250330T010000
END:DAYLIGHT
BEGIN:STANDARD
TZOFFSETFROM:+0200
TZOFFSETTO:+0100
TZNAME:CET
DTSTART:20251026T010000
END:STANDARD
BEGIN:DAYLIGHT
TZOFFSETFROM:+0100
TZOFFSETTO:+0200
TZNAME:CEST
DTSTART:20260329T010000
END:DAYLIGHT
BEGIN:STANDARD
TZOFFSETFROM:+0200
TZOFFSETTO:+0100
TZNAME:CET
DTSTART:20261025T010000
END:STANDARD
END:VTIMEZONE
BEGIN:VEVENT
DTSTART;TZID=Europe/Budapest:20250408T000000
DTEND;TZID=Europe/Budapest:20250408T000000
DTSTAMP:20260421T184334
CREATED:20251219T110447Z
LAST-MODIFIED:20251219T110447Z
UID:35209-1744070400-1744070400@cskik.hu
SUMMARY:Nemzetközi Agro-Food B2B
DESCRIPTION:A Craiova-i Egyetem\, az Enterprise Europe Network hálózat a South-West Oltenia Regional Development Agency együttm?ködésével és Romanian Association for Technology Transfer and Innovation támogatásával online üzleti találkozót szervez 2025. április 8-án Agro-Food Synergy: Empowering Agri-Sectors & Rural Tourism címmel. \nFókuszterületek: \n– fenntartható fejl?dés az agrár-élelmiszer szektorban– a mez?gazdaság digitalizálása– vidéki turizmus. \nAz el?re egyeztetett üzleti megbeszélések a b2match platformon keresztül zajlanak az esemény napján. \nAz esemény célközönsége: \n\nagrártermék és élelmiszer gyártók (gazdák\, élelmiszer gyártók és feldolgozók)\nagrártechnológiai cégek (precíiós mez?gazdaság\, automatizáció\, mesterséges intelligencia a mez?gazdaságban)\nvidéki turizmussal foglalkozó vállalkozások (ökoturisztika\, vendégházak\, agrárturizmus)\nélelmiszer és italgyártó szektor képvisel?i\nfenntartható mez?gazdasági és digitális megoldásokat\, gyakorlatokat kínáló K+F szervezetek\n\nJelentkezési határid?: 2025. április 6.Regisztráció az eseményre
URL:https://cskik.hu/esemeny/nemzetkozi-agro-food-b2b/
END:VEVENT
END:VCALENDAR