BEGIN:VCALENDAR
VERSION:2.0
PRODID:-//CSKIK - ECPv6.15.20//NONSGML v1.0//EN
CALSCALE:GREGORIAN
METHOD:PUBLISH
X-WR-CALNAME:CSKIK
X-ORIGINAL-URL:https://cskik.hu
X-WR-CALDESC:Események CSKIK
REFRESH-INTERVAL;VALUE=DURATION:PT1H
X-Robots-Tag:noindex
X-PUBLISHED-TTL:PT1H
BEGIN:VTIMEZONE
TZID:Europe/Budapest
BEGIN:DAYLIGHT
TZOFFSETFROM:+0100
TZOFFSETTO:+0200
TZNAME:CEST
DTSTART:20230326T010000
END:DAYLIGHT
BEGIN:STANDARD
TZOFFSETFROM:+0200
TZOFFSETTO:+0100
TZNAME:CET
DTSTART:20231029T010000
END:STANDARD
BEGIN:DAYLIGHT
TZOFFSETFROM:+0100
TZOFFSETTO:+0200
TZNAME:CEST
DTSTART:20240331T010000
END:DAYLIGHT
BEGIN:STANDARD
TZOFFSETFROM:+0200
TZOFFSETTO:+0100
TZNAME:CET
DTSTART:20241027T010000
END:STANDARD
BEGIN:DAYLIGHT
TZOFFSETFROM:+0100
TZOFFSETTO:+0200
TZNAME:CEST
DTSTART:20250330T010000
END:DAYLIGHT
BEGIN:STANDARD
TZOFFSETFROM:+0200
TZOFFSETTO:+0100
TZNAME:CET
DTSTART:20251026T010000
END:STANDARD
END:VTIMEZONE
BEGIN:VEVENT
DTSTART;TZID=Europe/Budapest:20240529T000000
DTEND;TZID=Europe/Budapest:20240529T000000
DTSTAMP:20260425T235545
CREATED:20251209T144930Z
LAST-MODIFIED:20251209T144930Z
UID:29053-1716940800-1716940800@cskik.hu
SUMMARY:Nemzetközi Drónkiállítás 2024 - b2b
DESCRIPTION:2024. május 29-én kerül megrendezésre Észak-Európa egyik legnagyobb drónrendezvénye\, a Nemzetközi Drónkiállítás Odensében (International Drone Show 2024). \nAz esemény lehet?séget nyújt az új dróntechnológiák m?ködés közbeni megtapasztalására\, új drónüzleti betekintést és új kutatási ismereteket szerezhet\, valamint kapcsolatot teremthet a terület érdekelt feleivel. A rendezvény egyedülálló találkozóhelyet teremt a drónipar\, a kutatók és a végfelhasználók számára\, ahol megvitathatják a legújabb dróninnovációkat és felfedezhetik az új alkalmazási lehet?ségeket. \nA Nemzetközi Drónkiállítás részeként az Enterprise Europe Network B2B partnerkeres? eseményt szervez\, amely a 2024-es International Drone Show programjának integrált részeként kerül megrendezésre. A B2B partnerkeres? esemény egyedülálló lehet?séget biztosít új üzleti kapcsolatok kialakítására és új kapcsolatok kiépítésére a drónok fejlett és gyorsan növekv? iparágában és területén. \nA partnerkeres? platform az International Drone Show 2024 minden résztvev?jének lehet?séget kínál arra\, hogy el?re lefoglalt 1:1 találkozókon keresztül kapcsolatba lépjen potenciális üzleti partnerekkel vagy projekt-együttm?ködési partnerekkel. \nId?pont: 2024. május 29. 10:00-12:00 és 13:00-15:00Helyszín: Dánia\, Odense\, repül?tér (HCA Airport\, Odense. Lufthavnvej 131\, 5270 Odense N)Regisztráció: https://international-drone-show-b2b-2024.b2match.io/ \nA partnerkeres? eseményen való részvételhez az International Drone Show 2024-re szóló belép?jegy szükséges\, a partnerkeres? esemény pedig minden jegytulajdonos számára ingyenesen vehet? igénybe. \nA Nemzetközi Drónkiállításról b?vebb információ és jegyvásárlás: https://erhvervshusfyn.nemtilmeld.dk/623/ \nAmennyiben felkeltette érdekl?dését a rendezvény\, kérjük részvételi szándékát – a hivatalos felületen leadott regisztráción túl – felénk is jelezze az eenszeged@cskik.hu e-mail címen. \n 
URL:https://cskik.hu/esemeny/nemzetkozi-dronkiallitas-2024-b2b/
END:VEVENT
END:VCALENDAR