BEGIN:VCALENDAR
VERSION:2.0
PRODID:-//CSKIK - ECPv6.15.20//NONSGML v1.0//EN
CALSCALE:GREGORIAN
METHOD:PUBLISH
X-WR-CALNAME:CSKIK
X-ORIGINAL-URL:https://cskik.hu
X-WR-CALDESC:Események CSKIK
REFRESH-INTERVAL;VALUE=DURATION:PT1H
X-Robots-Tag:noindex
X-PUBLISHED-TTL:PT1H
BEGIN:VTIMEZONE
TZID:Europe/Budapest
BEGIN:DAYLIGHT
TZOFFSETFROM:+0100
TZOFFSETTO:+0200
TZNAME:CEST
DTSTART:20230326T010000
END:DAYLIGHT
BEGIN:STANDARD
TZOFFSETFROM:+0200
TZOFFSETTO:+0100
TZNAME:CET
DTSTART:20231029T010000
END:STANDARD
BEGIN:DAYLIGHT
TZOFFSETFROM:+0100
TZOFFSETTO:+0200
TZNAME:CEST
DTSTART:20240331T010000
END:DAYLIGHT
BEGIN:STANDARD
TZOFFSETFROM:+0200
TZOFFSETTO:+0100
TZNAME:CET
DTSTART:20241027T010000
END:STANDARD
BEGIN:DAYLIGHT
TZOFFSETFROM:+0100
TZOFFSETTO:+0200
TZNAME:CEST
DTSTART:20250330T010000
END:DAYLIGHT
BEGIN:STANDARD
TZOFFSETFROM:+0200
TZOFFSETTO:+0100
TZNAME:CET
DTSTART:20251026T010000
END:STANDARD
END:VTIMEZONE
BEGIN:VEVENT
DTSTART;TZID=Europe/Budapest:20241008T000000
DTEND;TZID=Europe/Budapest:20241008T000000
DTSTAMP:20260425T162026
CREATED:20251209T151342Z
LAST-MODIFIED:20251209T151342Z
UID:29263-1728345600-1728345600@cskik.hu
SUMMARY:Pinceakadémia: Nyelvi modellek alkalmazása vállalati feladatokra
DESCRIPTION:A Szegedi Tudományegyetem Szoftverfejlesztés Tanszéke és a Csongrád-Csanádi Kereskedelmi és Iparkamara szervezésében a Pince Akadémia kurzusok keretében nagy siker? el?adások hangzottak el a Mesterséges Intelligencia nyújtotta lehet?ségekr?l (https://www.sed.inf.u-szeged.hu/pinceakademia). A Szoftverfejlesztés Tanszék munkatársai nagy nyelvi modellek\, az MI alapú intelligens adatelemzés\, gépi látás segítségével történ? optimalizálás\, és az MI segítségével m?köd? ügyvitel automatizálás világába vezették be a résztvev?ket. \nA kurzus sorozat folytatásaként 3 el?adás kerül megrendezésre. Az el?adások célja\,hogy valós példákon mutassák meg az MI alkalmazásokat. Ezeken az el?adásokon a Szoftverfejlesztés Tanszék munkatársai mellett cégeknek is lehet?séget biztosítunk\,hogy ismertessék egy-egy sikeres MI alkalmazásukat. \nAz els? el?adás témája: Nyelvi modellek alkalmazása vállalati feladatokra \nId?pontja: 2024. október 8.      15 órától  18 óráig \nHelyszíne: Szegedi Tudományegyetem TTIK Informatikai Intézet\, Szeged\, Árpád tér 2.  \nAz el?adáson való részvétel díjmentes\, de regisztrációhoz kötött.\nRészvételi szándékát kérjük jelezze az alábbi jelentkezési ?rlap kitöltésével:
URL:https://cskik.hu/esemeny/pinceakademia-nyelvi-modellek-alkalmazasa-vallalati-feladatokra/
END:VEVENT
END:VCALENDAR