BEGIN:VCALENDAR
VERSION:2.0
PRODID:-//CSKIK - ECPv6.15.20//NONSGML v1.0//EN
CALSCALE:GREGORIAN
METHOD:PUBLISH
X-WR-CALNAME:CSKIK
X-ORIGINAL-URL:https://cskik.hu
X-WR-CALDESC:Események CSKIK
REFRESH-INTERVAL;VALUE=DURATION:PT1H
X-Robots-Tag:noindex
X-PUBLISHED-TTL:PT1H
BEGIN:VTIMEZONE
TZID:Europe/Budapest
BEGIN:DAYLIGHT
TZOFFSETFROM:+0100
TZOFFSETTO:+0200
TZNAME:CEST
DTSTART:20230326T010000
END:DAYLIGHT
BEGIN:STANDARD
TZOFFSETFROM:+0200
TZOFFSETTO:+0100
TZNAME:CET
DTSTART:20231029T010000
END:STANDARD
BEGIN:DAYLIGHT
TZOFFSETFROM:+0100
TZOFFSETTO:+0200
TZNAME:CEST
DTSTART:20240331T010000
END:DAYLIGHT
BEGIN:STANDARD
TZOFFSETFROM:+0200
TZOFFSETTO:+0100
TZNAME:CET
DTSTART:20241027T010000
END:STANDARD
BEGIN:DAYLIGHT
TZOFFSETFROM:+0100
TZOFFSETTO:+0200
TZNAME:CEST
DTSTART:20250330T010000
END:DAYLIGHT
BEGIN:STANDARD
TZOFFSETFROM:+0200
TZOFFSETTO:+0100
TZNAME:CET
DTSTART:20251026T010000
END:STANDARD
END:VTIMEZONE
BEGIN:VEVENT
DTSTART;TZID=Europe/Budapest:20240219T000000
DTEND;TZID=Europe/Budapest:20240219T000000
DTSTAMP:20260425T131955
CREATED:20251209T140358Z
LAST-MODIFIED:20251209T140358Z
UID:28798-1708300800-1708300800@cskik.hu
SUMMARY:Sminktetoválás és orvosi vonatkozások – el?adás és szakmai bemutató
DESCRIPTION:Fejlessze tudását a Csongrád-Csanádi Kereskedelmi és Iparkamara Kézm?ipari Tagozatának szervezésében!Betekintés a sminktetoválás (PMU) világába\, tapasztalatok az orvos szemével – Izgalmas témák kezd?knek és haladóknak! \nEL?ADÓINK: \nSiklós Júlia – Sminktetoválás \n \nTizenkilenc éve végez sminktetoválást. A BeautySense szépségszalont a 2000-es években alapította. A min?ségi anyagokon kívül rendkívül fontos\, hogy mindig naprakész tudással\, a legújabb technikák ismeretével\, pontos kivitelezésével is tisztában legyen. Nyolc f?s csapattal dolgozik\, a nagyközönség szépítéssel való min?ségi kiszolgálásán kívül\, a sminktetováló szakma oktatása is a mindennapi teend?i közé tartozik. \nhttps://www.siklosjulia.hu/  \nhttps://klub.siklosjulia.hu/  \nhttps://www.sminktetovalas-budapesten.hu/ \n  \nDr. Vas Krisztina – B?rgyógyász\, kozmetológus szakorvos \n \nA doktorn? 13 éve foglalkozik b?rgyógyászattal\, f? szakterülete az orvos-esztétikai beavatkozások.Három éve hozták létre a DermIron Orvos-esztétikai Központot\, ahol a manuálisan elvégezhet? kezeléseken kívül\, prémium min?ség?\, orvosi gépekkel végeznek kezeléseket. \nhttps://www.dermiron.hu/ \n  \nHELYSZÍN: Kamarai Székház (6721 Szeged\, Párizsi krt. 8-12.)ID?PONT: 2024. február 19. hétf? \nProgramunk három el?adásból áll: \nI. el?adás – Sminktetoválás bevezet?\, alapok10.30-tól 12.00-ig Sminktetováló szeretnék lenni! Kozmetikus vagyok– mi lesz\, ha nincs hozzá tehetségem? kell-e félnem?– szuper technikák a sminktetoválás világában– mit várhatok a PMU ágazattól a karrieremben?– egy új szakmai életút születik…. \nII. el?adás – Sminktetoválás az orvos szemével12.30-tól 13.30-ig– kozmetikai tetováló anyagok\, mint exogén pigmentek– kozmetikai tetoválások után észlelt szöv?dmények és azok kezelése– kozmetikus és kozmetológus (esztétikai beavatkozást végz? b?rgyógyász szakorvos) közös munkája– esztétikai tetoválások és orvos-esztétikai beavatkozások kompatibilitása – kozmetikusok által végzett beavatkozásokkal kapcsolatos jogi háttér és felel?sség kérdésköre \nIII. el?adás – Haladó tetoválóknak szóló újdonságok14.00-tól 16.00-ig 2024-es trendek a sminktetoválásban– új utak a pigmentek világában (szigorú szabályozások lettek\, új összetételek és elvárások a pigmentekkel szemben)– nehéz esetek: vállaljam vagy ne?– elrontott sminktetoválások\, nehéz ügyfelek– lehetséges-e kiemelkedni a social media zajából? \nAz el?adások végén rövid konzultációra adunk lehet?séget. \nRÉSZVÉTELI FELTÉTELEK: \nRészvételi díjak: \nA teljes részvételi díj: 15.000\,- Ft + ÁfaA CSKIK regisztrált vállalkozóinak 5.000\,- Ft+ÁfaA CSKIK önkéntes tagvállalkozásainak 2.500\,- Ft+ÁfaTanulóknak 1.000\,- Ft+Áfa \n(A részvételi díj megfizetésével mindhárom programon részt tud venni.) \nA CSKIK Kézm?ipari Tagozatának támogatásával valósul meg programunk.  \nJelentkezési határid?: 2024. február 5.Kérjük\, minél el?bb foglalja le helyét! \nJelentkezés az alábbi linkeken:Az el?adásra és szakmai bemutatóra jelentkezem -> EZEN A LINKEN \nB?vebb információ:  \nKovács Kata \n+36309851988\, kovacs.kata@cskik.hu \nAz adatvédelmi tájékoztatónk megtekintéséhez ide kattintson.
URL:https://cskik.hu/esemeny/sminktetovalas-es-orvosi-vonatkozasok-eladas-es-szakmai-bemutato/
END:VEVENT
END:VCALENDAR