BEGIN:VCALENDAR
VERSION:2.0
PRODID:-//CSKIK - ECPv6.15.20//NONSGML v1.0//EN
CALSCALE:GREGORIAN
METHOD:PUBLISH
X-WR-CALNAME:CSKIK
X-ORIGINAL-URL:https://cskik.hu
X-WR-CALDESC:Események CSKIK
REFRESH-INTERVAL;VALUE=DURATION:PT1H
X-Robots-Tag:noindex
X-PUBLISHED-TTL:PT1H
BEGIN:VTIMEZONE
TZID:Europe/Budapest
BEGIN:DAYLIGHT
TZOFFSETFROM:+0100
TZOFFSETTO:+0200
TZNAME:CEST
DTSTART:20250330T010000
END:DAYLIGHT
BEGIN:STANDARD
TZOFFSETFROM:+0200
TZOFFSETTO:+0100
TZNAME:CET
DTSTART:20251026T010000
END:STANDARD
BEGIN:DAYLIGHT
TZOFFSETFROM:+0100
TZOFFSETTO:+0200
TZNAME:CEST
DTSTART:20260329T010000
END:DAYLIGHT
BEGIN:STANDARD
TZOFFSETFROM:+0200
TZOFFSETTO:+0100
TZNAME:CET
DTSTART:20261025T010000
END:STANDARD
BEGIN:DAYLIGHT
TZOFFSETFROM:+0100
TZOFFSETTO:+0200
TZNAME:CEST
DTSTART:20270328T010000
END:DAYLIGHT
BEGIN:STANDARD
TZOFFSETFROM:+0200
TZOFFSETTO:+0100
TZNAME:CET
DTSTART:20271031T010000
END:STANDARD
END:VTIMEZONE
BEGIN:VEVENT
DTSTART;TZID=Europe/Budapest:20260505T080000
DTEND;TZID=Europe/Budapest:20260506T170000
DTSTAMP:20260420T011711
CREATED:20260416T150700Z
LAST-MODIFIED:20260416T150806Z
UID:48934-1777968000-1778086800@cskik.hu
SUMMARY:Space Resources Week 2026
DESCRIPTION:Űripari konferencia és szakmai partnerkeresési lehetőség a luxemburgi Space Resources Week 2026. alkalmával. \nA 2018-as megnyitása óta az A Space Rsources Week az űrforrásokkal foglalkozó közösség referenciaeseményévé vált. \nA Space Resources Week-et minden évben Luxemburgban rendezik meg\, amelyet a European Space Resources Innovation Center (ESRIC) szervez az Európai Űrügynökséggel (ESA)\, a Luxemburgi Űrügynökséggel (LSA) és a Luxemburgi Tudományos és Technológiai Intézettel (LIST) együttműködve. \nAz esemény összehozza az űrügynökségeket\, az iparág vezetőit\, a kutatókat és a korai stádiumú vállalkozásokat. Multidiszciplináris\, és az űrforrások tudományos\, technológiai\, gazdasági\, jogi és szabályozási dimenzióit tárgyalja.\n\nA konferencia célja az űrforrások fenntartható és felelősségteljes felhasználásának előmozdítása a jövő érdekében az űrben és a Földön. \n„”A jövőre nézve fel kell térképezni az erőforrásokat\, meg kell tervezni a jövőbeli architektúrákat az űrbeli erőforrások számára és felhasználásával\, és ütemterveket kell kidolgozni a földi kutatások űrkész technológiákká való átalakítására.”” \nMire számíthat? \n\nAz űrkutatási közösség kiemelkedő találkozója — Csatlakozzon űrügynökségekhez\, iparági vezetőkhöz\, kutatókhoz és korai fázisú vállalkozásokhoz a világ minden tájáról a LuxExpo-n\, a The Box-ban\, 2026. május 4-7. között.\nMultidiszciplináris betekintések — Fedezze fel az űrkutatási erőforrások hasznosításának tudományos\, technológiai\, gazdasági\, jogi és szabályozási dimenzióit szakértők által vezetett ülések és beszélgetések révén.\nÉlenjáró témák — Fedezze fel a legújabb fejleményeket a Holdon\, a Marson és az aszteroidákon található erőforrások felkutatásában és kitermelésében\, beleértve a kutatást\, a talaj mintavételezést\, az űrben történő utántöltést és a támogató technológiákat.\nA jövő architektúráira összpontosítva — Ismerje meg a földi kutatások űrkész technológiákká való átalakításának ütemterveit\, valamint az erőforrás-felhasználási stratégiák tervezését a fenntartható űrkutatás érdekében.\nGyakorlati szakmai képzés — Csatlakozzon egy 2 napos intenzív kurzushoz\, hogy átfogó képet kapjon a területről\, és csapatokban dolgozva kidolgozza saját űrkutatási erőforrás-felhasználási tervét.\nB2B üzleti partnerkeresés – Találkozzon az ipar és a kutatás kulcsfontosságú szereplőivel\, hogy együttműködési lehetőségeket és piacvezérelt megoldásokat azonosítson.\n\nA fő rendezvény 2026. május 4-7-ig tart. A részteketről és a részvételi feltételekről az alábbi linken szerezhető bővebb információ: https://www.spaceresourcesweek.lu/\n \nA B2B esemény időpontja 2026. május 5-6. \nTovábbi információkat és a regisztrációs felületet ezen a LINKEN találják meg\, kérdés esetén pedig forduljanak hozzánk az eenszeged@cskik.hu e-mail címen.
URL:https://cskik.hu/esemeny/space-resources-week-2026/
LOCATION:Luxexpo – The Box\, 10 Circuit de La Foire Internationale\, Luxemburg\, L-1347\, Luxembourg
CATEGORIES:EEN
ATTACH;FMTTYPE=image/jpeg:https://cskik.hu/wp-content/uploads/2026/04/Space_Resources_Week_2026_Lux.jpg
END:VEVENT
END:VCALENDAR