BEGIN:VCALENDAR
VERSION:2.0
PRODID:-//CSKIK - ECPv6.15.20//NONSGML v1.0//EN
CALSCALE:GREGORIAN
METHOD:PUBLISH
X-WR-CALNAME:CSKIK
X-ORIGINAL-URL:https://cskik.hu
X-WR-CALDESC:Események CSKIK
REFRESH-INTERVAL;VALUE=DURATION:PT1H
X-Robots-Tag:noindex
X-PUBLISHED-TTL:PT1H
BEGIN:VTIMEZONE
TZID:Europe/Budapest
BEGIN:DAYLIGHT
TZOFFSETFROM:+0100
TZOFFSETTO:+0200
TZNAME:CEST
DTSTART:20240331T010000
END:DAYLIGHT
BEGIN:STANDARD
TZOFFSETFROM:+0200
TZOFFSETTO:+0100
TZNAME:CET
DTSTART:20241027T010000
END:STANDARD
BEGIN:DAYLIGHT
TZOFFSETFROM:+0100
TZOFFSETTO:+0200
TZNAME:CEST
DTSTART:20250330T010000
END:DAYLIGHT
BEGIN:STANDARD
TZOFFSETFROM:+0200
TZOFFSETTO:+0100
TZNAME:CET
DTSTART:20251026T010000
END:STANDARD
BEGIN:DAYLIGHT
TZOFFSETFROM:+0100
TZOFFSETTO:+0200
TZNAME:CEST
DTSTART:20260329T010000
END:DAYLIGHT
BEGIN:STANDARD
TZOFFSETFROM:+0200
TZOFFSETTO:+0100
TZNAME:CET
DTSTART:20261025T010000
END:STANDARD
END:VTIMEZONE
BEGIN:VEVENT
DTSTART;TZID=Europe/Budapest:20250226T000000
DTEND;TZID=Europe/Budapest:20250226T000000
DTSTAMP:20260419T214610
CREATED:20251219T110003Z
LAST-MODIFIED:20251219T110003Z
UID:35119-1740528000-1740528000@cskik.hu
SUMMARY:Space4Defence 2025
DESCRIPTION:A Space4Defence 2025 egy kiemelt európai iparági és hálózatépítési esemény\, amelyet az Európai Védelmi Alap támogatásával szerveznek. Az esemény célja\, hogy összehozza az ?riparban tevékenyked? vállalatokat\, kutatóintézeteket és kormányzati szerepl?ket\, akik érdekl?dnek a védelmi szektorhoz kapcsolódó ?ralapú technológiák és innovációk fejlesztése iránt. \nA résztvev?k lehet?séget kapnak: \n\nKapcsolatépítésre és új konzorciumok létrehozására az EDF finanszírozási pályázataihoz.\nEgyüttm?ködési lehet?ségek feltérképezésére kis- és nagyvállalatok\, kutatóintézetek és kormányzati szervek között.\nInnovációk és fejlesztések bemutatására\, különös tekintettel a védelmi célú ?rtechnológiákra.\n\nEsemény f?bb programpontjai:\n\nEDF finanszírozási lehet?ségek ismertetése – Az Európai Bizottság képvisel?i bemutatják az aktuális pályázati kiírásokat.\nKiemelt iparági el?adások – A védelmi és ?ripar vezet? szerepl?i beszélnek a legújabb trendekr?l\, technológiákról és kihívásokról.\nB2B találkozók és kapcsolatépítés – Az esemény egyik legfontosabb része a b2match platformon keresztül szervezett személyes és online üzleti találkozók\, amelyek segítenek megtalálni a megfelel? partnereket a jöv?beli projektekhez.\nPitching szekció – Innovatív KKV-k és startupok bemutathatják projektjeiket és fejlesztéseiket lehetséges befektet?k és ipari partnerek el?tt.\n\nKiknek ajánlott a részvétel?\n\n?ripari és védelmi szektorban tevékenyked? vállalatok\nKutatóintézetek\, egyetemek és fejlesztési központok\nKis- és középvállalkozások (KKV-k) és startupok\nKormányzati és védelmi szervezetek képvisel?i\n\nA részvétel ingyenes\, de el?zetes regisztrációhoz kötött\, amelynek határideje:     2025. február 21. \nJelentkezni az alábbi linken tudnak:https://www.b2match.com/e/space4defence2025 \nTovábbi kérdések esetén keressenek minket az eenszeged@cskik.hu e-mail címen.
URL:https://cskik.hu/esemeny/space4defence-2025/
END:VEVENT
END:VCALENDAR