BEGIN:VCALENDAR
VERSION:2.0
PRODID:-//CSKIK - ECPv6.15.20//NONSGML v1.0//EN
CALSCALE:GREGORIAN
METHOD:PUBLISH
X-WR-CALNAME:CSKIK
X-ORIGINAL-URL:https://cskik.hu
X-WR-CALDESC:Események CSKIK
REFRESH-INTERVAL;VALUE=DURATION:PT1H
X-Robots-Tag:noindex
X-PUBLISHED-TTL:PT1H
BEGIN:VTIMEZONE
TZID:Europe/Budapest
BEGIN:DAYLIGHT
TZOFFSETFROM:+0100
TZOFFSETTO:+0200
TZNAME:CEST
DTSTART:20230326T010000
END:DAYLIGHT
BEGIN:STANDARD
TZOFFSETFROM:+0200
TZOFFSETTO:+0100
TZNAME:CET
DTSTART:20231029T010000
END:STANDARD
BEGIN:DAYLIGHT
TZOFFSETFROM:+0100
TZOFFSETTO:+0200
TZNAME:CEST
DTSTART:20240331T010000
END:DAYLIGHT
BEGIN:STANDARD
TZOFFSETFROM:+0200
TZOFFSETTO:+0100
TZNAME:CET
DTSTART:20241027T010000
END:STANDARD
BEGIN:DAYLIGHT
TZOFFSETFROM:+0100
TZOFFSETTO:+0200
TZNAME:CEST
DTSTART:20250330T010000
END:DAYLIGHT
BEGIN:STANDARD
TZOFFSETFROM:+0200
TZOFFSETTO:+0100
TZNAME:CET
DTSTART:20251026T010000
END:STANDARD
END:VTIMEZONE
BEGIN:VEVENT
DTSTART;TZID=Europe/Budapest:20240528T000000
DTEND;TZID=Europe/Budapest:20240529T000000
DTSTAMP:20260425T204536
CREATED:20251209T144736Z
LAST-MODIFIED:20251209T144736Z
UID:28999-1716854400-1716940800@cskik.hu
SUMMARY:Speed-Match 2024 - online b2b
DESCRIPTION:2024. május 28-29. között kerül sor a Speed-Match 2024 nemzetközi kapcsolatépít? rendezvény\, amelynek témája az autóipar\, a vasút és a repüléstechnika. \nA rendezvény kiváló lehet?séget biztosít a nagyvállalatoknak\, kkv-knak\, kamaráknak\, klasztereknek\, befektet?knek\, állami szerveknek és egyesületeknek\, hogy kereskedelmi és technológiai együttm?ködést köthessenek az el?re egyeztetett tárgyalásokon. \nA nemzetközi üzletember-találkozón való részvétel díjmentes\, de el?zetes regisztrációhoz kötött. \nFókusztémák: \n\nLégi közlekedési ágazat: Motoralkatrészek gyártása\, szerkezeti részek\, lemezalakítás\, szerszám- és fúvókagyártás\, precíziós esztergálás\, kábel- és kábelköteg\, speciális eljárások\, felületkezelés\, összeszerelés\, integráció stb.\nVasúti Ipar: Mozdonygyártás\, kocsi- és alkatrészgyártás\, kabin\, forgóváz\, dízelmotor\, fékrendszer gyártás\, jelz?megoldások\, áramrendszerek és kábelezés\, pontos öntés\, precíziós megmunkálás\, összeszerelés\, festés\, bevonat stb.\nAutóipari beszállítói ipar: Teherautók\, kishaszonjárm?vek\, hajtásláncok\, motor- és motoralkatrészek\, tengelytestek\, t?zoltó járm?vek\, ment?járm?vek\, autóemel?k\, járm?ajtó-zárrendszerek\, utánfutó\, tálcák\, ülésrendszerek\, felnik\, kezel?fülke\, alváz\, tengelytengely\, gyártása hátsó hajtóm? tengely és autóalkatrészek stb.\n\nAz online tárgyalások tervezett programja: \n2024. május 28. 10:00-14:00 – els? kör14:00-18:00 – második kör \n2024. május 29.10:00-14:00 – harmadik kör14:00-18:00 – negyedik kör \nEddig már közel 20 országból jelentkeztek be az érdekl?d? cégek. \nId?pont: 2024. május 28-29.Helyszín: onlineJelentkezési határid?: május 29.Regisztráció: https://speed-match-2024-international-networking.b2match.io/Amennyiben felkeltette az érdekl?dését a rendezvényen való részvétel\, kérjük a regisztrációját a hivatalos felületen történt jelentkezésen túl felénk is jelezze az eenszeged@cskik.hu e-mail címen. \n 
URL:https://cskik.hu/esemeny/speed-match-2024-online-b2b/
END:VEVENT
END:VCALENDAR