BEGIN:VCALENDAR
VERSION:2.0
PRODID:-//CSKIK - ECPv6.15.20//NONSGML v1.0//EN
CALSCALE:GREGORIAN
METHOD:PUBLISH
X-WR-CALNAME:CSKIK
X-ORIGINAL-URL:https://cskik.hu
X-WR-CALDESC:Események CSKIK
REFRESH-INTERVAL;VALUE=DURATION:PT1H
X-Robots-Tag:noindex
X-PUBLISHED-TTL:PT1H
BEGIN:VTIMEZONE
TZID:Europe/Budapest
BEGIN:DAYLIGHT
TZOFFSETFROM:+0100
TZOFFSETTO:+0200
TZNAME:CEST
DTSTART:20240331T010000
END:DAYLIGHT
BEGIN:STANDARD
TZOFFSETFROM:+0200
TZOFFSETTO:+0100
TZNAME:CET
DTSTART:20241027T010000
END:STANDARD
BEGIN:DAYLIGHT
TZOFFSETFROM:+0100
TZOFFSETTO:+0200
TZNAME:CEST
DTSTART:20250330T010000
END:DAYLIGHT
BEGIN:STANDARD
TZOFFSETFROM:+0200
TZOFFSETTO:+0100
TZNAME:CET
DTSTART:20251026T010000
END:STANDARD
BEGIN:DAYLIGHT
TZOFFSETFROM:+0100
TZOFFSETTO:+0200
TZNAME:CEST
DTSTART:20260329T010000
END:DAYLIGHT
BEGIN:STANDARD
TZOFFSETFROM:+0200
TZOFFSETTO:+0100
TZNAME:CET
DTSTART:20261025T010000
END:STANDARD
END:VTIMEZONE
BEGIN:VEVENT
DTSTART;TZID=Europe/Budapest:20250604T000000
DTEND;TZID=Europe/Budapest:20250610T000000
DTSTAMP:20260421T050930
CREATED:20251219T110034Z
LAST-MODIFIED:20251219T110034Z
UID:35161-1748995200-1749513600@cskik.hu
SUMMARY:Subcontracting Meetings 2025
DESCRIPTION:A Subcontracting Meetings 2025 Pozna?ban újra megrendezésre kerül. 2025. június 4-5-én személyes\, június 6-10-ig pedig online találkozókon vehetnek részt. A korábbi sikereken felbuzdulva szervezik meg a Subcontracting Meetings 2025-öt\, ami Lengyelország legnagyobb ipari szakkiállítása\, az ITM Industry Europe mellett kerül sor. \nA kiállítás els?sorban a fémfeldolgozás területén alvállalkozói szolgáltatásokat nyújtó cégeknek szól. Az eseményen a „Subcontracting Meetings 2025” lesz\, amelyen az iparág képvisel?i\, köztük nagyvállalatok vesznek részt. A cél az\, hogy a fejlett ipari alvállalkozói szolgáltatásokat nyújtó cégeket összehozzuk az ilyen beszállítókat keres? partnerekkel. \nMiért érdemes részt venni?Vásárlóként – Lehet?ség van a min?sített beszállítók kiválasztásáraBeszállítóként – Megbeszéléseken való részvétellel és vásárokon való kiállítással új ügyfeleket találhat \nÍzelít?k a tevékenységi területekb?l: \n\nmegmunkálás\nkémiai kezelések\nelektrokémiai kezelések\nh?kezelés\nt?zihorganyzás\nöntöde\nhegesztés\nvágás\ntisztítás\nfestés / PVD bevonatok\nfélkész termékek\nipari köt?elemek\n3D nyomtatás fémb?l és m?anyagból\nfröccsönt? szerszámok gyártása\n\n  \nAz üzletember találkozókon (B2B) való részvételt az Enterprise Europe Network támogatja\, az azokon való részvétel díjmentes\, a rendezvény honlapján leírt feltételek szerint.  \nB?vebb információ és jelentkezés: https://subcontracting-meetings-2025.b2match.io/  \n 
URL:https://cskik.hu/esemeny/subcontracting-meetings-2025/
END:VEVENT
END:VCALENDAR