BEGIN:VCALENDAR
VERSION:2.0
PRODID:-//CSKIK - ECPv6.15.20//NONSGML v1.0//EN
CALSCALE:GREGORIAN
METHOD:PUBLISH
X-WR-CALNAME:CSKIK
X-ORIGINAL-URL:https://cskik.hu
X-WR-CALDESC:Események CSKIK
REFRESH-INTERVAL;VALUE=DURATION:PT1H
X-Robots-Tag:noindex
X-PUBLISHED-TTL:PT1H
BEGIN:VTIMEZONE
TZID:Europe/Budapest
BEGIN:DAYLIGHT
TZOFFSETFROM:+0100
TZOFFSETTO:+0200
TZNAME:CEST
DTSTART:20230326T010000
END:DAYLIGHT
BEGIN:STANDARD
TZOFFSETFROM:+0200
TZOFFSETTO:+0100
TZNAME:CET
DTSTART:20231029T010000
END:STANDARD
BEGIN:DAYLIGHT
TZOFFSETFROM:+0100
TZOFFSETTO:+0200
TZNAME:CEST
DTSTART:20240331T010000
END:DAYLIGHT
BEGIN:STANDARD
TZOFFSETFROM:+0200
TZOFFSETTO:+0100
TZNAME:CET
DTSTART:20241027T010000
END:STANDARD
BEGIN:DAYLIGHT
TZOFFSETFROM:+0100
TZOFFSETTO:+0200
TZNAME:CEST
DTSTART:20250330T010000
END:DAYLIGHT
BEGIN:STANDARD
TZOFFSETFROM:+0200
TZOFFSETTO:+0100
TZNAME:CET
DTSTART:20251026T010000
END:STANDARD
END:VTIMEZONE
BEGIN:VEVENT
DTSTART;TZID=Europe/Budapest:20240925T000000
DTEND;TZID=Europe/Budapest:20240925T000000
DTSTAMP:20260426T022723
CREATED:20251209T150943Z
LAST-MODIFIED:20251209T150943Z
UID:29236-1727222400-1727222400@cskik.hu
SUMMARY:Szász-magyar kontaktbörze
DESCRIPTION:A Német-Magyar Ipari és Kereskedelmi Kamara kontaktbörzét szervez 2024. szeptember 25-én Debrecenben. \nA rendezvényen olyan szász vállalkozások képvisel?i vesznek részt\, amelyek üzleti partnereket keresnek hazánkban pl. az anyagmozgatás\, fémmegmunkálás\, tömítési megoldások\, napenergia\, szennyvíztisztító technológia\, stb. terén.Részletes információkat a szász vállalatokról és a keresett üzleti kapcsolatokról ebben a letölhet? dokumentumban talál. \nA tárgyalásokra 9:30 – 12:30 óra között kerül sor\, el?re egyeztetett id?pontokban. \nA tárgyalásokon való részvétel az érdekl?d?k számára ingyenes\, de el?zetes regisztrációhoz kötött.A tárgyalások nyelve német és angol. (Szükség esetén díjmentesen tolmácsot biztosítunk.)Jelentkezés az online jelentkezési lap kitöltésével lehetséges. \nJELENTKEZÉSI HATÁRID?: 2024.09.18.Jelentkezéseket korlátozott számban\, a jelentkezés sorrendjének figyelembe vételével tudják elfogadni! \nTovábbi információ és jelentkezési lehet?ség az alábbi linken.
URL:https://cskik.hu/esemeny/szasz-magyar-kontaktborze/
END:VEVENT
END:VCALENDAR