BEGIN:VCALENDAR
VERSION:2.0
PRODID:-//CSKIK - ECPv6.15.20//NONSGML v1.0//EN
CALSCALE:GREGORIAN
METHOD:PUBLISH
X-WR-CALNAME:CSKIK
X-ORIGINAL-URL:https://cskik.hu
X-WR-CALDESC:Események CSKIK
REFRESH-INTERVAL;VALUE=DURATION:PT1H
X-Robots-Tag:noindex
X-PUBLISHED-TTL:PT1H
BEGIN:VTIMEZONE
TZID:Europe/Budapest
BEGIN:DAYLIGHT
TZOFFSETFROM:+0100
TZOFFSETTO:+0200
TZNAME:CEST
DTSTART:20240331T010000
END:DAYLIGHT
BEGIN:STANDARD
TZOFFSETFROM:+0200
TZOFFSETTO:+0100
TZNAME:CET
DTSTART:20241027T010000
END:STANDARD
BEGIN:DAYLIGHT
TZOFFSETFROM:+0100
TZOFFSETTO:+0200
TZNAME:CEST
DTSTART:20250330T010000
END:DAYLIGHT
BEGIN:STANDARD
TZOFFSETFROM:+0200
TZOFFSETTO:+0100
TZNAME:CET
DTSTART:20251026T010000
END:STANDARD
BEGIN:DAYLIGHT
TZOFFSETFROM:+0100
TZOFFSETTO:+0200
TZNAME:CEST
DTSTART:20260329T010000
END:DAYLIGHT
BEGIN:STANDARD
TZOFFSETFROM:+0200
TZOFFSETTO:+0100
TZNAME:CET
DTSTART:20261025T010000
END:STANDARD
END:VTIMEZONE
BEGIN:VEVENT
DTSTART;TZID=Europe/Budapest:20250220T000000
DTEND;TZID=Europe/Budapest:20250310T000000
DTSTAMP:20260419T191053
CREATED:20251210T123752Z
LAST-MODIFIED:20251210T123752Z
UID:31255-1740009600-1741564800@cskik.hu
SUMMARY:Tájékoztatás Feeding Future projekt keretében meghirdetett ajánlattételi felhívásról
DESCRIPTION:Csongrád-Csanádi Kereskedelmi és Iparkamara ajánlattételi felhívást tesz közzé a Feeding Future projekt keretében elvégzend? tananyagfejlesztési\,fordítási feladatok\, valamint oktatási program lebonyolításához és képzésen résztvev?k toborzásához kapcsolódó feladatok elvégzésére. \nAjánlatkér?: Csongrád-Csanádi Kereskedelmi és Iparkamara (6721 Szeged\, Párizsi krt. 8-12.); Képviseli: Dr. Tráserné Oláh Zsuzsanna kamarai titkár – titkarsag@cskik.hu   \nSzerz?dés címe\, azonosítója: oktatási programok el?készítése és lebonyolítása a Feeding Future projekt keretében a Csongrád-Csanádi Kereskedelmi és Iparkamara projektrészének vonatkozásában – HUSRB/23R/21/046/trainings \nBeszerzés tárgya\, mennyisége: \nA HUSRB/23R/21/046 azonosító számú\, „Feeding the Future: Empowering Food Science Professionals through Lifelong Learning for Bridging Borders” cím?\, Feeding Future acronym-ú\, az Interreg VI-A IPA Hungary-Serbia\, 1st Call for Proposals keretében nyertes projekthez kapcsolódóan oktatási programok el?készítése és lebonyolítása a Csongrád-Csanádi Kereskedelmi és Iparkamara projektrészének vonatkozásában. \nA szerz?dés keretében megvalósítandó feladat a projekt alábbi költségvetési sorához kapcsolódik: \n4.2.1. Training content development \n4.3.2.  Conduction of Educational Program \n4.3.3.  Conduction of Work based Trainings in HU \n4.7.1.  Recruitment of participants for Courses \n4.7.3.  Translation of teaching materials \nAjánlattételi határid?: 2025 március 10.\, 14:00 óra \nAz ajánlat benyújtásának módja: Az ajánlatokat írásban (elektronikusan\, vagy postai úton)\, cégszer?en aláírva\, az alábbi elérhet?ségek valamelyikére lehet benyújtani\, az ajánlattételi határid? lejártának id?pontjáig: \nPostai úton: Csongrád-Csanádi Kereskedelmi és Iparkamara (6721 Szeged\, Párizsi krt. 8-12.); \nE-mail-ben pdf dokumentumként: titkarsag@cskik.hu \n  \nKapcsolódó dokumentumok: \n\nFelolvasólap\nAjánlattételi felhívás
URL:https://cskik.hu/esemeny/tajekoztatas-feeding-future-projekt-kereteben-meghirdetett-ajanlatteteli-felhivasrol/
END:VEVENT
END:VCALENDAR