BEGIN:VCALENDAR
VERSION:2.0
PRODID:-//CSKIK - ECPv6.15.20//NONSGML v1.0//EN
CALSCALE:GREGORIAN
METHOD:PUBLISH
X-WR-CALNAME:CSKIK
X-ORIGINAL-URL:https://cskik.hu
X-WR-CALDESC:Események CSKIK
REFRESH-INTERVAL;VALUE=DURATION:PT1H
X-Robots-Tag:noindex
X-PUBLISHED-TTL:PT1H
BEGIN:VTIMEZONE
TZID:Europe/Budapest
BEGIN:DAYLIGHT
TZOFFSETFROM:+0100
TZOFFSETTO:+0200
TZNAME:CEST
DTSTART:20230326T010000
END:DAYLIGHT
BEGIN:STANDARD
TZOFFSETFROM:+0200
TZOFFSETTO:+0100
TZNAME:CET
DTSTART:20231029T010000
END:STANDARD
BEGIN:DAYLIGHT
TZOFFSETFROM:+0100
TZOFFSETTO:+0200
TZNAME:CEST
DTSTART:20240331T010000
END:DAYLIGHT
BEGIN:STANDARD
TZOFFSETFROM:+0200
TZOFFSETTO:+0100
TZNAME:CET
DTSTART:20241027T010000
END:STANDARD
BEGIN:DAYLIGHT
TZOFFSETFROM:+0100
TZOFFSETTO:+0200
TZNAME:CEST
DTSTART:20250330T010000
END:DAYLIGHT
BEGIN:STANDARD
TZOFFSETFROM:+0200
TZOFFSETTO:+0100
TZNAME:CET
DTSTART:20251026T010000
END:STANDARD
END:VTIMEZONE
BEGIN:VEVENT
DTSTART;TZID=Europe/Budapest:20240206T000000
DTEND;TZID=Europe/Budapest:20240206T000000
DTSTAMP:20260425T235428
CREATED:20251209T140843Z
LAST-MODIFIED:20251209T140843Z
UID:28834-1707177600-1707177600@cskik.hu
SUMMARY:Tájékoztató a 2024-es adóváltozásokról Hódmez?vásárhelyen
DESCRIPTION:2024 januárjában adózási tájékozót szervez Kamaránk a vármegye több településén. Február 6-án Hódmez?vásárhelyen kerül megtartásra tájékoztatónk\, ahol Híres-Pestuka Gabriella\, a NAV Csongrád-Csanád Vármegyei Adó- és Vámigazgatóságának ügyfélszolgálati osztályvezet?je mutatja be a 2024-es adócsomagot.  \nEl?adó: Híres-Pestuka Gabriella\, a NAV Csongrád-Csanád Vármegyei Adó- és Vámigazgatóságának ügyfélszolgálati osztályvezet?jeEsemény id?pontja: 2024. február 6. 09:00 – 11:30Helyszín: Hotel Ginkgo\, Hódmez?vásárhely\, Zrínyi u. 2. \nA rendezvény a VF/44/5/2023 számú Vállalkozásfejlesztési Projekt keretében valósul meg. \nJelentkezés: \nA részvétel ingyenes\, azonban el?zetes regisztrációhoz kötött.  \nRészvételi szándékát kérjük\, jelezze felénk az alábbi jelentkezési ?rlap kitöltésével:
URL:https://cskik.hu/esemeny/tajekoztato-a-2024-es-adovaltozasokrol-hodmezvasarhelyen/
END:VEVENT
END:VCALENDAR