BEGIN:VCALENDAR
VERSION:2.0
PRODID:-//CSKIK - ECPv6.15.20//NONSGML v1.0//EN
CALSCALE:GREGORIAN
METHOD:PUBLISH
X-WR-CALNAME:CSKIK
X-ORIGINAL-URL:https://cskik.hu
X-WR-CALDESC:Események CSKIK
REFRESH-INTERVAL;VALUE=DURATION:PT1H
X-Robots-Tag:noindex
X-PUBLISHED-TTL:PT1H
BEGIN:VTIMEZONE
TZID:Europe/Budapest
BEGIN:DAYLIGHT
TZOFFSETFROM:+0100
TZOFFSETTO:+0200
TZNAME:CEST
DTSTART:20240331T010000
END:DAYLIGHT
BEGIN:STANDARD
TZOFFSETFROM:+0200
TZOFFSETTO:+0100
TZNAME:CET
DTSTART:20241027T010000
END:STANDARD
BEGIN:DAYLIGHT
TZOFFSETFROM:+0100
TZOFFSETTO:+0200
TZNAME:CEST
DTSTART:20250330T010000
END:DAYLIGHT
BEGIN:STANDARD
TZOFFSETFROM:+0200
TZOFFSETTO:+0100
TZNAME:CET
DTSTART:20251026T010000
END:STANDARD
BEGIN:DAYLIGHT
TZOFFSETFROM:+0100
TZOFFSETTO:+0200
TZNAME:CEST
DTSTART:20260329T010000
END:DAYLIGHT
BEGIN:STANDARD
TZOFFSETFROM:+0200
TZOFFSETTO:+0100
TZNAME:CET
DTSTART:20261025T010000
END:STANDARD
END:VTIMEZONE
BEGIN:VEVENT
DTSTART;TZID=Europe/Budapest:20250128T000000
DTEND;TZID=Europe/Budapest:20250128T000000
DTSTAMP:20260419T190626
CREATED:20251219T105904Z
LAST-MODIFIED:20251219T105904Z
UID:35068-1738022400-1738022400@cskik.hu
SUMMARY:Tájékoztató a 2025-ös adóváltozásokról Mórahalmon
DESCRIPTION:2025. januárjában adózási tájékoztatót szervez Kamaránk a vármegye több településén. Január 28-án Mórahalmon kerül megrendezésre adótájékoztatónk\, ahol Híres-Pestuka Gabriella\, a NAV Csongrád-Csanád Vármegyei Adó- és Vámigazgatóságának ügyfélszolgálati osztályvezet?je tart el?adást\, bemutatva a 2025-ös adócsomagot.  \nEl?adó: Híres-Pestuka Gabriella\, a NAV Csongrád-Csanád Vármegyei Adó- és Vámigazgatóságának ügyfélszolgálati osztályvezet?je Esemény id?pontja: 2025. január 28. 9:00 – 11:30Helyszín: Mórahalmi Polgármesteri Hivatal – Díszterem (Mórahalom\, Szentháromság tér 1.) \n\n \n\nTematika: \n\nAdózást érint? jogszabályváltozás 2025. évre\nCsaládi adóalapkedvezmény emelése\nSzja adómentességi kategóriák b?vülése\nLakásáfa kedvezményes adómértékének meghosszabbítása\nAlanyi adómentesség külföldi adókötelezettségekre\nKiskeradó platformokra történ? kiterjesztése\nKörnyezetkímél? gépjárm?vek cégautóadó\, súlyadó\, illeték kötelezettsége\nIlleték\, súlyadó\, cégautó adó összegének folyamatos valorizációja\nTermékdíj szabályai egy része átkerül az EPR-be\nMulasztási bírságtételek emelése\nElektronikus hírközl? eszköz útján történ? meghallgatás\nExtraprofitadók jöv?je –\nKésedelmi pótlék felszámítása eljárási szabályainak változása\n\nAz esemény a Magyar Kereskedelmi és Iparkamara által támogatott Vállalkozásfejlesztési Projekt keretében valósul meg. \nJelentkezés: \nAz eseményen való részvétel ingyenes\, azonban el?zetes regisztrációhoz kötött.  \nRészvételi szándékát kérjük\, jelezze felénk az alábbi jelentkezési ?rlap kitöltésével:
URL:https://cskik.hu/esemeny/tajekoztato-a-2025-os-adovaltozasokrol-morahalmon/
END:VEVENT
END:VCALENDAR