BEGIN:VCALENDAR
VERSION:2.0
PRODID:-//CSKIK - ECPv6.15.20//NONSGML v1.0//EN
CALSCALE:GREGORIAN
METHOD:PUBLISH
X-WR-CALNAME:CSKIK
X-ORIGINAL-URL:https://cskik.hu
X-WR-CALDESC:Események CSKIK
REFRESH-INTERVAL;VALUE=DURATION:PT1H
X-Robots-Tag:noindex
X-PUBLISHED-TTL:PT1H
BEGIN:VTIMEZONE
TZID:Europe/Budapest
BEGIN:DAYLIGHT
TZOFFSETFROM:+0100
TZOFFSETTO:+0200
TZNAME:CEST
DTSTART:20240331T010000
END:DAYLIGHT
BEGIN:STANDARD
TZOFFSETFROM:+0200
TZOFFSETTO:+0100
TZNAME:CET
DTSTART:20241027T010000
END:STANDARD
BEGIN:DAYLIGHT
TZOFFSETFROM:+0100
TZOFFSETTO:+0200
TZNAME:CEST
DTSTART:20250330T010000
END:DAYLIGHT
BEGIN:STANDARD
TZOFFSETFROM:+0200
TZOFFSETTO:+0100
TZNAME:CET
DTSTART:20251026T010000
END:STANDARD
BEGIN:DAYLIGHT
TZOFFSETFROM:+0100
TZOFFSETTO:+0200
TZNAME:CEST
DTSTART:20260329T010000
END:DAYLIGHT
BEGIN:STANDARD
TZOFFSETFROM:+0200
TZOFFSETTO:+0100
TZNAME:CET
DTSTART:20261025T010000
END:STANDARD
END:VTIMEZONE
BEGIN:VEVENT
DTSTART;TZID=Europe/Budapest:20250604T000000
DTEND;TZID=Europe/Budapest:20250607T000000
DTSTAMP:20260421T103534
CREATED:20251219T110549Z
LAST-MODIFIED:20251219T110549Z
UID:35248-1748995200-1749254400@cskik.hu
SUMMARY:Támogatott kiutazás az EU Industry Days-re
DESCRIPTION:A 2025-ös EU Industry Days (EU Ipari Napok) június 5-6-án a lengyelországi Rzeszów-ban lesznek megtartva az Európai Unió lengyel elnökségének kiemelt eseményeként. Kamaránk a rendezvényre megfelel? számú érdekl?d? esetén közös buszos kiutazást tervez a Magyar Kereskedelmi és Iparkamara támogatásával\, a Vállalkozásfejlesztési projektjében. \nA f? programon túl a rendezvényen több párhuzamos szekció is helyet kap\, többek között az EU innovációját bemutató kiállítás\, amelyen új innovatív termékek mutatkoznak be. \nEzen kívül egy dedikált partnerkeres? területen a résztvev?k el?zetes egyeztetés szerint tárgyalásokat is lebonyolíthatnak a potenciális partnerekkel.A kapcsolatépít? B2B eseményre V4-ek fókusszal a helyi Enterprise Europe Network iroda bevonásával kerül sor.Az esemény alcíme: A digitalizáció támogatása a KKV ökoszisztémában \nA támogatásnak köszönhet?en a kiutazó delegációhoz csatlakozó vállalkozások számára (1 f? erejéig) 2 éjszaka szállást biztosít a Vállalkozásfejlesztési projekt.Ezen kívül (hátralékkal nem rendelkez?) önkéntes tagjaink számára az utazás költségeihez hozzájárul a Csongrád-Csanádi Kereskedelmi és Iparkamara tagozati támogatással. \nTervezett program: \n2025. június 4.\, szerdaKözös buszos indulás Szegedr?l a kora reggeli órákbanOdafelé úton szakmai/kapcsolatépít? programmal b?vített pihen? (Magyarországon)Érkezés Rzeszów-ba a kés? esti órákban\, szállás elfoglalása \n2025. június 5.\, csütörtökEU Industry Days & B2B részvétel – egész nap \n2025. június 5.\, péntekEU Industry Days & B2B részvétel Kora délután indulás KrakkóbaKrakkóban koraeste szakmai/kapcsolatépít? programSzállás elfoglalása \n2025. június 6.\, szombatRövid városnézés Krakkóban\, majd hazautazásHazafelé szakmai/kapcsolatépít? programmal b?vített pihen? Hazaérkezés az esti órákban \n  \nEl?zetes jelentkezés az alábbi ?rlapon:
URL:https://cskik.hu/esemeny/tamogatott-kiutazas-az-eu-industry-days-re/
END:VEVENT
END:VCALENDAR