BEGIN:VCALENDAR
VERSION:2.0
PRODID:-//CSKIK - ECPv6.15.20//NONSGML v1.0//EN
CALSCALE:GREGORIAN
METHOD:PUBLISH
X-WR-CALNAME:CSKIK
X-ORIGINAL-URL:https://cskik.hu
X-WR-CALDESC:Események CSKIK
REFRESH-INTERVAL;VALUE=DURATION:PT1H
X-Robots-Tag:noindex
X-PUBLISHED-TTL:PT1H
BEGIN:VTIMEZONE
TZID:Europe/Budapest
BEGIN:DAYLIGHT
TZOFFSETFROM:+0100
TZOFFSETTO:+0200
TZNAME:CEST
DTSTART:20250330T010000
END:DAYLIGHT
BEGIN:STANDARD
TZOFFSETFROM:+0200
TZOFFSETTO:+0100
TZNAME:CET
DTSTART:20251026T010000
END:STANDARD
BEGIN:DAYLIGHT
TZOFFSETFROM:+0100
TZOFFSETTO:+0200
TZNAME:CEST
DTSTART:20260329T010000
END:DAYLIGHT
BEGIN:STANDARD
TZOFFSETFROM:+0200
TZOFFSETTO:+0100
TZNAME:CET
DTSTART:20261025T010000
END:STANDARD
BEGIN:DAYLIGHT
TZOFFSETFROM:+0100
TZOFFSETTO:+0200
TZNAME:CEST
DTSTART:20270328T010000
END:DAYLIGHT
BEGIN:STANDARD
TZOFFSETFROM:+0200
TZOFFSETTO:+0100
TZNAME:CET
DTSTART:20271031T010000
END:STANDARD
END:VTIMEZONE
BEGIN:VEVENT
DTSTART;VALUE=DATE:20260326
DTEND;VALUE=DATE:20260327
DTSTAMP:20260419T190321
CREATED:20260304T084709Z
LAST-MODIFIED:20260330T075104Z
UID:45301-1774483200-1774569599@cskik.hu
SUMMARY:Tech Trend Show 2026 - „Az AI nem trend. Szereposztás. A pozíciót Te választod!”
DESCRIPTION:2026. március 26-án Szeged ad otthont a régió egyik legaktuálisabb üzleti-technológiai eseményének\, a TechTrend Show 2026-nak. A rendezvény fő szervezői a Szoftveripari Innovációs Pólusz Klaszter és a Digitális Vállalkozások Szövetsége. Az egynapos szakmai esemény célja\, hogy a vállalkozások számára gyakorlati\, azonnal alkalmazható válaszokat adjon a mesterséges intelligencia és a kiberbiztonság legégetőbb kérdéseire. A rendezvény üzenete egyértelmű: a technológia ma már nem jövőkép\, hanem a napi működés része. A 2026-os fókusz középpontjában az AI üzleti alkalmazása\, a szükséges kompetenciák fejlesztése\, valamint a szabályozási környezet – különös tekintettel az európai AI Act rendelkezéseire – áll. Emellett kiemelt téma a kiberbiztonság mint működési kockázat: mit tehet egy cégvezető vagy IT-felelős már másnap reggel annak érdekében\, hogy csökkentse szervezete sérülékenységét? A TechTrend Show kifejezetten döntéshozóknak és IT-szakembereknek szól. A résztvevők nem hosszú\, elméleti előadásokra számíthatnak\, hanem világos keretekre\, bevált jó gyakorlatokra és működő megoldásokra. A TechTrend Show nem csupán konferencia\, hanem találkozási pont a KKV-döntéshozók és az IT-megoldásszállítók között. A szervezők résztvevőként és kiállítóként egyaránt várják az érdeklődő vállalkozásokat. \nA részletes\, folyamatosan frissülő program és további információk a rendezvény honlapján érhetők el: www.techtrendshow.hu. \nIdőpont: 2026. március 26. csütörtök 10:00 – 18:00 \nTevezett előadók: Rab Árpád\, Z. Karvalics László és Majó-Petri Zoltán\, továbbá az IVSZ – AI Kompetencia Központ\, a Magyar Kiberbiztonsági Klaszter és a Deutsche Telekom képviselői is.  \nHelyszín: SZTE József Attila Tanulmányi és Információs Központ\, Szeged Ady tér 10. \n\n\n\n\n A rendezvényen történő részvétel ingyenes\, de regisztrációhoz kötött. Regisztrálni a rendezvény honlapján\, www.techtrendshow.hu tud.\n\n„Az AI nem trend. Szereposztás. A pozíciót Te választod! A kockázat nem akkor kezdődik\, amikor megtámadnak. Hanem amikor azt hiszed\, veled ez nem történhet meg.”
URL:https://cskik.hu/esemeny/tech-trend-show-2026-az-ai-nem-trend-szereposztas-a-poziciot-te-valasztod/
LOCATION:SZTE József Attila Tanulmányi és Információs Központ\, Ady tér 10.\, Szeged\, Csongrád-Csanád\, 6722\, Hungary
CATEGORIES:CSKIK
ATTACH;FMTTYPE=image/jpeg:https://cskik.hu/wp-content/uploads/2026/03/TTS-Kamarai-futas-vallalkozoknak-1.jpg
END:VEVENT
END:VCALENDAR