BEGIN:VCALENDAR
VERSION:2.0
PRODID:-//CSKIK - ECPv6.15.20//NONSGML v1.0//EN
CALSCALE:GREGORIAN
METHOD:PUBLISH
X-WR-CALNAME:CSKIK
X-ORIGINAL-URL:https://cskik.hu
X-WR-CALDESC:Események CSKIK
REFRESH-INTERVAL;VALUE=DURATION:PT1H
X-Robots-Tag:noindex
X-PUBLISHED-TTL:PT1H
BEGIN:VTIMEZONE
TZID:Europe/Budapest
BEGIN:DAYLIGHT
TZOFFSETFROM:+0100
TZOFFSETTO:+0200
TZNAME:CEST
DTSTART:20230326T010000
END:DAYLIGHT
BEGIN:STANDARD
TZOFFSETFROM:+0200
TZOFFSETTO:+0100
TZNAME:CET
DTSTART:20231029T010000
END:STANDARD
BEGIN:DAYLIGHT
TZOFFSETFROM:+0100
TZOFFSETTO:+0200
TZNAME:CEST
DTSTART:20240331T010000
END:DAYLIGHT
BEGIN:STANDARD
TZOFFSETFROM:+0200
TZOFFSETTO:+0100
TZNAME:CET
DTSTART:20241027T010000
END:STANDARD
BEGIN:DAYLIGHT
TZOFFSETFROM:+0100
TZOFFSETTO:+0200
TZNAME:CEST
DTSTART:20250330T010000
END:DAYLIGHT
BEGIN:STANDARD
TZOFFSETFROM:+0200
TZOFFSETTO:+0100
TZNAME:CET
DTSTART:20251026T010000
END:STANDARD
END:VTIMEZONE
BEGIN:VEVENT
DTSTART;TZID=Europe/Budapest:20241017T000000
DTEND;TZID=Europe/Budapest:20241017T000000
DTSTAMP:20260422T204811
CREATED:20251209T151143Z
LAST-MODIFIED:20260413T075444Z
UID:29251-1729123200-1729123200@cskik.hu
SUMMARY:TechMeeting - Digital Health & Wellbeing (B2B lehetőség francia nagyvállalatokkal)
DESCRIPTION:A Choose Paris Region üzletfejlesztési ügynökség sok szeretettel hívja a vállalkozókat a következő TechMeeting eseményre\, melyet október 17-én szerveznek meg Digital Health & Wellbeing témában. A szervezők a korábbi TechMeeting eseményekhez hasonlóan\, továbbra is várják magyar startupok\, scaleupok jelentkezését\, amelyek számára a program kiváló alkalmat ad az adott területen innovatív megoldásokat kereső francia nagyvállalatoknak\, az ágazat kulcsszereplőinek történő bemutatkozásra\, előre egyeztetett\, célzott B2B-k és pitch-ek keretében. \nA TechMeeting-ek „Open Innovation” jellegű\, jellemzően egy- vagy félnapos matchmaking események\, melyek lehetőséget teremtenek az adott ágazat szereplőinek megismerésére\, pitch lehetőséget és B2B tárgyalásokat biztosítva az adott területen innovatív megoldásokat kereső francia/nemzetközi nagyvállalatokkal. \nAz eddigiekkel ellentétben\, a jelentkezés közvetlenül történik a cégek részéről\, nincsen előszűrés\, a jelentkezés mindenki számára nyitott. Az alább megadott jelentkezési linken található nyomtatvány „Step 1” részét kell kitölteniük az érdeklődő cégeknek\, és ha ezt követően a szervező bizottság kiválasztja az adott jelentkezőt\, akkor e-mailben kapja meg a „Step 2” kitöltendő nyomtatványt. \nAz esemény weboldalán minden tudnivaló szerepel a TechMeeting-ről\, a részvételi feltételekről\, határidőkről és a résztvevő nagyvállalatokról: https://live.eventtia.com/en/dgh2024 \nJelentkezési link: https://live.eventtia.com/en/dgh2024/International-Startups \nA Digital Health & Wellbeing TechMeeting-re 2024. szeptember 5-ig lehet jelentkezni\, a részvétel ingyenes. \nA TechMeeting-ekre jelentkező vállalatoknak az alábbi kritériumoknak kell megfelelniük: \n– Nemzetközi terjeszkedésre képes vállalat \n– Már van forgalma \n– Technológiai innováció \n– Székhely Franciaországon kívül \n– Kizárólag startup/scaleup vállalkozások max. 500 munkavállalóval \n– A résztvevő nagyvállalatok igényeinek megfelel? technológiai megoldással rendelkeznek \nKérdések esetén a Párizsi Magyar Nagykövetség külgazdasági irodája örömmel áll rendelkezésükre a trade.par@mfa.gov.hu e-mail címen\, illetve a +33 1 53 70 67 01 telefonszámon.
URL:https://cskik.hu/esemeny/techmeeting-digital-health-wellbeing-b2b-lehetseg-francia-nagyvallalatokkal/
END:VEVENT
END:VCALENDAR