BEGIN:VCALENDAR
VERSION:2.0
PRODID:-//CSKIK - ECPv6.15.20//NONSGML v1.0//EN
CALSCALE:GREGORIAN
METHOD:PUBLISH
X-WR-CALNAME:CSKIK
X-ORIGINAL-URL:https://cskik.hu
X-WR-CALDESC:Események CSKIK
REFRESH-INTERVAL;VALUE=DURATION:PT1H
X-Robots-Tag:noindex
X-PUBLISHED-TTL:PT1H
BEGIN:VTIMEZONE
TZID:Europe/Budapest
BEGIN:DAYLIGHT
TZOFFSETFROM:+0100
TZOFFSETTO:+0200
TZNAME:CEST
DTSTART:20230326T010000
END:DAYLIGHT
BEGIN:STANDARD
TZOFFSETFROM:+0200
TZOFFSETTO:+0100
TZNAME:CET
DTSTART:20231029T010000
END:STANDARD
BEGIN:DAYLIGHT
TZOFFSETFROM:+0100
TZOFFSETTO:+0200
TZNAME:CEST
DTSTART:20240331T010000
END:DAYLIGHT
BEGIN:STANDARD
TZOFFSETFROM:+0200
TZOFFSETTO:+0100
TZNAME:CET
DTSTART:20241027T010000
END:STANDARD
BEGIN:DAYLIGHT
TZOFFSETFROM:+0100
TZOFFSETTO:+0200
TZNAME:CEST
DTSTART:20250330T010000
END:DAYLIGHT
BEGIN:STANDARD
TZOFFSETFROM:+0200
TZOFFSETTO:+0100
TZNAME:CET
DTSTART:20251026T010000
END:STANDARD
END:VTIMEZONE
BEGIN:VEVENT
DTSTART;TZID=Europe/Budapest:20240529T000000
DTEND;TZID=Europe/Budapest:20240530T000000
DTSTAMP:20260426T010540
CREATED:20251209T144535Z
LAST-MODIFIED:20251209T144535Z
UID:28984-1716940800-1717027200@cskik.hu
SUMMARY:Textile Connect 2024
DESCRIPTION:2024-ben immár 5. alkalommal kerül sor a Textile Connect nemzetközi üzletember-találkozóra\, ahol a divat és textilipar képvisel?i találkozhatnak egymással. Az online b2b találkozót 2024. május 29-30. között szervezik meg. \nAz eseményre texilipari gyártókat\, tervez?ket\, beszerz?ket és kapcsolódó partnereket várnak. \nA részvétel díjmentes\, de el?zetes regisztrációhoz között: https://textileconnect24.b2match.io/ \nDátum: 2024. május 29-30.Helyszín: onlineJelentkezés: 2024. május 30-ig. \n2023-ban a Textile Connect eseményen több mint 30 országból több mint 260 cég vett részt. \nAmennyiben felkeltette érdekl?dését az esemény\, kérjük regisztrációját a hivatalos felületen túl elküldött jelentkezés mellett\, felénk is jelezze az eenszeged@cskik.hu e-mail címen.
URL:https://cskik.hu/esemeny/textile-connect-2024/
END:VEVENT
END:VCALENDAR