BEGIN:VCALENDAR
VERSION:2.0
PRODID:-//CSKIK - ECPv6.15.20//NONSGML v1.0//EN
CALSCALE:GREGORIAN
METHOD:PUBLISH
X-WR-CALNAME:CSKIK
X-ORIGINAL-URL:https://cskik.hu
X-WR-CALDESC:Események CSKIK
REFRESH-INTERVAL;VALUE=DURATION:PT1H
X-Robots-Tag:noindex
X-PUBLISHED-TTL:PT1H
BEGIN:VTIMEZONE
TZID:Europe/Budapest
BEGIN:DAYLIGHT
TZOFFSETFROM:+0100
TZOFFSETTO:+0200
TZNAME:CEST
DTSTART:20240331T010000
END:DAYLIGHT
BEGIN:STANDARD
TZOFFSETFROM:+0200
TZOFFSETTO:+0100
TZNAME:CET
DTSTART:20241027T010000
END:STANDARD
BEGIN:DAYLIGHT
TZOFFSETFROM:+0100
TZOFFSETTO:+0200
TZNAME:CEST
DTSTART:20250330T010000
END:DAYLIGHT
BEGIN:STANDARD
TZOFFSETFROM:+0200
TZOFFSETTO:+0100
TZNAME:CET
DTSTART:20251026T010000
END:STANDARD
BEGIN:DAYLIGHT
TZOFFSETFROM:+0100
TZOFFSETTO:+0200
TZNAME:CEST
DTSTART:20260329T010000
END:DAYLIGHT
BEGIN:STANDARD
TZOFFSETFROM:+0200
TZOFFSETTO:+0100
TZNAME:CET
DTSTART:20261025T010000
END:STANDARD
END:VTIMEZONE
BEGIN:VEVENT
DTSTART;TZID=Europe/Budapest:20250528T000000
DTEND;TZID=Europe/Budapest:20250529T000000
DTSTAMP:20260421T004727
CREATED:20251219T110603Z
LAST-MODIFIED:20251219T110603Z
UID:35263-1748390400-1748476800@cskik.hu
SUMMARY:Textile Connect 2025
DESCRIPTION:A Textile Connect 2025\, egy nemzetközi online üzleti partnerkeres? esemény\, amely a textil- és divatipar szerepl?it hozza össze a virtuális térben. A rendezvény célja\, hogy összekapcsolja a tervez?ket\, gyártókat\, forgalmazókat és beszállítókat\, lehet?séget teremtve új üzleti kapcsolatok kialakítására. \nA programot a Kaunasi Kereskedelmi\, Ipari és Kézm?ves Kamara és a Világgazdasági Fórum Litván Képviselete szervezi\, az Enterprise Europe Network és a Sector Group Textiles közrem?ködésével. A rendezvény teljes egészében online zajlik\, így a világ bármely pontjáról lehet?ség nyílik a részvételre. \nA regisztráció díjmentes\, és 2025. május 27-ig elérhet? a hivatalos platformon:?? https://textileconnect25.b2match.io \nA résztvev?k a regisztráció során angol nyelv? profilt hoznak létre\, amely alapján el?re egyeztetett kétoldalú online találkozókra kerülhet sor a rendezvény napjain. A rendszer lehet?séget biztosít arra\, hogy mindenki saját igényei szerint válassza ki a potenciális üzleti partnereket. \nA Textile Connect 2025 els?sorban azoknak szól\, akik: \n\n\nmegbízható gyártási partnereket keresnek a textiliparban\, \n\n\núj piacokra lépnének be\, \n\n\nfenntartható és innovatív megoldásokat kínálnak a divat- és textilszektor számára\, \n\n\nvagy szolgáltatásaikat\, termékeiket nemzetközi közönségnek mutatnák be. \n\n\nA platform már elérhet?\, a regisztrációs folyamat és a találkozók megszervezése egyszer? és felhasználóbarát. A szervez?k kiemelik\, hogy minél részletesebb és célzottabb profilt tölt ki egy vállalkozás\, annál nagyobb az esélye a sikeres és releváns partnerkapcsolatok kialakításának. \nTovábbi információ és jelentkezés:?? https://textileconnect25.b2match.io \n\nKérdés esetén keressenek fel minket bizalommal az eenszeged@cskik.hu e-mail címen.
URL:https://cskik.hu/esemeny/textile-connect-2025/
END:VEVENT
END:VCALENDAR