BEGIN:VCALENDAR
VERSION:2.0
PRODID:-//CSKIK - ECPv6.15.20//NONSGML v1.0//EN
CALSCALE:GREGORIAN
METHOD:PUBLISH
X-WR-CALNAME:CSKIK
X-ORIGINAL-URL:https://cskik.hu
X-WR-CALDESC:Események CSKIK
REFRESH-INTERVAL;VALUE=DURATION:PT1H
X-Robots-Tag:noindex
X-PUBLISHED-TTL:PT1H
BEGIN:VTIMEZONE
TZID:Europe/Budapest
BEGIN:DAYLIGHT
TZOFFSETFROM:+0100
TZOFFSETTO:+0200
TZNAME:CEST
DTSTART:20230326T010000
END:DAYLIGHT
BEGIN:STANDARD
TZOFFSETFROM:+0200
TZOFFSETTO:+0100
TZNAME:CET
DTSTART:20231029T010000
END:STANDARD
BEGIN:DAYLIGHT
TZOFFSETFROM:+0100
TZOFFSETTO:+0200
TZNAME:CEST
DTSTART:20240331T010000
END:DAYLIGHT
BEGIN:STANDARD
TZOFFSETFROM:+0200
TZOFFSETTO:+0100
TZNAME:CET
DTSTART:20241027T010000
END:STANDARD
BEGIN:DAYLIGHT
TZOFFSETFROM:+0100
TZOFFSETTO:+0200
TZNAME:CEST
DTSTART:20250330T010000
END:DAYLIGHT
BEGIN:STANDARD
TZOFFSETFROM:+0200
TZOFFSETTO:+0100
TZNAME:CET
DTSTART:20251026T010000
END:STANDARD
END:VTIMEZONE
BEGIN:VEVENT
DTSTART;TZID=Europe/Budapest:20241017T000000
DTEND;TZID=Europe/Budapest:20241017T000000
DTSTAMP:20260422T204749
CREATED:20251209T151541Z
LAST-MODIFIED:20251209T151541Z
UID:29278-1729123200-1729123200@cskik.hu
SUMMARY:TOP 100 Gazdasági Konferencia 2024.
DESCRIPTION:Csatlakozzon hozzánk\, és legyen ott a térség legjelent?sebb gazdasági konferenciáján! Izgalmas témákkal és országos hír? el?adókkal várja a Csongrád-Csanádi Kereskedelmi és Iparkamara\, valamint az Enterprise Europe Network Szeged a TOP 100 Gazdasági Konferencián\, melynek zárófogadásán az üzleti közösségépítésre is lehet?ség nyílik. \nId?pont: 2024. október 17.\, 14:00 \nHelyszín: Szent Gellért Fórum (Szeged\, Dorozsmai út 2-4.) \nTervezett program: \n14:00-14:25      Köszönt? – Dr. K?kuti Attila\, a kamara elnöke \n14:25-14:40      TOP100 elismerések átadása \n14:40-15:10      Egy nagy beruházás hatása a térség gazdaságára\, debreceni tapasztalatok – Dr. Papp László\, Debrecen Megyei Jogú Város polgármestere \n15:10-15:40      Beruházási döntések és befektet?kkel való együttm?ködés sikertényez?i- Kis Tünde\, igazgató – Pwc Magyarország \n15:40-16:00      Networking szünet \n16:00-16:20      TOP 100 kiadványok ünnepélyes átadása \n16:20-16:40      Mesterséges Intelligencia a gyakorlatban: hogyan alakítja át az MI az üzleti világot? – Dr. Gyimóthy Tibor\, professor emeritus és Dr. Ferenc Rudolf\, tanszékvezet?\, egyetemi docens – SZTE Szoftverfejlesztés Tanszék \n16:40-17:00      ESG hobbi? kötelezettség? Üzlet? Bébifókák? – Kozma András\, CEO – Credit Management Group \n17:00-17:40      Kerekasztal beszélgetés a gazdasági kilátásokról\, globális piaci trendekr?l \n                        Moderátor: Balog Ádám\, általános alelnök – BKIK                        Résztvev?k: Tardos Gergely\, igazgató – OTP Bank Elemzési Központ\, Németh Dávid\, vezet? elemz? – K&H Bank \n18.00- 18.30     Jótékonysági árverés – Szoboszlai Dominik által dedikált magyar válogatott mez árverése. A befolyt összegb?l a szegedi Reménysugár Alapítványt támogatjuk.  \n18.30- 21.00     Networking est \nA rendezvény moderátora: Köböl Anita \nAmennyiben kísér?vel érkezik\, akkor rá az alábbi részvételi díjak vonatkoznak:\nRészvételi díjak: \nKonferenciajegy (nem tartalmazza a zárófogadást): \n\nKedvezményes jegy a Csongrád-Csanádi Kereskedelmi és Iparkamara önkéntes tagjainak: 10.000 Ft+áfa/f?\nKedvezményes jegy a Csongrád-Csanádi Kereskedelmi és Iparkamaránál rendezett nyilvántartással rendelkez? vállalkozásoknak: 15.000 Ft+áfa/f?\nA fenti kategóriába nem tartozó résztvev?nek: 20.000 Ft+áfa/f?\n\nKonferencia és zárófogadás jegy:Kedvezményes jegy a Csongrád-Csanádi Kereskedelmi és Iparkamara önkéntes tagjainak: 20.000 Ft+áfa/f?Kedvezményes jegy a Csongrád-Csanádi Kereskedelmi és Iparkamaránál rendezett nyilvántartással rendelkez? vállalkozásoknak: 25.000 Ft+áfa/f?A fenti kategóriába nem tartozó résztvev?nek: 30.000 Ft+áfa/f? \nDRESSCODE: business casualKérjük\, ha bármi kérdése van\, akkor azt a top100@cskik.hu címen jelezze! \nTÁMOGATÓINK: \n \nJelentkezni az alábbi ?rlap kitöltésével lehet:
URL:https://cskik.hu/esemeny/top-100-gazdasagi-konferencia-2024/
END:VEVENT
END:VCALENDAR