BEGIN:VCALENDAR
VERSION:2.0
PRODID:-//CSKIK - ECPv6.15.20//NONSGML v1.0//EN
CALSCALE:GREGORIAN
METHOD:PUBLISH
X-WR-CALNAME:CSKIK
X-ORIGINAL-URL:https://cskik.hu
X-WR-CALDESC:Események CSKIK
REFRESH-INTERVAL;VALUE=DURATION:PT1H
X-Robots-Tag:noindex
X-PUBLISHED-TTL:PT1H
BEGIN:VTIMEZONE
TZID:Europe/Budapest
BEGIN:DAYLIGHT
TZOFFSETFROM:+0100
TZOFFSETTO:+0200
TZNAME:CEST
DTSTART:20230326T010000
END:DAYLIGHT
BEGIN:STANDARD
TZOFFSETFROM:+0200
TZOFFSETTO:+0100
TZNAME:CET
DTSTART:20231029T010000
END:STANDARD
BEGIN:DAYLIGHT
TZOFFSETFROM:+0100
TZOFFSETTO:+0200
TZNAME:CEST
DTSTART:20240331T010000
END:DAYLIGHT
BEGIN:STANDARD
TZOFFSETFROM:+0200
TZOFFSETTO:+0100
TZNAME:CET
DTSTART:20241027T010000
END:STANDARD
BEGIN:DAYLIGHT
TZOFFSETFROM:+0100
TZOFFSETTO:+0200
TZNAME:CEST
DTSTART:20250330T010000
END:DAYLIGHT
BEGIN:STANDARD
TZOFFSETFROM:+0200
TZOFFSETTO:+0100
TZNAME:CET
DTSTART:20251026T010000
END:STANDARD
END:VTIMEZONE
BEGIN:VEVENT
DTSTART;TZID=Europe/Budapest:20240201T000000
DTEND;TZID=Europe/Budapest:20240201T000000
DTSTAMP:20260425T202529
CREATED:20251209T135610Z
LAST-MODIFIED:20251209T135620Z
UID:28702-1706745600-1706745600@cskik.hu
SUMMARY:Török-Magyar Üzleti Fórum Szegeden
DESCRIPTION:Kamaránk az Enterprise Europe Network hálózattal és a Török Köztársaság budapesti Nagykövetségével együttm?ködve Török-Magyar Üzleti Fórumot szervez Szegeden 2024. február 1-jén 11 órai kezdettel. \nAz esemény két f? részb?l áll:– a megnyitót követ? plenáris részben a rendezvényen jelen lév? vállalkozások tájékozódhatnak a török befektetési\, üzleti és együttm?ködési lehet?ségekr?l\,– ezt követ?en pedig lehet?ség nyílik kétoldalú üzleti megbeszélésekre török érdekeltség? vállalkozásokkal.Részletes programtervProgramme (EN)JELENTKEZÉSI LAP \nA rendezvény plenáris részéhez tolmácsolást biztosítunk. Az üzleti megbeszélések nyelve a cégek közötti közös nyelv (pl.  angol/török/magyar). \nJelentkezési határid?: 2024. január 25. 12 óra \nTÖRÖK ÉRDEKELTSÉG? CÉGEKRE VONATKOZÓ INFORMÁCIÓK \n\n\n\n\n\n\n\n\nSsz.\nCompany Name\nShort description of the company’s activity\nCooperation partnership sought\n\n\n1\nAssan Panel\nConstruction/Panel\n\nAssan Panel\, a leading organization in the sandwich panel industry\, began manufacturing operations in 1990 with its first manufacturing plant in Tuzla. it reached a total production capacity of 18 million m2 /year. As a groundbreaking pioneer in the industry\, Assan Panel is a leader manufacturer in Turkey with FM Approvals certificate awarded in 2015 by FM Approvals without any height limit in buildings as well as being the holder of many other international certificates. Playing an active role in the global market by exporting to 85 countries around the world under its brands such as AssanPU\, Assan Demir\, AssanWool\, and AssanBoard; Assan Panel is an overall solution partner for industrial buildings. \nThe company is looking for potential partnerships in international/national projects \n\n\n\n2\nBeko Kft.\nAs well as being the leading home appliance brand in Türkiye\, Beko is the second largest home appliance brand in Western Europe and one of Europe’s fastest growing large home appliance brands\, available in 130+ countries worldwide.\nExport to Hungary\n\n\n3\nBella Consulting Kft.\nConsultancy\nGiving services to Hungarian Companies\n\n\n4\nBeyttürk Construction\nConstruction/Energy/Electrical Car Industry\nthe construction group of Beyttük Holding\, is a pioneering construction company whose foundations date back to the 1980s. The company\, which has carried out many contracting works until this time\, has started to make special projects as of 2013. Five projects have been implemented until today. The total construction area of the projects is up to 200\,000. \nIt is looking for potential partnerships in international/national projects/ export to Hungary in the electrical car industry/spare parts\n\n\n5\nDanube Fruit Kft.\nFresh fruits\, Vegetables Wholesale\nexport to Hungary\n\n\n6\nEBITT EUROPE\nWater pump\, pipes\nLooking for potential partnerships in international/national projects/selling products\n\n\n7\nEkol Logistics\nTransportation\, heavy lifting\, warehousing\, customs clearance.\nLooking for businees opportunities for Hungarian companies\n\n\n8\nGurcan Partners\nConsultancy\, Law Company\nGurcan Partners is an International Law Firm\, located in 10 Countries\, but HQ is in Budapest \nGiving services to Hungarian Companies\n\n\n9\n?lkem Consultancy/Energy Naturel\nConsultancy\, Energy Solutions\nNaturel Enerji\, which started its activities in 2009 with the understanding of „providing high quality solutions” in the Solar Energy Sector in Turkey\, with its specialized management team and personnel\, is one of Turkey’s leading Solar Investor and EPC companies.Naturel Enerji\, domestically owns 118.03 MWp capacity power plants with also on the production side took its place\, and within the scope of EPC activities\, it has realized the project design and turnkey institutions of many Solar Power Plants in various parts of Turkey and has gained the trust of its investors.“Renewable Energy\, especially Solar Energy\, Believing that it can replace other traditional energy sources in a short time\, Naturel Enerji continues to invest in solar energy for a cleaner and more livable world. Land and Roof Solar provides turnkey project design and EPC services for project owners\, as always\, at a high level. \nGiving services to Hungarian Companies/Looking for potential partnerships in international/national projects\n\n\n10\nKarçel Kft.\nSteel Producer/Exporter\nKarcel A.?. Completing 2021 with a record production of 22\,412 tons\, it ranked 148th in the steel industry with its exports of 9\,600 tons in 2021. In addition\, our company was deemed worthy of the first prize in the category of „STEEL CONSTRUCTION SOLUTIONS BRAND OF THE YEAR” at Turkey’s Leading Brand Awards organized by the new generation business and economy magazine Strong Bosses as part of Turkey Brand and Career events. \nExport to Hungary/Looking for potential partnerships in international/national projects\n\n\n11\nKimmel\nFurniture\nwholesale in the furniture sector\, selling and buying in the sector/export to Hungary\n\n\n12\nLiv Duna Medical Center\nHospital\, Medical Sector\nGiving services to Hungarian Companies\n\n\n13\nM2 PROCESS ENGINEERING\nautomotive\, machinery\, assembly lines\,\nOur company\, which today serves many sectors\, especially the automotive\, defense and aviation sectors\, was established in 2020. With the desire to serve the leading companies of our country with over 10 years of experience in the sector\, a team that does its job with an „endless passion” has been formed. Our team\, each of whom is experienced in their own field and has sectoral experience\, is the most valuable resource of our company\, which makes the principle of „perfect engineering service” the first point of departure. \nLooking for potential partnerships in international/national projects/ export to Hungary in the car industry/spare parts\n\n\n14\nMT Display\nPlastics\, Display\, Info Boards\, Banners\, Posters\, Leaflets\, Frames\, Showboards\nMT Displays is the world’s leading display units manufacturing company that offers not only full range and high quality products but also custom solutions with product design and development\, technical consultancy ability and marketing tools support\, so that our partners have full confidence on their businesses\, because MT Displays has shown extreme willingness for making innovation to lead and reshape the market since its establishment in 1993. \nexport to Hungary in its own sector/selling/wholesaling the broadrange of products\n\n\n15\nNakset Kft.\nProcessed Meat\nSelling/wholeselling\n\n\n16\nOtokoc Hungary Kft. (Budget)\nOperational leasing and Short Term car rental\ninterested in business opportunities\n\n\n17\nProcubex Engineering Consultancy /PI CONSULTANCY ENGINEERING Kft\nEnergy\, Engineering\, Consultancy \,\nGiving services to Hungarian Companies\n\n\n18\nSynergy Construction Kft.\nConstruction\nLooking for potential partnerships in international/national projects\n\n\n19\nTURKCHAM\nAssociation\nWe are a Chamber of Commerce that has been operating since 1999 and many large companies are members of it.Our member companies opperate in different sectors.\n\n\n20\nTurkish Airlines\nAirlines\ninterested in business opportunities\n\n\n21\nTurkish Cargo\nAirlines/Logistics\ninterested in business opportunities\n\n\n22\nVak?fbank\nBanking\nother cooperation\n\n\n23\nYap? Merkezi Hungary\nGeneral Contractor\nLooking for potential partnerships in international/national projects\n\n\n24\n<td style="width: 202px; text-align: left; height
URL:https://cskik.hu/esemeny/torok-magyar-uzleti-forum-szegeden/
END:VEVENT
END:VCALENDAR