BEGIN:VCALENDAR
VERSION:2.0
PRODID:-//CSKIK - ECPv6.15.20//NONSGML v1.0//EN
CALSCALE:GREGORIAN
METHOD:PUBLISH
X-WR-CALNAME:CSKIK
X-ORIGINAL-URL:https://cskik.hu
X-WR-CALDESC:Események CSKIK
REFRESH-INTERVAL;VALUE=DURATION:PT1H
X-Robots-Tag:noindex
X-PUBLISHED-TTL:PT1H
BEGIN:VTIMEZONE
TZID:Europe/Budapest
BEGIN:DAYLIGHT
TZOFFSETFROM:+0100
TZOFFSETTO:+0200
TZNAME:CEST
DTSTART:20240331T010000
END:DAYLIGHT
BEGIN:STANDARD
TZOFFSETFROM:+0200
TZOFFSETTO:+0100
TZNAME:CET
DTSTART:20241027T010000
END:STANDARD
BEGIN:DAYLIGHT
TZOFFSETFROM:+0100
TZOFFSETTO:+0200
TZNAME:CEST
DTSTART:20250330T010000
END:DAYLIGHT
BEGIN:STANDARD
TZOFFSETFROM:+0200
TZOFFSETTO:+0100
TZNAME:CET
DTSTART:20251026T010000
END:STANDARD
BEGIN:DAYLIGHT
TZOFFSETFROM:+0100
TZOFFSETTO:+0200
TZNAME:CEST
DTSTART:20260329T010000
END:DAYLIGHT
BEGIN:STANDARD
TZOFFSETFROM:+0200
TZOFFSETTO:+0100
TZNAME:CET
DTSTART:20261025T010000
END:STANDARD
END:VTIMEZONE
BEGIN:VEVENT
DTSTART;TZID=Europe/Budapest:20250506T000000
DTEND;TZID=Europe/Budapest:20250507T000000
DTSTAMP:20260420T134123
CREATED:20251219T110802Z
LAST-MODIFIED:20251219T111202Z
UID:35272-1746489600-1746576000@cskik.hu
SUMMARY:UP Innovation Days 2025
DESCRIPTION:A Pécsi Tudományegyetem a Pécs-Baranyai Kereskedelmi és Iparkamara közrem?ködésével ismét megszervezi Magyarország legnagyobb egyetemi technológia transzfer találkozóját! A kamara társszervezésében idén üzletember találkozó is segíti a kapcsolatépítést\, az innováció- és technológiatranszfert. \nA programról:\nA rendezvény fókusza az egyetemi innovációs ökoszisztémában keletkez? kutatási eredmények bemutatása\, üzleti és társadalmi hasznosítása\, valamint az akadémia-ipar partnerség építése és a résztvev? vállalatok\, kutatók\, munkatársak számára a kapcsolatépítés lehet?ségének megteremtése. \nAz els? napon az el?adások és a pódiumbeszélgetések a jöv? technológiái köré épülnek\, de fókuszt kapnak a PTE\, a társegyetemek és nemzetközi partnerek innovatív technológiái is. A második napon a téma az egyetemi innovációs ökoszisztéma hazai és nemzetközi kihívásai lesznek\, valamint partnernapot tart a PTE Természettudományi és Gyógyszerésztudományi Kar is. \nAkár a legizgalmasabb kutatási eredményeit szeretné népszer?síteni\, akár befektetni szeretne egy ígéretes új megoldás piacra juttatásába\, vagy új partnerséget szeretne kialakítani\, a PTE Innovációs Napok 2025 a megfelel? hely. \nMilyen kulcstémákat érintenek az eseményen?\n\nJöv?beli technológiák és digitális átalakulás\nBiotechnológiai és orvostechnológiai innovációk\nInnováció és technológia transzfer\nAkadémiai és ipari együttm?ködés\nTudományos el?rejelzés és trendkutatás\n\nHelyszín:\nDél-dunántúli Regionális Könyvtár és Tudásközpont – Pécs\, Universitas u. 2/A \nA konferencia angol és magyar nyelven kerül megrendezésre\, a résztvev?k számára fordítási lehet?séget biztosítanak! \nA teljes program is elérhet? a regisztrációs felületen
URL:https://cskik.hu/esemeny/up-innovation-days-2025/
END:VEVENT
END:VCALENDAR