BEGIN:VCALENDAR
VERSION:2.0
PRODID:-//CSKIK - ECPv6.15.20//NONSGML v1.0//EN
CALSCALE:GREGORIAN
METHOD:PUBLISH
X-WR-CALNAME:CSKIK
X-ORIGINAL-URL:https://cskik.hu
X-WR-CALDESC:Események CSKIK
REFRESH-INTERVAL;VALUE=DURATION:PT1H
X-Robots-Tag:noindex
X-PUBLISHED-TTL:PT1H
BEGIN:VTIMEZONE
TZID:Europe/Budapest
BEGIN:DAYLIGHT
TZOFFSETFROM:+0100
TZOFFSETTO:+0200
TZNAME:CEST
DTSTART:20230326T010000
END:DAYLIGHT
BEGIN:STANDARD
TZOFFSETFROM:+0200
TZOFFSETTO:+0100
TZNAME:CET
DTSTART:20231029T010000
END:STANDARD
BEGIN:DAYLIGHT
TZOFFSETFROM:+0100
TZOFFSETTO:+0200
TZNAME:CEST
DTSTART:20240331T010000
END:DAYLIGHT
BEGIN:STANDARD
TZOFFSETFROM:+0200
TZOFFSETTO:+0100
TZNAME:CET
DTSTART:20241027T010000
END:STANDARD
BEGIN:DAYLIGHT
TZOFFSETFROM:+0100
TZOFFSETTO:+0200
TZNAME:CEST
DTSTART:20250330T010000
END:DAYLIGHT
BEGIN:STANDARD
TZOFFSETFROM:+0200
TZOFFSETTO:+0100
TZNAME:CET
DTSTART:20251026T010000
END:STANDARD
END:VTIMEZONE
BEGIN:VEVENT
DTSTART;TZID=Europe/Budapest:20241002T000000
DTEND;TZID=Europe/Budapest:20241003T000000
DTSTAMP:20260425T204756
CREATED:20251209T145838Z
LAST-MODIFIED:20251209T145838Z
UID:29140-1727827200-1727913600@cskik.hu
SUMMARY:Üzletember találkozó az ÖKOINDUSTRIA szakkiállításon
DESCRIPTION:A HEPA Magyar Exportfejlesztési Ügynökség Nonprofit Zrt. az Enterprise Europe Network magyarországi konzorciumvezet? partnere által megszervezésre kerül az ENVIRONTEC powered by ÖKOINDUSTRIA szakkiállítás mellé egy nemzetközi üzletember találkozó. \nA HUNGEXPO Zrt.\, mint a hazai és közép-kelet európai kiállítási piac tradicionális és kiemelked? szerepl?je együttm?ködve a Környezetvédelmi Szolgáltatók és Gyártók Szövetségével és a Messe & Marketing Michael Pittscheidt szakmai támogatásával 2024. október 1-3. közt nyitja meg kapuit az els? ENVIRONTEC powered by ÖKOINDUSTRIA Nemzetközi környezetipari\, hulladék-\, vízgazdálkodási és fenntarthatósági szakkiállítás. \nA helyszín a megújult HUNGEXPO Budapest Kongresszusi és Kiállítási Központ Budapesten. \nAz Enterprise Europe Network segítségével el?re egyeztetett online és helyszíni B2B találkozók során új együttm?ködések és kapcsolatok építésére\, a releváns partnerekkel történ? célzott megbeszélésekre lesz lehet?ség. \nA helyszíni B2B id?pontja: 2024. október 2. 13:00-17:00Online B2B id?pontja: 2024. október 3. 9:00-18:00 \nRegisztráció részletes angol nyelv? cégprofillal: https://environtec.hu/nemzetkozi-uzletember-talalkozo/ \nTovábbi információ: Holly Sára\, holly.sara@hepa.hu\,Dr. Gyenes Dávid Miron\, gyenes.david@hepa.hu \n 
URL:https://cskik.hu/esemeny/uzletember-talalkozo-az-okoindustria-szakkiallitason/
END:VEVENT
END:VCALENDAR