BEGIN:VCALENDAR
VERSION:2.0
PRODID:-//CSKIK - ECPv6.15.20//NONSGML v1.0//EN
CALSCALE:GREGORIAN
METHOD:PUBLISH
X-WR-CALNAME:CSKIK
X-ORIGINAL-URL:https://cskik.hu
X-WR-CALDESC:Események CSKIK
REFRESH-INTERVAL;VALUE=DURATION:PT1H
X-Robots-Tag:noindex
X-PUBLISHED-TTL:PT1H
BEGIN:VTIMEZONE
TZID:Europe/Budapest
BEGIN:DAYLIGHT
TZOFFSETFROM:+0100
TZOFFSETTO:+0200
TZNAME:CEST
DTSTART:20240331T010000
END:DAYLIGHT
BEGIN:STANDARD
TZOFFSETFROM:+0200
TZOFFSETTO:+0100
TZNAME:CET
DTSTART:20241027T010000
END:STANDARD
BEGIN:DAYLIGHT
TZOFFSETFROM:+0100
TZOFFSETTO:+0200
TZNAME:CEST
DTSTART:20250330T010000
END:DAYLIGHT
BEGIN:STANDARD
TZOFFSETFROM:+0200
TZOFFSETTO:+0100
TZNAME:CET
DTSTART:20251026T010000
END:STANDARD
BEGIN:DAYLIGHT
TZOFFSETFROM:+0100
TZOFFSETTO:+0200
TZNAME:CEST
DTSTART:20260329T010000
END:DAYLIGHT
BEGIN:STANDARD
TZOFFSETFROM:+0200
TZOFFSETTO:+0100
TZNAME:CET
DTSTART:20261025T010000
END:STANDARD
END:VTIMEZONE
BEGIN:VEVENT
DTSTART;TZID=Europe/Budapest:20250815T000000
DTEND;TZID=Europe/Budapest:20250815T000000
DTSTAMP:20260422T021522
CREATED:20251219T111351Z
LAST-MODIFIED:20251219T111351Z
UID:35356-1755216000-1755216000@cskik.hu
SUMMARY:„Vállalkozói Irányt?” képzés kezd? vállalkozásoknak
DESCRIPTION:A Magyar Kereskedelmi és Iparkamara 2025-ben országos feln?ttképzési programok megvalósítását tervezi. Ennek els? lépéseként augusztusban indul a „Vállalkozói Irányt?” cím? blended learning (e-learning + kontaktóra) képzés kezd? vállalkozók számára. \nA képzés kifejezetten azoknak szól\, akik most tervezik saját vállalkozásuk elindítását\, vagy nemrég indultak\, és megalapozottabb tudásra\, útmutatásra van szükségük. \nA képzés célja\, hogy a résztvev?k számára gyakorlatias és közérthet? módon mutassa be  \n\na vállalkozásindítás legfontosabb lépéseit\,\naz adminisztratív kötelezettségeket\,\npénzügyi alapfogalmakat és tervezési szempontokat\,\nvalamint a vállalkozói stratégia kialakításának alapjait.\n\nKépzés jellemz?i: \n\nKépzési forma: e-learning + kontakt óra\nE-learning szakasz: önállóan feldolgozható digitális tananyag (videók\, esettanulmányok)\, melynek elérhet?ségét a regisztrációt követ?en emailben küldjük meg.A tananyag teljesítése 100%-ban kötelez?. Határid?: 2025. augusztus 31.\nKontaktóra: 8 óra él?\, interaktív konzultáció szakért?kkel (kérdések\, gyakorlati példák)Az él? kontaktórák lebonyolítását gazdasági ismeretekkel rendelkez?\, tapasztalt szakért?k végzik. A képzésben olyan szakemberek is részt vesznek\, akik gyakorlati szemszögb?l tudják bemutatni a vállalkozásindítás témáját a résztvev?k számára.Id?pont: 2025. szeptember 3-án 9 óraHelyszín: Hódmez?vásárhely\, Lánc u. 7.\nTanúsítvány: a tanúsítvány megszerzésének feltétele az e-learning szakasz 100%-os teljesítése és az él? konzultáción való részvétel\n\nA képzés a Magyar Kereskedelmi és Iparkamara 2024-2025. évi Vállalkozásfejlesztési Projektjének (NGM_SZERZ/173/3/2024) finanszírozásával valósul meg. \nMagyar Kereskedelmi és Iparkamara feln?ttképzési engedélyszáma: E/2021/000218 \nA képzésen történ? részvétel ingyenes\, de el?zetes regisztrációhoz kötött. Részvételi szándékát kérjük jelezze az alábbi linken elérhet? regisztrációs felületen. A linken a Regisztráció gombra kattintást követ?en tudnak jelentkezni a képzésre. Regisztrációt követ?en kérjük a résztvev? személyek töltsék ki az alábbi linken található program leírás végén lév? Jelentkezési ?rlapot is\, melyben a feln?ttképzési szerz?dés megkötéséhez szükséges adatok kerülnek megadásra. \nJelentkezési határid?: 2025. augusztus 22. \nJELENTKEZÉS
URL:https://cskik.hu/esemeny/vallalkozoi-iranyt-kepzes-kezd-vallalkozasoknak/
END:VEVENT
END:VCALENDAR